{"text_format":"2","workbook":"xlsx","n_sheets":2,"sheets":["Sheet1","Sheet2"],"not_rendered":{"charts":0,"images":0,"macros":0,"external_links":3,"defined_names":1,"comments":0,"pivot_tables":0},"unopened":[],"bounds":{"document_bytes":16777216,"sheet_cells":100000,"run_cost":"one","rows_first":2000,"rows_last":500,"rows_between":2000,"halvings":0,"cell_chars":16384,"cell_head_chars":4096},"cells_cut":0,"cells_raw":0,"read":"whole","date_system":"1900"}

{"sheet":"Sheet1","index":0,"n_rows":89,"n_cols":23,"rows_kept":89,"cut":false,"hidden":false,"merged":[]}
["DATA","FURNIZOR","CF","CountryOfOrigin","EXP","DeliveryTermsCode","ACode","Bcode","TransportCode","INVNR","VSCODE","NAME","GROUP","UM","Q","PRICE","NETWEIGHT","NETVEALUE","SUPPL","TOTALVALUE","Curs","CURRVALUE","SYMB"]
[{"$f":"IF([1]Sheet!$E2=\"\",\"\",[1]Sheet!$E2)","v":43865},{"$f":"IF([1]Sheet!$A2=\"\",\"\",[1]Sheet!$A2)","v":"BROTHER INT INDUSTRIEMASCHINEN GMBH"},{"$f":"IF(B2=\"\",\"\",VLOOKUP(B2,[2]Sheet1!$B$2:$C$708,2,0))","v":"DE814895445"},{"$f":"IF(B2=\"\",\"\",VLOOKUP(B2,[2]Sheet1!$B$2:$D$708,3,0))","v":"JP"},{"$f":"IF(B2=\"\",\"\",VLOOKUP(B2,[2]Sheet1!$B$2:$E$708,4,0))","v":"DE"},{"$f":"IF(B2=\"\",\"\",VLOOKUP(B2,[2]Sheet1!$B$2:$F$708,5,0))","v":"EXW"},{"$f":"IF(B2=\"\",\"\",VLOOKUP(B2,[2]Sheet1!$B$2:$G$708,6,0))","v":1},{"$f":"IF(B2=\"\",\"\",VLOOKUP(B2,[2]Sheet1!$B$2:$H$708,7,0))","v":1.1000000000000001},{"$f":"IF(B2=\"\",\"\",VLOOKUP(B2,[2]Sheet1!$B$2:$I$708,8,0))","v":3},null,{"$f":"IF(B2=\"\",\"\",VLOOKUP(L2,[3]Sheet1!$B$2:$J$5000,3,0))","v":"84439990"},{"$f":"IF([1]Sheet!$J2=\"\",\"\",[1]Sheet!$J2)","v":"BROTHER CAP RUBBER"},null,{"$f":"IF(B2=\"\",\"\",VLOOKUP(L2,[3]Sheet1!$B$2:$J$5000,2,0))","v":"BUC"},{"$f":"IF([1]Sheet!$K2=\"\",\"\",[1]Sheet!$K2)","v":20},{"$f":"IF([1]Sheet!$M2=\"\",\"\",[1]Sheet!$M2)","v":19.63},{"$f":"IF(ISNA(IF(B2=\"\",\"\",VLOOKUP(L2,[3]Sheet1!$B$2:$J$5000,9,0)*O2)),0,(IF(B2=\"\",\"\",VLOOKUP(L2,[3]Sheet1!$B$2:$J$5000,9,0)*O2)))","v":0},{"$f":"IF([1]Sheet!$N2=\"\",\"\",[1]Sheet!$N2)","v":392.64}]
[{"$f":"IF([1]Sheet!$E3=\"\",\"\",[1]Sheet!$E3)","v":43887},{"$f":"IF([1]Sheet!$A3=\"\",\"\",[1]Sheet!$A3)","v":"BROTHER INT INDUSTRIEMASCHINEN GMBH"},{"$f":"IF(B3=\"\",\"\",VLOOKUP(B3,[2]Sheet1!$B$2:$C$708,2,0))","v":"DE814895445"},{"$f":"IF(B3=\"\",\"\",VLOOKUP(B3,[2]Sheet1!$B$2:$D$708,3,0))","v":"JP"},{"$f":"IF(B3=\"\",\"\",VLOOKUP(B3,[2]Sheet1!$B$2:$E$708,4,0))","v":"DE"},{"$f":"IF(B3=\"\",\"\",VLOOKUP(B3,[2]Sheet1!$B$2:$F$708,5,0))","v":"EXW"},{"$f":"IF(B3=\"\",\"\",VLOOKUP(B3,[2]Sheet1!$B$2:$G$708,6,0))","v":1},{"$f":"IF(B3=\"\",\"\",VLOOKUP(B3,[2]Sheet1!$B$2:$H$708,7,0))","v":1.1000000000000001},{"$f":"IF(B3=\"\",\"\",VLOOKUP(B3,[2]Sheet1!$B$2:$I$708,8,0))","v":3},null,{"$f":"IF(B3=\"\",\"\",VLOOKUP(L3,[3]Sheet1!$B$2:$J$5000,3,0))","v":"84439990"},{"$f":"IF([1]Sheet!$J3=\"\",\"\",[1]Sheet!$J3)","v":"BROTHER CLEAN STICK R50"},null,{"$f":"IF(B3=\"\",\"\",VLOOKUP(L3,[3]Sheet1!$B$2:$J$5000,2,0))","v":"BUC"},{"$f":"IF([1]Sheet!$K3=\"\",\"\",[1]Sheet!$K3)","v":4},{"$f":"IF([1]Sheet!$M3=\"\",\"\",[1]Sheet!$M3)","v":218.76},{"$f":"IF(ISNA(IF(B3=\"\",\"\",VLOOKUP(L3,[3]Sheet1!$B$2:$J$5000,9,0)*O3)),0,(IF(B3=\"\",\"\",VLOOKUP(L3,[3]Sheet1!$B$2:$J$5000,9,0)*O3)))","v":0},{"$f":"IF([1]Sheet!$N3=\"\",\"\",[1]Sheet!$N3)","v":875.04}]
[{"$f":"IF([1]Sheet!$E4=\"\",\"\",[1]Sheet!$E4)","v":43865},{"$f":"IF([1]Sheet!$A4=\"\",\"\",[1]Sheet!$A4)","v":"BROTHER INT INDUSTRIEMASCHINEN GMBH"},{"$f":"IF(B4=\"\",\"\",VLOOKUP(B4,[2]Sheet1!$B$2:$C$708,2,0))","v":"DE814895445"},{"$f":"IF(B4=\"\",\"\",VLOOKUP(B4,[2]Sheet1!$B$2:$D$708,3,0))","v":"JP"},{"$f":"IF(B4=\"\",\"\",VLOOKUP(B4,[2]Sheet1!$B$2:$E$708,4,0))","v":"DE"},{"$f":"IF(B4=\"\",\"\",VLOOKUP(B4,[2]Sheet1!$B$2:$F$708,5,0))","v":"EXW"},{"$f":"IF(B4=\"\",\"\",VLOOKUP(B4,[2]Sheet1!$B$2:$G$708,6,0))","v":1},{"$f":"IF(B4=\"\",\"\",VLOOKUP(B4,[2]Sheet1!$B$2:$H$708,7,0))","v":1.1000000000000001},{"$f":"IF(B4=\"\",\"\",VLOOKUP(B4,[2]Sheet1!$B$2:$I$708,8,0))","v":3},null,{"$f":"IF(B4=\"\",\"\",VLOOKUP(L4,[3]Sheet1!$B$2:$J$5000,3,0))","v":"84439990"},{"$f":"IF([1]Sheet!$J4=\"\",\"\",[1]Sheet!$J4)","v":"BROTHER FILTER FELT KIT"},null,{"$f":"IF(B4=\"\",\"\",VLOOKUP(L4,[3]Sheet1!$B$2:$J$5000,2,0))","v":"SET"},{"$f":"IF([1]Sheet!$K4=\"\",\"\",[1]Sheet!$K4)","v":10},{"$f":"IF([1]Sheet!$M4=\"\",\"\",[1]Sheet!$M4)","v":84.29},{"$f":"IF(ISNA(IF(B4=\"\",\"\",VLOOKUP(L4,[3]Sheet1!$B$2:$J$5000,9,0)*O4)),0,(IF(B4=\"\",\"\",VLOOKUP(L4,[3]Sheet1!$B$2:$J$5000,9,0)*O4)))","v":0},{"$f":"IF([1]Sheet!$N4=\"\",\"\",[1]Sheet!$N4)","v":842.88}]
[{"$f":"IF([1]Sheet!$E5=\"\",\"\",[1]Sheet!$E5)","v":43887},{"$f":"IF([1]Sheet!$A5=\"\",\"\",[1]Sheet!$A5)","v":"BROTHER INT INDUSTRIEMASCHINEN GMBH"},{"$f":"IF(B5=\"\",\"\",VLOOKUP(B5,[2]Sheet1!$B$2:$C$708,2,0))","v":"DE814895445"},{"$f":"IF(B5=\"\",\"\",VLOOKUP(B5,[2]Sheet1!$B$2:$D$708,3,0))","v":"JP"},{"$f":"IF(B5=\"\",\"\",VLOOKUP(B5,[2]Sheet1!$B$2:$E$708,4,0))","v":"DE"},{"$f":"IF(B5=\"\",\"\",VLOOKUP(B5,[2]Sheet1!$B$2:$F$708,5,0))","v":"EXW"},{"$f":"IF(B5=\"\",\"\",VLOOKUP(B5,[2]Sheet1!$B$2:$G$708,6,0))","v":1},{"$f":"IF(B5=\"\",\"\",VLOOKUP(B5,[2]Sheet1!$B$2:$H$708,7,0))","v":1.1000000000000001},{"$f":"IF(B5=\"\",\"\",VLOOKUP(B5,[2]Sheet1!$B$2:$I$708,8,0))","v":3},null,{"$f":"IF(B5=\"\",\"\",VLOOKUP(L5,[3]Sheet1!$B$2:$J$5000,3,0))","v":"84439990"},{"$f":"IF([1]Sheet!$J5=\"\",\"\",[1]Sheet!$J5)","v":"BROTHER FLASHING FOAM SET"},null,{"$f":"IF(B5=\"\",\"\",VLOOKUP(L5,[3]Sheet1!$B$2:$J$5000,2,0))","v":"BUC"},{"$f":"IF([1]Sheet!$K5=\"\",\"\",[1]Sheet!$K5)","v":10},{"$f":"IF([1]Sheet!$M5=\"\",\"\",[1]Sheet!$M5)","v":63.95},{"$f":"IF(ISNA(IF(B5=\"\",\"\",VLOOKUP(L5,[3]Sheet1!$B$2:$J$5000,9,0)*O5)),0,(IF(B5=\"\",\"\",VLOOKUP(L5,[3]Sheet1!$B$2:$J$5000,9,0)*O5)))","v":0},{"$f":"IF([1]Sheet!$N5=\"\",\"\",[1]Sheet!$N5)","v":639.45000000000005}]
[{"$f":"IF([1]Sheet!$E6=\"\",\"\",[1]Sheet!$E6)","v":43865},{"$f":"IF([1]Sheet!$A6=\"\",\"\",[1]Sheet!$A6)","v":"BROTHER INT INDUSTRIEMASCHINEN GMBH"},{"$f":"IF(B6=\"\",\"\",VLOOKUP(B6,[2]Sheet1!$B$2:$C$708,2,0))","v":"DE814895445"},{"$f":"IF(B6=\"\",\"\",VLOOKUP(B6,[2]Sheet1!$B$2:$D$708,3,0))","v":"JP"},{"$f":"IF(B6=\"\",\"\",VLOOKUP(B6,[2]Sheet1!$B$2:$E$708,4,0))","v":"DE"},{"$f":"IF(B6=\"\",\"\",VLOOKUP(B6,[2]Sheet1!$B$2:$F$708,5,0))","v":"EXW"},{"$f":"IF(B6=\"\",\"\",VLOOKUP(B6,[2]Sheet1!$B$2:$G$708,6,0))","v":1},{"$f":"IF(B6=\"\",\"\",VLOOKUP(B6,[2]Sheet1!$B$2:$H$708,7,0))","v":1.1000000000000001},{"$f":"IF(B6=\"\",\"\",VLOOKUP(B6,[2]Sheet1!$B$2:$I$708,8,0))","v":3},null,{"$f":"IF(B6=\"\",\"\",VLOOKUP(L6,[3]Sheet1!$B$2:$J$5000,3,0))","v":"34022090"},{"$f":"IF([1]Sheet!$J6=\"\",\"\",[1]Sheet!$J6)","v":"BROTHER FULL MAINTENANCE KIT (GT3)"},null,{"$f":"IF(B6=\"\",\"\",VLOOKUP(L6,[3]Sheet1!$B$2:$J$5000,2,0))","v":"SET"},{"$f":"IF([1]Sheet!$K6=\"\",\"\",[1]Sheet!$K6)","v":6},{"$f":"IF([1]Sheet!$M6=\"\",\"\",[1]Sheet!$M6)","v":187.97},{"$f":"IF(ISNA(IF(B6=\"\",\"\",VLOOKUP(L6,[3]Sheet1!$B$2:$J$5000,9,0)*O6)),0,(IF(B6=\"\",\"\",VLOOKUP(L6,[3]Sheet1!$B$2:$J$5000,9,0)*O6)))","v":6},{"$f":"IF([1]Sheet!$N6=\"\",\"\",[1]Sheet!$N6)","v":1127.81}]
[{"$f":"IF([1]Sheet!$E7=\"\",\"\",[1]Sheet!$E7)","v":43887},{"$f":"IF([1]Sheet!$A7=\"\",\"\",[1]Sheet!$A7)","v":"BROTHER INT INDUSTRIEMASCHINEN GMBH"},{"$f":"IF(B7=\"\",\"\",VLOOKUP(B7,[2]Sheet1!$B$2:$C$708,2,0))","v":"DE814895445"},{"$f":"IF(B7=\"\",\"\",VLOOKUP(B7,[2]Sheet1!$B$2:$D$708,3,0))","v":"JP"},{"$f":"IF(B7=\"\",\"\",VLOOKUP(B7,[2]Sheet1!$B$2:$E$708,4,0))","v":"DE"},{"$f":"IF(B7=\"\",\"\",VLOOKUP(B7,[2]Sheet1!$B$2:$F$708,5,0))","v":"EXW"},{"$f":"IF(B7=\"\",\"\",VLOOKUP(B7,[2]Sheet1!$B$2:$G$708,6,0))","v":1},{"$f":"IF(B7=\"\",\"\",VLOOKUP(B7,[2]Sheet1!$B$2:$H$708,7,0))","v":1.1000000000000001},{"$f":"IF(B7=\"\",\"\",VLOOKUP(B7,[2]Sheet1!$B$2:$I$708,8,0))","v":3},null,{"$f":"IF(B7=\"\",\"\",VLOOKUP(L7,[3]Sheet1!$B$2:$J$5000,3,0))","v":"34022090"},{"$f":"IF([1]Sheet!$J7=\"\",\"\",[1]Sheet!$J7)","v":"BROTHER FULL MAINTENANCE KIT (GTX)"},null,{"$f":"IF(B7=\"\",\"\",VLOOKUP(L7,[3]Sheet1!$B$2:$J$5000,2,0))","v":"BUC"},{"$f":"IF([1]Sheet!$K7=\"\",\"\",[1]Sheet!$K7)","v":4},{"$f":"IF([1]Sheet!$M7=\"\",\"\",[1]Sheet!$M7)","v":164.91},{"$f":"IF(ISNA(IF(B7=\"\",\"\",VLOOKUP(L7,[3]Sheet1!$B$2:$J$5000,9,0)*O7)),0,(IF(B7=\"\",\"\",VLOOKUP(L7,[3]Sheet1!$B$2:$J$5000,9,0)*O7)))","v":0},{"$f":"IF([1]Sheet!$N7=\"\",\"\",[1]Sheet!$N7)","v":659.64}]
[{"$f":"IF([1]Sheet!$E8=\"\",\"\",[1]Sheet!$E8)","v":43865},{"$f":"IF([1]Sheet!$A8=\"\",\"\",[1]Sheet!$A8)","v":"BROTHER INT INDUSTRIEMASCHINEN GMBH"},{"$f":"IF(B8=\"\",\"\",VLOOKUP(B8,[2]Sheet1!$B$2:$C$708,2,0))","v":"DE814895445"},{"$f":"IF(B8=\"\",\"\",VLOOKUP(B8,[2]Sheet1!$B$2:$D$708,3,0))","v":"JP"},{"$f":"IF(B8=\"\",\"\",VLOOKUP(B8,[2]Sheet1!$B$2:$E$708,4,0))","v":"DE"},{"$f":"IF(B8=\"\",\"\",VLOOKUP(B8,[2]Sheet1!$B$2:$F$708,5,0))","v":"EXW"},{"$f":"IF(B8=\"\",\"\",VLOOKUP(B8,[2]Sheet1!$B$2:$G$708,6,0))","v":1},{"$f":"IF(B8=\"\",\"\",VLOOKUP(B8,[2]Sheet1!$B$2:$H$708,7,0))","v":1.1000000000000001},{"$f":"IF(B8=\"\",\"\",VLOOKUP(B8,[2]Sheet1!$B$2:$I$708,8,0))","v":3},null,{"$f":"IF(B8=\"\",\"\",VLOOKUP(L8,[3]Sheet1!$B$2:$J$5000,3,0))","v":"29094100"},{"$f":"IF([1]Sheet!$J8=\"\",\"\",[1]Sheet!$J8)","v":"BROTHER GT-3 PRE-TREATMENT (16 L)"},null,{"$f":"IF(B8=\"\",\"\",VLOOKUP(L8,[3]Sheet1!$B$2:$J$5000,2,0))","v":"BUC"},{"$f":"IF([1]Sheet!$K8=\"\",\"\",[1]Sheet!$K8)","v":3},{"$f":"IF([1]Sheet!$M8=\"\",\"\",[1]Sheet!$M8)","v":2140.8000000000002},{"$f":"IF(ISNA(IF(B8=\"\",\"\",VLOOKUP(L8,[3]Sheet1!$B$2:$J$5000,9,0)*O8)),0,(IF(B8=\"\",\"\",VLOOKUP(L8,[3]Sheet1!$B$2:$J$5000,9,0)*O8)))","v":0},{"$f":"IF([1]Sheet!$N8=\"\",\"\",[1]Sheet!$N8)","v":6422.4}]
[{"$f":"IF([1]Sheet!$E9=\"\",\"\",[1]Sheet!$E9)","v":43879},{"$f":"IF([1]Sheet!$A9=\"\",\"\",[1]Sheet!$A9)","v":"BROTHER INT INDUSTRIEMASCHINEN GMBH"},{"$f":"IF(B9=\"\",\"\",VLOOKUP(B9,[2]Sheet1!$B$2:$C$708,2,0))","v":"DE814895445"},{"$f":"IF(B9=\"\",\"\",VLOOKUP(B9,[2]Sheet1!$B$2:$D$708,3,0))","v":"JP"},{"$f":"IF(B9=\"\",\"\",VLOOKUP(B9,[2]Sheet1!$B$2:$E$708,4,0))","v":"DE"},{"$f":"IF(B9=\"\",\"\",VLOOKUP(B9,[2]Sheet1!$B$2:$F$708,5,0))","v":"EXW"},{"$f":"IF(B9=\"\",\"\",VLOOKUP(B9,[2]Sheet1!$B$2:$G$708,6,0))","v":1},{"$f":"IF(B9=\"\",\"\",VLOOKUP(B9,[2]Sheet1!$B$2:$H$708,7,0))","v":1.1000000000000001},{"$f":"IF(B9=\"\",\"\",VLOOKUP(B9,[2]Sheet1!$B$2:$I$708,8,0))","v":3},null,{"$f":"IF(B9=\"\",\"\",VLOOKUP(L9,[3]Sheet1!$B$2:$J$5000,3,0))","v":"84433900"},{"$f":"IF([1]Sheet!$J9=\"\",\"\",[1]Sheet!$J9)","v":"BROTHER GT-361 PRINTER"},null,{"$f":"IF(B9=\"\",\"\",VLOOKUP(L9,[3]Sheet1!$B$2:$J$5000,2,0))","v":"BUC"},{"$f":"IF([1]Sheet!$K9=\"\",\"\",[1]Sheet!$K9)","v":3},{"$f":"IF([1]Sheet!$M9=\"\",\"\",[1]Sheet!$M9)","v":29603.759999999998},{"$f":"IF(ISNA(IF(B9=\"\",\"\",VLOOKUP(L9,[3]Sheet1!$B$2:$J$5000,9,0)*O9)),0,(IF(B9=\"\",\"\",VLOOKUP(L9,[3]Sheet1!$B$2:$J$5000,9,0)*O9)))","v":277.5},{"$f":"IF([1]Sheet!$N9=\"\",\"\",[1]Sheet!$N9)","v":88811.28}]
[{"$f":"IF([1]Sheet!$E10=\"\",\"\",[1]Sheet!$E10)","v":43865},{"$f":"IF([1]Sheet!$A10=\"\",\"\",[1]Sheet!$A10)","v":"BROTHER INT INDUSTRIEMASCHINEN GMBH"},{"$f":"IF(B10=\"\",\"\",VLOOKUP(B10,[2]Sheet1!$B$2:$C$708,2,0))","v":"DE814895445"},{"$f":"IF(B10=\"\",\"\",VLOOKUP(B10,[2]Sheet1!$B$2:$D$708,3,0))","v":"JP"},{"$f":"IF(B10=\"\",\"\",VLOOKUP(B10,[2]Sheet1!$B$2:$E$708,4,0))","v":"DE"},{"$f":"IF(B10=\"\",\"\",VLOOKUP(B10,[2]Sheet1!$B$2:$F$708,5,0))","v":"EXW"},{"$f":"IF(B10=\"\",\"\",VLOOKUP(B10,[2]Sheet1!$B$2:$G$708,6,0))","v":1},{"$f":"IF(B10=\"\",\"\",VLOOKUP(B10,[2]Sheet1!$B$2:$H$708,7,0))","v":1.1000000000000001},{"$f":"IF(B10=\"\",\"\",VLOOKUP(B10,[2]Sheet1!$B$2:$I$708,8,0))","v":3},null,{"$f":"IF(B10=\"\",\"\",VLOOKUP(L10,[3]Sheet1!$B$2:$J$5000,3,0))","v":"34022090"},{"$f":"IF([1]Sheet!$J10=\"\",\"\",[1]Sheet!$J10)","v":"BROTHER GTX CLEANING SOL GCX-4E02"},null,{"$f":"IF(B10=\"\",\"\",VLOOKUP(L10,[3]Sheet1!$B$2:$J$5000,2,0))","v":"BUC"},{"$f":"IF([1]Sheet!$K10=\"\",\"\",[1]Sheet!$K10)","v":6},{"$f":"IF([1]Sheet!$M10=\"\",\"\",[1]Sheet!$M10)","v":264.95999999999998},{"$f":"IF(ISNA(IF(B10=\"\",\"\",VLOOKUP(L10,[3]Sheet1!$B$2:$J$5000,9,0)*O10)),0,(IF(B10=\"\",\"\",VLOOKUP(L10,[3]Sheet1!$B$2:$J$5000,9,0)*O10)))","v":24.599999999999998},{"$f":"IF([1]Sheet!$N10=\"\",\"\",[1]Sheet!$N10)","v":1589.76}]
[{"$f":"IF([1]Sheet!$E11=\"\",\"\",[1]Sheet!$E11)","v":43865},{"$f":"IF([1]Sheet!$A11=\"\",\"\",[1]Sheet!$A11)","v":"BROTHER INT INDUSTRIEMASCHINEN GMBH"},{"$f":"IF(B11=\"\",\"\",VLOOKUP(B11,[2]Sheet1!$B$2:$C$708,2,0))","v":"DE814895445"},{"$f":"IF(B11=\"\",\"\",VLOOKUP(B11,[2]Sheet1!$B$2:$D$708,3,0))","v":"JP"},{"$f":"IF(B11=\"\",\"\",VLOOKUP(B11,[2]Sheet1!$B$2:$E$708,4,0))","v":"DE"},{"$f":"IF(B11=\"\",\"\",VLOOKUP(B11,[2]Sheet1!$B$2:$F$708,5,0))","v":"EXW"},{"$f":"IF(B11=\"\",\"\",VLOOKUP(B11,[2]Sheet1!$B$2:$G$708,6,0))","v":1},{"$f":"IF(B11=\"\",\"\",VLOOKUP(B11,[2]Sheet1!$B$2:$H$708,7,0))","v":1.1000000000000001},{"$f":"IF(B11=\"\",\"\",VLOOKUP(B11,[2]Sheet1!$B$2:$I$708,8,0))","v":3},null,{"$f":"IF(B11=\"\",\"\",VLOOKUP(L11,[3]Sheet1!$B$2:$J$5000,3,0))","v":"32151900"},{"$f":"IF([1]Sheet!$J11=\"\",\"\",[1]Sheet!$J11)","v":"BROTHER GTX INK GCX-4C70 CYAN 700cc"},null,{"$f":"IF(B11=\"\",\"\",VLOOKUP(L11,[3]Sheet1!$B$2:$J$5000,2,0))","v":"BUC"},{"$f":"IF([1]Sheet!$K11=\"\",\"\",[1]Sheet!$K11)","v":4},{"$f":"IF([1]Sheet!$M11=\"\",\"\",[1]Sheet!$M11)","v":668.64},{"$f":"IF(ISNA(IF(B11=\"\",\"\",VLOOKUP(L11,[3]Sheet1!$B$2:$J$5000,9,0)*O11)),0,(IF(B11=\"\",\"\",VLOOKUP(L11,[3]Sheet1!$B$2:$J$5000,9,0)*O11)))","v":4.2},{"$f":"IF([1]Sheet!$N11=\"\",\"\",[1]Sheet!$N11)","v":2674.56}]
[{"$f":"IF([1]Sheet!$E12=\"\",\"\",[1]Sheet!$E12)","v":43865},{"$f":"IF([1]Sheet!$A12=\"\",\"\",[1]Sheet!$A12)","v":"BROTHER INT INDUSTRIEMASCHINEN GMBH"},{"$f":"IF(B12=\"\",\"\",VLOOKUP(B12,[2]Sheet1!$B$2:$C$708,2,0))","v":"DE814895445"},{"$f":"IF(B12=\"\",\"\",VLOOKUP(B12,[2]Sheet1!$B$2:$D$708,3,0))","v":"JP"},{"$f":"IF(B12=\"\",\"\",VLOOKUP(B12,[2]Sheet1!$B$2:$E$708,4,0))","v":"DE"},{"$f":"IF(B12=\"\",\"\",VLOOKUP(B12,[2]Sheet1!$B$2:$F$708,5,0))","v":"EXW"},{"$f":"IF(B12=\"\",\"\",VLOOKUP(B12,[2]Sheet1!$B$2:$G$708,6,0))","v":1},{"$f":"IF(B12=\"\",\"\",VLOOKUP(B12,[2]Sheet1!$B$2:$H$708,7,0))","v":1.1000000000000001},{"$f":"IF(B12=\"\",\"\",VLOOKUP(B12,[2]Sheet1!$B$2:$I$708,8,0))","v":3},null,{"$f":"IF(B12=\"\",\"\",VLOOKUP(L12,[3]Sheet1!$B$2:$J$5000,3,0))","v":"32151100"},{"$f":"IF([1]Sheet!$J12=\"\",\"\",[1]Sheet!$J12)","v":"BROTHER GTX INK GCX-4M70 MAGENTA 700cc"},null,{"$f":"IF(B12=\"\",\"\",VLOOKUP(L12,[3]Sheet1!$B$2:$J$5000,2,0))","v":"BUC"},{"$f":"IF([1]Sheet!$K12=\"\",\"\",[1]Sheet!$K12)","v":2},{"$f":"IF([1]Sheet!$M12=\"\",\"\",[1]Sheet!$M12)","v":668.64},{"$f":"IF(ISNA(IF(B12=\"\",\"\",VLOOKUP(L12,[3]Sheet1!$B$2:$J$5000,9,0)*O12)),0,(IF(B12=\"\",\"\",VLOOKUP(L12,[3]Sheet1!$B$2:$J$5000,9,0)*O12)))","v":2.6999999999999997},{"$f":"IF([1]Sheet!$N12=\"\",\"\",[1]Sheet!$N12)","v":1337.28}]
[{"$f":"IF([1]Sheet!$E13=\"\",\"\",[1]Sheet!$E13)","v":43865},{"$f":"IF([1]Sheet!$A13=\"\",\"\",[1]Sheet!$A13)","v":"BROTHER INT INDUSTRIEMASCHINEN GMBH"},{"$f":"IF(B13=\"\",\"\",VLOOKUP(B13,[2]Sheet1!$B$2:$C$708,2,0))","v":"DE814895445"},{"$f":"IF(B13=\"\",\"\",VLOOKUP(B13,[2]Sheet1!$B$2:$D$708,3,0))","v":"JP"},{"$f":"IF(B13=\"\",\"\",VLOOKUP(B13,[2]Sheet1!$B$2:$E$708,4,0))","v":"DE"},{"$f":"IF(B13=\"\",\"\",VLOOKUP(B13,[2]Sheet1!$B$2:$F$708,5,0))","v":"EXW"},{"$f":"IF(B13=\"\",\"\",VLOOKUP(B13,[2]Sheet1!$B$2:$G$708,6,0))","v":1},{"$f":"IF(B13=\"\",\"\",VLOOKUP(B13,[2]Sheet1!$B$2:$H$708,7,0))","v":1.1000000000000001},{"$f":"IF(B13=\"\",\"\",VLOOKUP(B13,[2]Sheet1!$B$2:$I$708,8,0))","v":3},null,{"$f":"IF(B13=\"\",\"\",VLOOKUP(L13,[3]Sheet1!$B$2:$J$5000,3,0))","v":"32151900"},{"$f":"IF([1]Sheet!$J13=\"\",\"\",[1]Sheet!$J13)","v":"BROTHER GTX INK GCX-4W70 WHITE (2 x 700cc)"},null,{"$f":"IF(B13=\"\",\"\",VLOOKUP(L13,[3]Sheet1!$B$2:$J$5000,2,0))","v":"BUC"},{"$f":"IF([1]Sheet!$K13=\"\",\"\",[1]Sheet!$K13)","v":6},{"$f":"IF([1]Sheet!$M13=\"\",\"\",[1]Sheet!$M13)","v":1176},{"$f":"IF(ISNA(IF(B13=\"\",\"\",VLOOKUP(L13,[3]Sheet1!$B$2:$J$5000,9,0)*O13)),0,(IF(B13=\"\",\"\",VLOOKUP(L13,[3]Sheet1!$B$2:$J$5000,9,0)*O13)))","v":17.399999999999999},{"$f":"IF([1]Sheet!$N13=\"\",\"\",[1]Sheet!$N13)","v":7056}]
[{"$f":"IF([1]Sheet!$E14=\"\",\"\",[1]Sheet!$E14)","v":43887},{"$f":"IF([1]Sheet!$A14=\"\",\"\",[1]Sheet!$A14)","v":"BROTHER INT INDUSTRIEMASCHINEN GMBH"},{"$f":"IF(B14=\"\",\"\",VLOOKUP(B14,[2]Sheet1!$B$2:$C$708,2,0))","v":"DE814895445"},{"$f":"IF(B14=\"\",\"\",VLOOKUP(B14,[2]Sheet1!$B$2:$D$708,3,0))","v":"JP"},{"$f":"IF(B14=\"\",\"\",VLOOKUP(B14,[2]Sheet1!$B$2:$E$708,4,0))","v":"DE"},{"$f":"IF(B14=\"\",\"\",VLOOKUP(B14,[2]Sheet1!$B$2:$F$708,5,0))","v":"EXW"},{"$f":"IF(B14=\"\",\"\",VLOOKUP(B14,[2]Sheet1!$B$2:$G$708,6,0))","v":1},{"$f":"IF(B14=\"\",\"\",VLOOKUP(B14,[2]Sheet1!$B$2:$H$708,7,0))","v":1.1000000000000001},{"$f":"IF(B14=\"\",\"\",VLOOKUP(B14,[2]Sheet1!$B$2:$I$708,8,0))","v":3},null,{"$f":"IF(B14=\"\",\"\",VLOOKUP(L14,[3]Sheet1!$B$2:$J$5000,3,0))","v":"32151900"},{"$f":"IF([1]Sheet!$J14=\"\",\"\",[1]Sheet!$J14)","v":"BROTHER GTX INK GCX-4W70 WHITE (2 x 700cc)"},null,{"$f":"IF(B14=\"\",\"\",VLOOKUP(L14,[3]Sheet1!$B$2:$J$5000,2,0))","v":"BUC"},{"$f":"IF([1]Sheet!$K14=\"\",\"\",[1]Sheet!$K14)","v":30},{"$f":"IF([1]Sheet!$M14=\"\",\"\",[1]Sheet!$M14)","v":1119.9000000000001},{"$f":"IF(ISNA(IF(B14=\"\",\"\",VLOOKUP(L14,[3]Sheet1!$B$2:$J$5000,9,0)*O14)),0,(IF(B14=\"\",\"\",VLOOKUP(L14,[3]Sheet1!$B$2:$J$5000,9,0)*O14)))","v":87},{"$f":"IF([1]Sheet!$N14=\"\",\"\",[1]Sheet!$N14)","v":33597.120000000003}]
[{"$f":"IF([1]Sheet!$E15=\"\",\"\",[1]Sheet!$E15)","v":43887},{"$f":"IF([1]Sheet!$A15=\"\",\"\",[1]Sheet!$A15)","v":"BROTHER INT INDUSTRIEMASCHINEN GMBH"},{"$f":"IF(B15=\"\",\"\",VLOOKUP(B15,[2]Sheet1!$B$2:$C$708,2,0))","v":"DE814895445"},{"$f":"IF(B15=\"\",\"\",VLOOKUP(B15,[2]Sheet1!$B$2:$D$708,3,0))","v":"JP"},{"$f":"IF(B15=\"\",\"\",VLOOKUP(B15,[2]Sheet1!$B$2:$E$708,4,0))","v":"DE"},{"$f":"IF(B15=\"\",\"\",VLOOKUP(B15,[2]Sheet1!$B$2:$F$708,5,0))","v":"EXW"},{"$f":"IF(B15=\"\",\"\",VLOOKUP(B15,[2]Sheet1!$B$2:$G$708,6,0))","v":1},{"$f":"IF(B15=\"\",\"\",VLOOKUP(B15,[2]Sheet1!$B$2:$H$708,7,0))","v":1.1000000000000001},{"$f":"IF(B15=\"\",\"\",VLOOKUP(B15,[2]Sheet1!$B$2:$I$708,8,0))","v":3},null,{"$f":"IF(B15=\"\",\"\",VLOOKUP(L15,[3]Sheet1!$B$2:$J$5000,3,0))","v":"32151100"},{"$f":"IF([1]Sheet!$J15=\"\",\"\",[1]Sheet!$J15)","v":"BROTHER GTX INK GCX-4Y70 YELLOW 700cc"},null,{"$f":"IF(B15=\"\",\"\",VLOOKUP(L15,[3]Sheet1!$B$2:$J$5000,2,0))","v":"BUC"},{"$f":"IF([1]Sheet!$K15=\"\",\"\",[1]Sheet!$K15)","v":2},{"$f":"IF([1]Sheet!$M15=\"\",\"\",[1]Sheet!$M15)","v":669.74},{"$f":"IF(ISNA(IF(B15=\"\",\"\",VLOOKUP(L15,[3]Sheet1!$B$2:$J$5000,9,0)*O15)),0,(IF(B15=\"\",\"\",VLOOKUP(L15,[3]Sheet1!$B$2:$J$5000,9,0)*O15)))","v":2.6999999999999997},{"$f":"IF([1]Sheet!$N15=\"\",\"\",[1]Sheet!$N15)","v":1339.48}]
[{"$f":"IF([1]Sheet!$E16=\"\",\"\",[1]Sheet!$E16)","v":43865},{"$f":"IF([1]Sheet!$A16=\"\",\"\",[1]Sheet!$A16)","v":"BROTHER INT INDUSTRIEMASCHINEN GMBH"},{"$f":"IF(B16=\"\",\"\",VLOOKUP(B16,[2]Sheet1!$B$2:$C$708,2,0))","v":"DE814895445"},{"$f":"IF(B16=\"\",\"\",VLOOKUP(B16,[2]Sheet1!$B$2:$D$708,3,0))","v":"JP"},{"$f":"IF(B16=\"\",\"\",VLOOKUP(B16,[2]Sheet1!$B$2:$E$708,4,0))","v":"DE"},{"$f":"IF(B16=\"\",\"\",VLOOKUP(B16,[2]Sheet1!$B$2:$F$708,5,0))","v":"EXW"},{"$f":"IF(B16=\"\",\"\",VLOOKUP(B16,[2]Sheet1!$B$2:$G$708,6,0))","v":1},{"$f":"IF(B16=\"\",\"\",VLOOKUP(B16,[2]Sheet1!$B$2:$H$708,7,0))","v":1.1000000000000001},{"$f":"IF(B16=\"\",\"\",VLOOKUP(B16,[2]Sheet1!$B$2:$I$708,8,0))","v":3},null,{"$f":"IF(B16=\"\",\"\",VLOOKUP(L16,[3]Sheet1!$B$2:$J$5000,3,0))","v":"34022090"},{"$f":"IF([1]Sheet!$J16=\"\",\"\",[1]Sheet!$J16)","v":"BROTHER MAINTENANCE SOL 5L"},null,{"$f":"IF(B16=\"\",\"\",VLOOKUP(L16,[3]Sheet1!$B$2:$J$5000,2,0))","v":"BUC"},{"$f":"IF([1]Sheet!$K16=\"\",\"\",[1]Sheet!$K16)","v":4},{"$f":"IF([1]Sheet!$M16=\"\",\"\",[1]Sheet!$M16)","v":391.68},{"$f":"IF(ISNA(IF(B16=\"\",\"\",VLOOKUP(L16,[3]Sheet1!$B$2:$J$5000,9,0)*O16)),0,(IF(B16=\"\",\"\",VLOOKUP(L16,[3]Sheet1!$B$2:$J$5000,9,0)*O16)))","v":15.520000000000001},{"$f":"IF([1]Sheet!$N16=\"\",\"\",[1]Sheet!$N16)","v":1566.72}]
[{"$f":"IF([1]Sheet!$E17=\"\",\"\",[1]Sheet!$E17)","v":43865},{"$f":"IF([1]Sheet!$A17=\"\",\"\",[1]Sheet!$A17)","v":"BROTHER INT INDUSTRIEMASCHINEN GMBH"},{"$f":"IF(B17=\"\",\"\",VLOOKUP(B17,[2]Sheet1!$B$2:$C$708,2,0))","v":"DE814895445"},{"$f":"IF(B17=\"\",\"\",VLOOKUP(B17,[2]Sheet1!$B$2:$D$708,3,0))","v":"JP"},{"$f":"IF(B17=\"\",\"\",VLOOKUP(B17,[2]Sheet1!$B$2:$E$708,4,0))","v":"DE"},{"$f":"IF(B17=\"\",\"\",VLOOKUP(B17,[2]Sheet1!$B$2:$F$708,5,0))","v":"EXW"},{"$f":"IF(B17=\"\",\"\",VLOOKUP(B17,[2]Sheet1!$B$2:$G$708,6,0))","v":1},{"$f":"IF(B17=\"\",\"\",VLOOKUP(B17,[2]Sheet1!$B$2:$H$708,7,0))","v":1.1000000000000001},{"$f":"IF(B17=\"\",\"\",VLOOKUP(B17,[2]Sheet1!$B$2:$I$708,8,0))","v":3},null,{"$f":"IF(B17=\"\",\"\",VLOOKUP(L17,[3]Sheet1!$B$2:$J$5000,3,0))","v":"84439990"},{"$f":"IF([1]Sheet!$J17=\"\",\"\",[1]Sheet!$J17)","v":"BROTHER PRINT HEAD IH2DS GT-3"},null,{"$f":"IF(B17=\"\",\"\",VLOOKUP(L17,[3]Sheet1!$B$2:$J$5000,2,0))","v":"BUC"},{"$f":"IF([1]Sheet!$K17=\"\",\"\",[1]Sheet!$K17)","v":2},{"$f":"IF([1]Sheet!$M17=\"\",\"\",[1]Sheet!$M17)","v":3192},{"$f":"IF(ISNA(IF(B17=\"\",\"\",VLOOKUP(L17,[3]Sheet1!$B$2:$J$5000,9,0)*O17)),0,(IF(B17=\"\",\"\",VLOOKUP(L17,[3]Sheet1!$B$2:$J$5000,9,0)*O17)))","v":0},{"$f":"IF([1]Sheet!$N17=\"\",\"\",[1]Sheet!$N17)","v":6384}]
[{"$f":"IF([1]Sheet!$E18=\"\",\"\",[1]Sheet!$E18)","v":43887},{"$f":"IF([1]Sheet!$A18=\"\",\"\",[1]Sheet!$A18)","v":"BROTHER INT INDUSTRIEMASCHINEN GMBH"},{"$f":"IF(B18=\"\",\"\",VLOOKUP(B18,[2]Sheet1!$B$2:$C$708,2,0))","v":"DE814895445"},{"$f":"IF(B18=\"\",\"\",VLOOKUP(B18,[2]Sheet1!$B$2:$D$708,3,0))","v":"JP"},{"$f":"IF(B18=\"\",\"\",VLOOKUP(B18,[2]Sheet1!$B$2:$E$708,4,0))","v":"DE"},{"$f":"IF(B18=\"\",\"\",VLOOKUP(B18,[2]Sheet1!$B$2:$F$708,5,0))","v":"EXW"},{"$f":"IF(B18=\"\",\"\",VLOOKUP(B18,[2]Sheet1!$B$2:$G$708,6,0))","v":1},{"$f":"IF(B18=\"\",\"\",VLOOKUP(B18,[2]Sheet1!$B$2:$H$708,7,0))","v":1.1000000000000001},{"$f":"IF(B18=\"\",\"\",VLOOKUP(B18,[2]Sheet1!$B$2:$I$708,8,0))","v":3},null,{"$f":"IF(B18=\"\",\"\",VLOOKUP(L18,[3]Sheet1!$B$2:$J$5000,3,0))","v":"84439990"},{"$f":"IF([1]Sheet!$J18=\"\",\"\",[1]Sheet!$J18)","v":"BROTHER PRINT HEAD IH2DS GT-3"},null,{"$f":"IF(B18=\"\",\"\",VLOOKUP(L18,[3]Sheet1!$B$2:$J$5000,2,0))","v":"BUC"},{"$f":"IF([1]Sheet!$K18=\"\",\"\",[1]Sheet!$K18)","v":2},{"$f":"IF([1]Sheet!$M18=\"\",\"\",[1]Sheet!$M18)","v":3197.25},{"$f":"IF(ISNA(IF(B18=\"\",\"\",VLOOKUP(L18,[3]Sheet1!$B$2:$J$5000,9,0)*O18)),0,(IF(B18=\"\",\"\",VLOOKUP(L18,[3]Sheet1!$B$2:$J$5000,9,0)*O18)))","v":0},{"$f":"IF([1]Sheet!$N18=\"\",\"\",[1]Sheet!$N18)","v":6394.51}]
[{"$f":"IF([1]Sheet!$E19=\"\",\"\",[1]Sheet!$E19)","v":43887},{"$f":"IF([1]Sheet!$A19=\"\",\"\",[1]Sheet!$A19)","v":"BROTHER INT INDUSTRIEMASCHINEN GMBH"},{"$f":"IF(B19=\"\",\"\",VLOOKUP(B19,[2]Sheet1!$B$2:$C$708,2,0))","v":"DE814895445"},{"$f":"IF(B19=\"\",\"\",VLOOKUP(B19,[2]Sheet1!$B$2:$D$708,3,0))","v":"JP"},{"$f":"IF(B19=\"\",\"\",VLOOKUP(B19,[2]Sheet1!$B$2:$E$708,4,0))","v":"DE"},{"$f":"IF(B19=\"\",\"\",VLOOKUP(B19,[2]Sheet1!$B$2:$F$708,5,0))","v":"EXW"},{"$f":"IF(B19=\"\",\"\",VLOOKUP(B19,[2]Sheet1!$B$2:$G$708,6,0))","v":1},{"$f":"IF(B19=\"\",\"\",VLOOKUP(B19,[2]Sheet1!$B$2:$H$708,7,0))","v":1.1000000000000001},{"$f":"IF(B19=\"\",\"\",VLOOKUP(B19,[2]Sheet1!$B$2:$I$708,8,0))","v":3},null,{"$f":"IF(B19=\"\",\"\",VLOOKUP(L19,[3]Sheet1!$B$2:$J$5000,3,0))","v":"84439990"},{"$f":"IF([1]Sheet!$J19=\"\",\"\",[1]Sheet!$J19)","v":"BROTHER SCH-807067 TEFLON SLIDER"},null,{"$f":"IF(B19=\"\",\"\",VLOOKUP(L19,[3]Sheet1!$B$2:$J$5000,2,0))","v":"BUC"},{"$f":"IF([1]Sheet!$K19=\"\",\"\",[1]Sheet!$K19)","v":4},{"$f":"IF([1]Sheet!$M19=\"\",\"\",[1]Sheet!$M19)","v":59.62},{"$f":"IF(ISNA(IF(B19=\"\",\"\",VLOOKUP(L19,[3]Sheet1!$B$2:$J$5000,9,0)*O19)),0,(IF(B19=\"\",\"\",VLOOKUP(L19,[3]Sheet1!$B$2:$J$5000,9,0)*O19)))","v":0},{"$f":"IF([1]Sheet!$N19=\"\",\"\",[1]Sheet!$N19)","v":238.47}]
[{"$f":"IF([1]Sheet!$E20=\"\",\"\",[1]Sheet!$E20)","v":43887},{"$f":"IF([1]Sheet!$A20=\"\",\"\",[1]Sheet!$A20)","v":"BROTHER INT INDUSTRIEMASCHINEN GMBH"},{"$f":"IF(B20=\"\",\"\",VLOOKUP(B20,[2]Sheet1!$B$2:$C$708,2,0))","v":"DE814895445"},{"$f":"IF(B20=\"\",\"\",VLOOKUP(B20,[2]Sheet1!$B$2:$D$708,3,0))","v":"JP"},{"$f":"IF(B20=\"\",\"\",VLOOKUP(B20,[2]Sheet1!$B$2:$E$708,4,0))","v":"DE"},{"$f":"IF(B20=\"\",\"\",VLOOKUP(B20,[2]Sheet1!$B$2:$F$708,5,0))","v":"EXW"},{"$f":"IF(B20=\"\",\"\",VLOOKUP(B20,[2]Sheet1!$B$2:$G$708,6,0))","v":1},{"$f":"IF(B20=\"\",\"\",VLOOKUP(B20,[2]Sheet1!$B$2:$H$708,7,0))","v":1.1000000000000001},{"$f":"IF(B20=\"\",\"\",VLOOKUP(B20,[2]Sheet1!$B$2:$I$708,8,0))","v":3},null,{"$f":"IF(B20=\"\",\"\",VLOOKUP(L20,[3]Sheet1!$B$2:$J$5000,3,0))","v":"84439990"},{"$f":"IF([1]Sheet!$J20=\"\",\"\",[1]Sheet!$J20)","v":"BROTHER WIPER CLEANER (2 Pcs)"},null,{"$f":"IF(B20=\"\",\"\",VLOOKUP(L20,[3]Sheet1!$B$2:$J$5000,2,0))","v":"BUC"},{"$f":"IF([1]Sheet!$K20=\"\",\"\",[1]Sheet!$K20)","v":4},{"$f":"IF([1]Sheet!$M20=\"\",\"\",[1]Sheet!$M20)","v":55.53},{"$f":"IF(ISNA(IF(B20=\"\",\"\",VLOOKUP(L20,[3]Sheet1!$B$2:$J$5000,9,0)*O20)),0,(IF(B20=\"\",\"\",VLOOKUP(L20,[3]Sheet1!$B$2:$J$5000,9,0)*O20)))","v":0},{"$f":"IF([1]Sheet!$N20=\"\",\"\",[1]Sheet!$N20)","v":222.12}]
[{"$f":"IF([1]Sheet!$E21=\"\",\"\",[1]Sheet!$E21)","v":43865},{"$f":"IF([1]Sheet!$A21=\"\",\"\",[1]Sheet!$A21)","v":"BROTHER INT INDUSTRIEMASCHINEN GMBH"},{"$f":"IF(B21=\"\",\"\",VLOOKUP(B21,[2]Sheet1!$B$2:$C$708,2,0))","v":"DE814895445"},{"$f":"IF(B21=\"\",\"\",VLOOKUP(B21,[2]Sheet1!$B$2:$D$708,3,0))","v":"JP"},{"$f":"IF(B21=\"\",\"\",VLOOKUP(B21,[2]Sheet1!$B$2:$E$708,4,0))","v":"DE"},{"$f":"IF(B21=\"\",\"\",VLOOKUP(B21,[2]Sheet1!$B$2:$F$708,5,0))","v":"EXW"},{"$f":"IF(B21=\"\",\"\",VLOOKUP(B21,[2]Sheet1!$B$2:$G$708,6,0))","v":1},{"$f":"IF(B21=\"\",\"\",VLOOKUP(B21,[2]Sheet1!$B$2:$H$708,7,0))","v":1.1000000000000001},{"$f":"IF(B21=\"\",\"\",VLOOKUP(B21,[2]Sheet1!$B$2:$I$708,8,0))","v":3},null,{"$f":"IF(B21=\"\",\"\",VLOOKUP(L21,[3]Sheet1!$B$2:$J$5000,3,0))","v":"84439990"},{"$f":"IF([1]Sheet!$J21=\"\",\"\",[1]Sheet!$J21)","v":"BROTHER WIPER CLEANER ASSY"},null,{"$f":"IF(B21=\"\",\"\",VLOOKUP(L21,[3]Sheet1!$B$2:$J$5000,2,0))","v":"BUC"},{"$f":"IF([1]Sheet!$K21=\"\",\"\",[1]Sheet!$K21)","v":8},{"$f":"IF([1]Sheet!$M21=\"\",\"\",[1]Sheet!$M21)","v":60.34},{"$f":"IF(ISNA(IF(B21=\"\",\"\",VLOOKUP(L21,[3]Sheet1!$B$2:$J$5000,9,0)*O21)),0,(IF(B21=\"\",\"\",VLOOKUP(L21,[3]Sheet1!$B$2:$J$5000,9,0)*O21)))","v":0},{"$f":"IF([1]Sheet!$N21=\"\",\"\",[1]Sheet!$N21)","v":482.69}]
[{"$f":"IF([1]Sheet!$E22=\"\",\"\",[1]Sheet!$E22)","v":43888},{"$f":"IF([1]Sheet!$A22=\"\",\"\",[1]Sheet!$A22)","v":"JETBEST CORPORATION"},{"$f":"IF(B22=\"\",\"\",VLOOKUP(B22,[2]Sheet1!$B$2:$C$708,2,0))","v":"ATU40607009"},{"$f":"IF(B22=\"\",\"\",VLOOKUP(B22,[2]Sheet1!$B$2:$D$708,3,0))","v":"TW"},{"$f":"IF(B22=\"\",\"\",VLOOKUP(B22,[2]Sheet1!$B$2:$E$708,4,0))","v":"AT"},{"$f":"IF(B22=\"\",\"\",VLOOKUP(B22,[2]Sheet1!$B$2:$F$708,5,0))","v":"EXW"},{"$f":"IF(B22=\"\",\"\",VLOOKUP(B22,[2]Sheet1!$B$2:$G$708,6,0))","v":1},{"$f":"IF(B22=\"\",\"\",VLOOKUP(B22,[2]Sheet1!$B$2:$H$708,7,0))","v":1.1000000000000001},{"$f":"IF(B22=\"\",\"\",VLOOKUP(B22,[2]Sheet1!$B$2:$I$708,8,0))","v":3},null,{"$f":"IF(B22=\"\",\"\",VLOOKUP(L22,[3]Sheet1!$B$2:$J$5000,3,0))","v":"32151100"},{"$f":"IF([1]Sheet!$J22=\"\",\"\",[1]Sheet!$J22)","v":"ECO-V2 INK 1L BK"},null,{"$f":"IF(B22=\"\",\"\",VLOOKUP(L22,[3]Sheet1!$B$2:$J$5000,2,0))","v":"BUC"},{"$f":"IF([1]Sheet!$K22=\"\",\"\",[1]Sheet!$K22)","v":24},{"$f":"IF([1]Sheet!$M22=\"\",\"\",[1]Sheet!$M22)","v":83.95},{"$f":"IF(ISNA(IF(B22=\"\",\"\",VLOOKUP(L22,[3]Sheet1!$B$2:$J$5000,9,0)*O22)),0,(IF(B22=\"\",\"\",VLOOKUP(L22,[3]Sheet1!$B$2:$J$5000,9,0)*O22)))","v":16.32},{"$f":"IF([1]Sheet!$N22=\"\",\"\",[1]Sheet!$N22)","v":2014.88}]
[{"$f":"IF([1]Sheet!$E23=\"\",\"\",[1]Sheet!$E23)","v":43888},{"$f":"IF([1]Sheet!$A23=\"\",\"\",[1]Sheet!$A23)","v":"JETBEST CORPORATION"},{"$f":"IF(B23=\"\",\"\",VLOOKUP(B23,[2]Sheet1!$B$2:$C$708,2,0))","v":"ATU40607009"},{"$f":"IF(B23=\"\",\"\",VLOOKUP(B23,[2]Sheet1!$B$2:$D$708,3,0))","v":"TW"},{"$f":"IF(B23=\"\",\"\",VLOOKUP(B23,[2]Sheet1!$B$2:$E$708,4,0))","v":"AT"},{"$f":"IF(B23=\"\",\"\",VLOOKUP(B23,[2]Sheet1!$B$2:$F$708,5,0))","v":"EXW"},{"$f":"IF(B23=\"\",\"\",VLOOKUP(B23,[2]Sheet1!$B$2:$G$708,6,0))","v":1},{"$f":"IF(B23=\"\",\"\",VLOOKUP(B23,[2]Sheet1!$B$2:$H$708,7,0))","v":1.1000000000000001},{"$f":"IF(B23=\"\",\"\",VLOOKUP(B23,[2]Sheet1!$B$2:$I$708,8,0))","v":3},null,{"$f":"IF(B23=\"\",\"\",VLOOKUP(L23,[3]Sheet1!$B$2:$J$5000,3,0))","v":"32151900"},{"$f":"IF([1]Sheet!$J23=\"\",\"\",[1]Sheet!$J23)","v":"ECO-V2 INK 1L CY"},null,{"$f":"IF(B23=\"\",\"\",VLOOKUP(L23,[3]Sheet1!$B$2:$J$5000,2,0))","v":"BUC"},{"$f":"IF([1]Sheet!$K23=\"\",\"\",[1]Sheet!$K23)","v":12},{"$f":"IF([1]Sheet!$M23=\"\",\"\",[1]Sheet!$M23)","v":83.95},{"$f":"IF(ISNA(IF(B23=\"\",\"\",VLOOKUP(L23,[3]Sheet1!$B$2:$J$5000,9,0)*O23)),0,(IF(B23=\"\",\"\",VLOOKUP(L23,[3]Sheet1!$B$2:$J$5000,9,0)*O23)))","v":8.16},{"$f":"IF([1]Sheet!$N23=\"\",\"\",[1]Sheet!$N23)","v":1007.44}]
[{"$f":"IF([1]Sheet!$E24=\"\",\"\",[1]Sheet!$E24)","v":43888},{"$f":"IF([1]Sheet!$A24=\"\",\"\",[1]Sheet!$A24)","v":"JETBEST CORPORATION"},{"$f":"IF(B24=\"\",\"\",VLOOKUP(B24,[2]Sheet1!$B$2:$C$708,2,0))","v":"ATU40607009"},{"$f":"IF(B24=\"\",\"\",VLOOKUP(B24,[2]Sheet1!$B$2:$D$708,3,0))","v":"TW"},{"$f":"IF(B24=\"\",\"\",VLOOKUP(B24,[2]Sheet1!$B$2:$E$708,4,0))","v":"AT"},{"$f":"IF(B24=\"\",\"\",VLOOKUP(B24,[2]Sheet1!$B$2:$F$708,5,0))","v":"EXW"},{"$f":"IF(B24=\"\",\"\",VLOOKUP(B24,[2]Sheet1!$B$2:$G$708,6,0))","v":1},{"$f":"IF(B24=\"\",\"\",VLOOKUP(B24,[2]Sheet1!$B$2:$H$708,7,0))","v":1.1000000000000001},{"$f":"IF(B24=\"\",\"\",VLOOKUP(B24,[2]Sheet1!$B$2:$I$708,8,0))","v":3},null,{"$f":"IF(B24=\"\",\"\",VLOOKUP(L24,[3]Sheet1!$B$2:$J$5000,3,0))","v":"32151900"},{"$f":"IF([1]Sheet!$J24=\"\",\"\",[1]Sheet!$J24)","v":"ECO-V2 INK 1L LC"},null,{"$f":"IF(B24=\"\",\"\",VLOOKUP(L24,[3]Sheet1!$B$2:$J$5000,2,0))","v":"BUC"},{"$f":"IF([1]Sheet!$K24=\"\",\"\",[1]Sheet!$K24)","v":4},{"$f":"IF([1]Sheet!$M24=\"\",\"\",[1]Sheet!$M24)","v":83.95},{"$f":"IF(ISNA(IF(B24=\"\",\"\",VLOOKUP(L24,[3]Sheet1!$B$2:$J$5000,9,0)*O24)),0,(IF(B24=\"\",\"\",VLOOKUP(L24,[3]Sheet1!$B$2:$J$5000,9,0)*O24)))","v":2.72},{"$f":"IF([1]Sheet!$N24=\"\",\"\",[1]Sheet!$N24)","v":335.81}]
[{"$f":"IF([1]Sheet!$E25=\"\",\"\",[1]Sheet!$E25)","v":43888},{"$f":"IF([1]Sheet!$A25=\"\",\"\",[1]Sheet!$A25)","v":"JETBEST CORPORATION"},{"$f":"IF(B25=\"\",\"\",VLOOKUP(B25,[2]Sheet1!$B$2:$C$708,2,0))","v":"ATU40607009"},{"$f":"IF(B25=\"\",\"\",VLOOKUP(B25,[2]Sheet1!$B$2:$D$708,3,0))","v":"TW"},{"$f":"IF(B25=\"\",\"\",VLOOKUP(B25,[2]Sheet1!$B$2:$E$708,4,0))","v":"AT"},{"$f":"IF(B25=\"\",\"\",VLOOKUP(B25,[2]Sheet1!$B$2:$F$708,5,0))","v":"EXW"},{"$f":"IF(B25=\"\",\"\",VLOOKUP(B25,[2]Sheet1!$B$2:$G$708,6,0))","v":1},{"$f":"IF(B25=\"\",\"\",VLOOKUP(B25,[2]Sheet1!$B$2:$H$708,7,0))","v":1.1000000000000001},{"$f":"IF(B25=\"\",\"\",VLOOKUP(B25,[2]Sheet1!$B$2:$I$708,8,0))","v":3},null,{"$f":"IF(B25=\"\",\"\",VLOOKUP(L25,[3]Sheet1!$B$2:$J$5000,3,0))","v":"32151100"},{"$f":"IF([1]Sheet!$J25=\"\",\"\",[1]Sheet!$J25)","v":"ECO-V2 INK 1L LK"},null,{"$f":"IF(B25=\"\",\"\",VLOOKUP(L25,[3]Sheet1!$B$2:$J$5000,2,0))","v":"BUC"},{"$f":"IF([1]Sheet!$K25=\"\",\"\",[1]Sheet!$K25)","v":4},{"$f":"IF([1]Sheet!$M25=\"\",\"\",[1]Sheet!$M25)","v":83.95},{"$f":"IF(ISNA(IF(B25=\"\",\"\",VLOOKUP(L25,[3]Sheet1!$B$2:$J$5000,9,0)*O25)),0,(IF(B25=\"\",\"\",VLOOKUP(L25,[3]Sheet1!$B$2:$J$5000,9,0)*O25)))","v":2.72},{"$f":"IF([1]Sheet!$N25=\"\",\"\",[1]Sheet!$N25)","v":335.81}]
[{"$f":"IF([1]Sheet!$E26=\"\",\"\",[1]Sheet!$E26)","v":43888},{"$f":"IF([1]Sheet!$A26=\"\",\"\",[1]Sheet!$A26)","v":"JETBEST CORPORATION"},{"$f":"IF(B26=\"\",\"\",VLOOKUP(B26,[2]Sheet1!$B$2:$C$708,2,0))","v":"ATU40607009"},{"$f":"IF(B26=\"\",\"\",VLOOKUP(B26,[2]Sheet1!$B$2:$D$708,3,0))","v":"TW"},{"$f":"IF(B26=\"\",\"\",VLOOKUP(B26,[2]Sheet1!$B$2:$E$708,4,0))","v":"AT"},{"$f":"IF(B26=\"\",\"\",VLOOKUP(B26,[2]Sheet1!$B$2:$F$708,5,0))","v":"EXW"},{"$f":"IF(B26=\"\",\"\",VLOOKUP(B26,[2]Sheet1!$B$2:$G$708,6,0))","v":1},{"$f":"IF(B26=\"\",\"\",VLOOKUP(B26,[2]Sheet1!$B$2:$H$708,7,0))","v":1.1000000000000001},{"$f":"IF(B26=\"\",\"\",VLOOKUP(B26,[2]Sheet1!$B$2:$I$708,8,0))","v":3},null,{"$f":"IF(B26=\"\",\"\",VLOOKUP(L26,[3]Sheet1!$B$2:$J$5000,3,0))","v":"32151900"},{"$f":"IF([1]Sheet!$J26=\"\",\"\",[1]Sheet!$J26)","v":"ECO-V2 INK 1L LM"},null,{"$f":"IF(B26=\"\",\"\",VLOOKUP(L26,[3]Sheet1!$B$2:$J$5000,2,0))","v":"BUC"},{"$f":"IF([1]Sheet!$K26=\"\",\"\",[1]Sheet!$K26)","v":4},{"$f":"IF([1]Sheet!$M26=\"\",\"\",[1]Sheet!$M26)","v":83.95},{"$f":"IF(ISNA(IF(B26=\"\",\"\",VLOOKUP(L26,[3]Sheet1!$B$2:$J$5000,9,0)*O26)),0,(IF(B26=\"\",\"\",VLOOKUP(L26,[3]Sheet1!$B$2:$J$5000,9,0)*O26)))","v":2.72},{"$f":"IF([1]Sheet!$N26=\"\",\"\",[1]Sheet!$N26)","v":335.81}]
[{"$f":"IF([1]Sheet!$E27=\"\",\"\",[1]Sheet!$E27)","v":43888},{"$f":"IF([1]Sheet!$A27=\"\",\"\",[1]Sheet!$A27)","v":"JETBEST CORPORATION"},{"$f":"IF(B27=\"\",\"\",VLOOKUP(B27,[2]Sheet1!$B$2:$C$708,2,0))","v":"ATU40607009"},{"$f":"IF(B27=\"\",\"\",VLOOKUP(B27,[2]Sheet1!$B$2:$D$708,3,0))","v":"TW"},{"$f":"IF(B27=\"\",\"\",VLOOKUP(B27,[2]Sheet1!$B$2:$E$708,4,0))","v":"AT"},{"$f":"IF(B27=\"\",\"\",VLOOKUP(B27,[2]Sheet1!$B$2:$F$708,5,0))","v":"EXW"},{"$f":"IF(B27=\"\",\"\",VLOOKUP(B27,[2]Sheet1!$B$2:$G$708,6,0))","v":1},{"$f":"IF(B27=\"\",\"\",VLOOKUP(B27,[2]Sheet1!$B$2:$H$708,7,0))","v":1.1000000000000001},{"$f":"IF(B27=\"\",\"\",VLOOKUP(B27,[2]Sheet1!$B$2:$I$708,8,0))","v":3},null,{"$f":"IF(B27=\"\",\"\",VLOOKUP(L27,[3]Sheet1!$B$2:$J$5000,3,0))","v":"32151900"},{"$f":"IF([1]Sheet!$J27=\"\",\"\",[1]Sheet!$J27)","v":"ECO-V2 INK 1L MG"},null,{"$f":"IF(B27=\"\",\"\",VLOOKUP(L27,[3]Sheet1!$B$2:$J$5000,2,0))","v":"BUC"},{"$f":"IF([1]Sheet!$K27=\"\",\"\",[1]Sheet!$K27)","v":36},{"$f":"IF([1]Sheet!$M27=\"\",\"\",[1]Sheet!$M27)","v":83.95},{"$f":"IF(ISNA(IF(B27=\"\",\"\",VLOOKUP(L27,[3]Sheet1!$B$2:$J$5000,9,0)*O27)),0,(IF(B27=\"\",\"\",VLOOKUP(L27,[3]Sheet1!$B$2:$J$5000,9,0)*O27)))","v":24.48},{"$f":"IF([1]Sheet!$N27=\"\",\"\",[1]Sheet!$N27)","v":3022.32}]
[{"$f":"IF([1]Sheet!$E28=\"\",\"\",[1]Sheet!$E28)","v":43888},{"$f":"IF([1]Sheet!$A28=\"\",\"\",[1]Sheet!$A28)","v":"JETBEST CORPORATION"},{"$f":"IF(B28=\"\",\"\",VLOOKUP(B28,[2]Sheet1!$B$2:$C$708,2,0))","v":"ATU40607009"},{"$f":"IF(B28=\"\",\"\",VLOOKUP(B28,[2]Sheet1!$B$2:$D$708,3,0))","v":"TW"},{"$f":"IF(B28=\"\",\"\",VLOOKUP(B28,[2]Sheet1!$B$2:$E$708,4,0))","v":"AT"},{"$f":"IF(B28=\"\",\"\",VLOOKUP(B28,[2]Sheet1!$B$2:$F$708,5,0))","v":"EXW"},{"$f":"IF(B28=\"\",\"\",VLOOKUP(B28,[2]Sheet1!$B$2:$G$708,6,0))","v":1},{"$f":"IF(B28=\"\",\"\",VLOOKUP(B28,[2]Sheet1!$B$2:$H$708,7,0))","v":1.1000000000000001},{"$f":"IF(B28=\"\",\"\",VLOOKUP(B28,[2]Sheet1!$B$2:$I$708,8,0))","v":3},null,{"$f":"IF(B28=\"\",\"\",VLOOKUP(L28,[3]Sheet1!$B$2:$J$5000,3,0))","v":"32151900"},{"$f":"IF([1]Sheet!$J28=\"\",\"\",[1]Sheet!$J28)","v":"ECO-V2 INK 1L YE"},null,{"$f":"IF(B28=\"\",\"\",VLOOKUP(L28,[3]Sheet1!$B$2:$J$5000,2,0))","v":"BUC"},{"$f":"IF([1]Sheet!$K28=\"\",\"\",[1]Sheet!$K28)","v":36},{"$f":"IF([1]Sheet!$M28=\"\",\"\",[1]Sheet!$M28)","v":83.95},{"$f":"IF(ISNA(IF(B28=\"\",\"\",VLOOKUP(L28,[3]Sheet1!$B$2:$J$5000,9,0)*O28)),0,(IF(B28=\"\",\"\",VLOOKUP(L28,[3]Sheet1!$B$2:$J$5000,9,0)*O28)))","v":24.48},{"$f":"IF([1]Sheet!$N28=\"\",\"\",[1]Sheet!$N28)","v":3022.32}]
[{"$f":"IF([1]Sheet!$E29=\"\",\"\",[1]Sheet!$E29)","v":43888},{"$f":"IF([1]Sheet!$A29=\"\",\"\",[1]Sheet!$A29)","v":"JETBEST CORPORATION"},{"$f":"IF(B29=\"\",\"\",VLOOKUP(B29,[2]Sheet1!$B$2:$C$708,2,0))","v":"ATU40607009"},{"$f":"IF(B29=\"\",\"\",VLOOKUP(B29,[2]Sheet1!$B$2:$D$708,3,0))","v":"TW"},{"$f":"IF(B29=\"\",\"\",VLOOKUP(B29,[2]Sheet1!$B$2:$E$708,4,0))","v":"AT"},{"$f":"IF(B29=\"\",\"\",VLOOKUP(B29,[2]Sheet1!$B$2:$F$708,5,0))","v":"EXW"},{"$f":"IF(B29=\"\",\"\",VLOOKUP(B29,[2]Sheet1!$B$2:$G$708,6,0))","v":1},{"$f":"IF(B29=\"\",\"\",VLOOKUP(B29,[2]Sheet1!$B$2:$H$708,7,0))","v":1.1000000000000001},{"$f":"IF(B29=\"\",\"\",VLOOKUP(B29,[2]Sheet1!$B$2:$I$708,8,0))","v":3},null,{"$f":"IF(B29=\"\",\"\",VLOOKUP(L29,[3]Sheet1!$B$2:$J$5000,3,0))","v":"32151100"},{"$f":"IF([1]Sheet!$J29=\"\",\"\",[1]Sheet!$J29)","v":"ECO-VISION INK 440 BK"},null,{"$f":"IF(B29=\"\",\"\",VLOOKUP(L29,[3]Sheet1!$B$2:$J$5000,2,0))","v":"BUC"},{"$f":"IF([1]Sheet!$K29=\"\",\"\",[1]Sheet!$K29)","v":24},{"$f":"IF([1]Sheet!$M29=\"\",\"\",[1]Sheet!$M29)","v":75.12},{"$f":"IF(ISNA(IF(B29=\"\",\"\",VLOOKUP(L29,[3]Sheet1!$B$2:$J$5000,9,0)*O29)),0,(IF(B29=\"\",\"\",VLOOKUP(L29,[3]Sheet1!$B$2:$J$5000,9,0)*O29)))","v":15.600000000000001},{"$f":"IF([1]Sheet!$N29=\"\",\"\",[1]Sheet!$N29)","v":1802.79}]
[{"$f":"IF([1]Sheet!$E30=\"\",\"\",[1]Sheet!$E30)","v":43888},{"$f":"IF([1]Sheet!$A30=\"\",\"\",[1]Sheet!$A30)","v":"JETBEST CORPORATION"},{"$f":"IF(B30=\"\",\"\",VLOOKUP(B30,[2]Sheet1!$B$2:$C$708,2,0))","v":"ATU40607009"},{"$f":"IF(B30=\"\",\"\",VLOOKUP(B30,[2]Sheet1!$B$2:$D$708,3,0))","v":"TW"},{"$f":"IF(B30=\"\",\"\",VLOOKUP(B30,[2]Sheet1!$B$2:$E$708,4,0))","v":"AT"},{"$f":"IF(B30=\"\",\"\",VLOOKUP(B30,[2]Sheet1!$B$2:$F$708,5,0))","v":"EXW"},{"$f":"IF(B30=\"\",\"\",VLOOKUP(B30,[2]Sheet1!$B$2:$G$708,6,0))","v":1},{"$f":"IF(B30=\"\",\"\",VLOOKUP(B30,[2]Sheet1!$B$2:$H$708,7,0))","v":1.1000000000000001},{"$f":"IF(B30=\"\",\"\",VLOOKUP(B30,[2]Sheet1!$B$2:$I$708,8,0))","v":3},null,{"$f":"IF(B30=\"\",\"\",VLOOKUP(L30,[3]Sheet1!$B$2:$J$5000,3,0))","v":"32151900"},{"$f":"IF([1]Sheet!$J30=\"\",\"\",[1]Sheet!$J30)","v":"ECO-VISION INK 440 CY"},null,{"$f":"IF(B30=\"\",\"\",VLOOKUP(L30,[3]Sheet1!$B$2:$J$5000,2,0))","v":"BUC"},{"$f":"IF([1]Sheet!$K30=\"\",\"\",[1]Sheet!$K30)","v":36},{"$f":"IF([1]Sheet!$M30=\"\",\"\",[1]Sheet!$M30)","v":75.12},{"$f":"IF(ISNA(IF(B30=\"\",\"\",VLOOKUP(L30,[3]Sheet1!$B$2:$J$5000,9,0)*O30)),0,(IF(B30=\"\",\"\",VLOOKUP(L30,[3]Sheet1!$B$2:$J$5000,9,0)*O30)))","v":22.32},{"$f":"IF([1]Sheet!$N30=\"\",\"\",[1]Sheet!$N30)","v":2704.18}]
[{"$f":"IF([1]Sheet!$E31=\"\",\"\",[1]Sheet!$E31)","v":43888},{"$f":"IF([1]Sheet!$A31=\"\",\"\",[1]Sheet!$A31)","v":"JETBEST CORPORATION"},{"$f":"IF(B31=\"\",\"\",VLOOKUP(B31,[2]Sheet1!$B$2:$C$708,2,0))","v":"ATU40607009"},{"$f":"IF(B31=\"\",\"\",VLOOKUP(B31,[2]Sheet1!$B$2:$D$708,3,0))","v":"TW"},{"$f":"IF(B31=\"\",\"\",VLOOKUP(B31,[2]Sheet1!$B$2:$E$708,4,0))","v":"AT"},{"$f":"IF(B31=\"\",\"\",VLOOKUP(B31,[2]Sheet1!$B$2:$F$708,5,0))","v":"EXW"},{"$f":"IF(B31=\"\",\"\",VLOOKUP(B31,[2]Sheet1!$B$2:$G$708,6,0))","v":1},{"$f":"IF(B31=\"\",\"\",VLOOKUP(B31,[2]Sheet1!$B$2:$H$708,7,0))","v":1.1000000000000001},{"$f":"IF(B31=\"\",\"\",VLOOKUP(B31,[2]Sheet1!$B$2:$I$708,8,0))","v":3},null,{"$f":"IF(B31=\"\",\"\",VLOOKUP(L31,[3]Sheet1!$B$2:$J$5000,3,0))","v":"32151900"},{"$f":"IF([1]Sheet!$J31=\"\",\"\",[1]Sheet!$J31)","v":"ECO-VISION INK 440 LC"},null,{"$f":"IF(B31=\"\",\"\",VLOOKUP(L31,[3]Sheet1!$B$2:$J$5000,2,0))","v":"BUC"},{"$f":"IF([1]Sheet!$K31=\"\",\"\",[1]Sheet!$K31)","v":24},{"$f":"IF([1]Sheet!$M31=\"\",\"\",[1]Sheet!$M31)","v":75.12},{"$f":"IF(ISNA(IF(B31=\"\",\"\",VLOOKUP(L31,[3]Sheet1!$B$2:$J$5000,9,0)*O31)),0,(IF(B31=\"\",\"\",VLOOKUP(L31,[3]Sheet1!$B$2:$J$5000,9,0)*O31)))","v":15.600000000000001},{"$f":"IF([1]Sheet!$N31=\"\",\"\",[1]Sheet!$N31)","v":1802.79}]
[{"$f":"IF([1]Sheet!$E32=\"\",\"\",[1]Sheet!$E32)","v":43888},{"$f":"IF([1]Sheet!$A32=\"\",\"\",[1]Sheet!$A32)","v":"JETBEST CORPORATION"},{"$f":"IF(B32=\"\",\"\",VLOOKUP(B32,[2]Sheet1!$B$2:$C$708,2,0))","v":"ATU40607009"},{"$f":"IF(B32=\"\",\"\",VLOOKUP(B32,[2]Sheet1!$B$2:$D$708,3,0))","v":"TW"},{"$f":"IF(B32=\"\",\"\",VLOOKUP(B32,[2]Sheet1!$B$2:$E$708,4,0))","v":"AT"},{"$f":"IF(B32=\"\",\"\",VLOOKUP(B32,[2]Sheet1!$B$2:$F$708,5,0))","v":"EXW"},{"$f":"IF(B32=\"\",\"\",VLOOKUP(B32,[2]Sheet1!$B$2:$G$708,6,0))","v":1},{"$f":"IF(B32=\"\",\"\",VLOOKUP(B32,[2]Sheet1!$B$2:$H$708,7,0))","v":1.1000000000000001},{"$f":"IF(B32=\"\",\"\",VLOOKUP(B32,[2]Sheet1!$B$2:$I$708,8,0))","v":3},null,{"$f":"IF(B32=\"\",\"\",VLOOKUP(L32,[3]Sheet1!$B$2:$J$5000,3,0))","v":"32151900"},{"$f":"IF([1]Sheet!$J32=\"\",\"\",[1]Sheet!$J32)","v":"ECO-VISION INK 440 LM"},null,{"$f":"IF(B32=\"\",\"\",VLOOKUP(L32,[3]Sheet1!$B$2:$J$5000,2,0))","v":"BUC"},{"$f":"IF([1]Sheet!$K32=\"\",\"\",[1]Sheet!$K32)","v":36},{"$f":"IF([1]Sheet!$M32=\"\",\"\",[1]Sheet!$M32)","v":75.12},{"$f":"IF(ISNA(IF(B32=\"\",\"\",VLOOKUP(L32,[3]Sheet1!$B$2:$J$5000,9,0)*O32)),0,(IF(B32=\"\",\"\",VLOOKUP(L32,[3]Sheet1!$B$2:$J$5000,9,0)*O32)))","v":23.400000000000002},{"$f":"IF([1]Sheet!$N32=\"\",\"\",[1]Sheet!$N32)","v":2704.18}]
[{"$f":"IF([1]Sheet!$E33=\"\",\"\",[1]Sheet!$E33)","v":43888},{"$f":"IF([1]Sheet!$A33=\"\",\"\",[1]Sheet!$A33)","v":"JETBEST CORPORATION"},{"$f":"IF(B33=\"\",\"\",VLOOKUP(B33,[2]Sheet1!$B$2:$C$708,2,0))","v":"ATU40607009"},{"$f":"IF(B33=\"\",\"\",VLOOKUP(B33,[2]Sheet1!$B$2:$D$708,3,0))","v":"TW"},{"$f":"IF(B33=\"\",\"\",VLOOKUP(B33,[2]Sheet1!$B$2:$E$708,4,0))","v":"AT"},{"$f":"IF(B33=\"\",\"\",VLOOKUP(B33,[2]Sheet1!$B$2:$F$708,5,0))","v":"EXW"},{"$f":"IF(B33=\"\",\"\",VLOOKUP(B33,[2]Sheet1!$B$2:$G$708,6,0))","v":1},{"$f":"IF(B33=\"\",\"\",VLOOKUP(B33,[2]Sheet1!$B$2:$H$708,7,0))","v":1.1000000000000001},{"$f":"IF(B33=\"\",\"\",VLOOKUP(B33,[2]Sheet1!$B$2:$I$708,8,0))","v":3},null,{"$f":"IF(B33=\"\",\"\",VLOOKUP(L33,[3]Sheet1!$B$2:$J$5000,3,0))","v":"32151900"},{"$f":"IF([1]Sheet!$J33=\"\",\"\",[1]Sheet!$J33)","v":"ECO-VISION INK 440 MG"},null,{"$f":"IF(B33=\"\",\"\",VLOOKUP(L33,[3]Sheet1!$B$2:$J$5000,2,0))","v":"BUC"},{"$f":"IF([1]Sheet!$K33=\"\",\"\",[1]Sheet!$K33)","v":72},{"$f":"IF([1]Sheet!$M33=\"\",\"\",[1]Sheet!$M33)","v":75.12},{"$f":"IF(ISNA(IF(B33=\"\",\"\",VLOOKUP(L33,[3]Sheet1!$B$2:$J$5000,9,0)*O33)),0,(IF(B33=\"\",\"\",VLOOKUP(L33,[3]Sheet1!$B$2:$J$5000,9,0)*O33)))","v":46.800000000000004},{"$f":"IF([1]Sheet!$N33=\"\",\"\",[1]Sheet!$N33)","v":5408.37}]
[{"$f":"IF([1]Sheet!$E34=\"\",\"\",[1]Sheet!$E34)","v":43888},{"$f":"IF([1]Sheet!$A34=\"\",\"\",[1]Sheet!$A34)","v":"JETBEST CORPORATION"},{"$f":"IF(B34=\"\",\"\",VLOOKUP(B34,[2]Sheet1!$B$2:$C$708,2,0))","v":"ATU40607009"},{"$f":"IF(B34=\"\",\"\",VLOOKUP(B34,[2]Sheet1!$B$2:$D$708,3,0))","v":"TW"},{"$f":"IF(B34=\"\",\"\",VLOOKUP(B34,[2]Sheet1!$B$2:$E$708,4,0))","v":"AT"},{"$f":"IF(B34=\"\",\"\",VLOOKUP(B34,[2]Sheet1!$B$2:$F$708,5,0))","v":"EXW"},{"$f":"IF(B34=\"\",\"\",VLOOKUP(B34,[2]Sheet1!$B$2:$G$708,6,0))","v":1},{"$f":"IF(B34=\"\",\"\",VLOOKUP(B34,[2]Sheet1!$B$2:$H$708,7,0))","v":1.1000000000000001},{"$f":"IF(B34=\"\",\"\",VLOOKUP(B34,[2]Sheet1!$B$2:$I$708,8,0))","v":3},null,{"$f":"IF(B34=\"\",\"\",VLOOKUP(L34,[3]Sheet1!$B$2:$J$5000,3,0))","v":"32151900"},{"$f":"IF([1]Sheet!$J34=\"\",\"\",[1]Sheet!$J34)","v":"ECO-VISION INK 440 YE"},null,{"$f":"IF(B34=\"\",\"\",VLOOKUP(L34,[3]Sheet1!$B$2:$J$5000,2,0))","v":"BUC"},{"$f":"IF([1]Sheet!$K34=\"\",\"\",[1]Sheet!$K34)","v":72},{"$f":"IF([1]Sheet!$M34=\"\",\"\",[1]Sheet!$M34)","v":75.12},{"$f":"IF(ISNA(IF(B34=\"\",\"\",VLOOKUP(L34,[3]Sheet1!$B$2:$J$5000,9,0)*O34)),0,(IF(B34=\"\",\"\",VLOOKUP(L34,[3]Sheet1!$B$2:$J$5000,9,0)*O34)))","v":46.800000000000004},{"$f":"IF([1]Sheet!$N34=\"\",\"\",[1]Sheet!$N34)","v":5408.37}]
[{"$f":"IF([1]Sheet!$E35=\"\",\"\",[1]Sheet!$E35)","v":43888},{"$f":"IF([1]Sheet!$A35=\"\",\"\",[1]Sheet!$A35)","v":"JETBEST CORPORATION"},{"$f":"IF(B35=\"\",\"\",VLOOKUP(B35,[2]Sheet1!$B$2:$C$708,2,0))","v":"ATU40607009"},{"$f":"IF(B35=\"\",\"\",VLOOKUP(B35,[2]Sheet1!$B$2:$D$708,3,0))","v":"TW"},{"$f":"IF(B35=\"\",\"\",VLOOKUP(B35,[2]Sheet1!$B$2:$E$708,4,0))","v":"AT"},{"$f":"IF(B35=\"\",\"\",VLOOKUP(B35,[2]Sheet1!$B$2:$F$708,5,0))","v":"EXW"},{"$f":"IF(B35=\"\",\"\",VLOOKUP(B35,[2]Sheet1!$B$2:$G$708,6,0))","v":1},{"$f":"IF(B35=\"\",\"\",VLOOKUP(B35,[2]Sheet1!$B$2:$H$708,7,0))","v":1.1000000000000001},{"$f":"IF(B35=\"\",\"\",VLOOKUP(B35,[2]Sheet1!$B$2:$I$708,8,0))","v":3},null,{"$f":"IF(B35=\"\",\"\",VLOOKUP(L35,[3]Sheet1!$B$2:$J$5000,3,0))","v":"32151100"},{"$f":"IF([1]Sheet!$J35=\"\",\"\",[1]Sheet!$J35)","v":"EX-VISION 1L CART BK"},null,{"$f":"IF(B35=\"\",\"\",VLOOKUP(L35,[3]Sheet1!$B$2:$J$5000,2,0))","v":"BUC"},{"$f":"IF([1]Sheet!$K35=\"\",\"\",[1]Sheet!$K35)","v":4},{"$f":"IF([1]Sheet!$M35=\"\",\"\",[1]Sheet!$M35)","v":119.3},{"$f":"IF(ISNA(IF(B35=\"\",\"\",VLOOKUP(L35,[3]Sheet1!$B$2:$J$5000,9,0)*O35)),0,(IF(B35=\"\",\"\",VLOOKUP(L35,[3]Sheet1!$B$2:$J$5000,9,0)*O35)))","v":2.4},{"$f":"IF([1]Sheet!$N35=\"\",\"\",[1]Sheet!$N35)","v":477.21}]
[{"$f":"IF([1]Sheet!$E36=\"\",\"\",[1]Sheet!$E36)","v":43888},{"$f":"IF([1]Sheet!$A36=\"\",\"\",[1]Sheet!$A36)","v":"JETBEST CORPORATION"},{"$f":"IF(B36=\"\",\"\",VLOOKUP(B36,[2]Sheet1!$B$2:$C$708,2,0))","v":"ATU40607009"},{"$f":"IF(B36=\"\",\"\",VLOOKUP(B36,[2]Sheet1!$B$2:$D$708,3,0))","v":"TW"},{"$f":"IF(B36=\"\",\"\",VLOOKUP(B36,[2]Sheet1!$B$2:$E$708,4,0))","v":"AT"},{"$f":"IF(B36=\"\",\"\",VLOOKUP(B36,[2]Sheet1!$B$2:$F$708,5,0))","v":"EXW"},{"$f":"IF(B36=\"\",\"\",VLOOKUP(B36,[2]Sheet1!$B$2:$G$708,6,0))","v":1},{"$f":"IF(B36=\"\",\"\",VLOOKUP(B36,[2]Sheet1!$B$2:$H$708,7,0))","v":1.1000000000000001},{"$f":"IF(B36=\"\",\"\",VLOOKUP(B36,[2]Sheet1!$B$2:$I$708,8,0))","v":3},null,{"$f":"IF(B36=\"\",\"\",VLOOKUP(L36,[3]Sheet1!$B$2:$J$5000,3,0))","v":"32151900"},{"$f":"IF([1]Sheet!$J36=\"\",\"\",[1]Sheet!$J36)","v":"EX-VISION 1L CART CY"},null,{"$f":"IF(B36=\"\",\"\",VLOOKUP(L36,[3]Sheet1!$B$2:$J$5000,2,0))","v":"BUC"},{"$f":"IF([1]Sheet!$K36=\"\",\"\",[1]Sheet!$K36)","v":4},{"$f":"IF([1]Sheet!$M36=\"\",\"\",[1]Sheet!$M36)","v":119.3},{"$f":"IF(ISNA(IF(B36=\"\",\"\",VLOOKUP(L36,[3]Sheet1!$B$2:$J$5000,9,0)*O36)),0,(IF(B36=\"\",\"\",VLOOKUP(L36,[3]Sheet1!$B$2:$J$5000,9,0)*O36)))","v":2.4},{"$f":"IF([1]Sheet!$N36=\"\",\"\",[1]Sheet!$N36)","v":477.21}]
[{"$f":"IF([1]Sheet!$E37=\"\",\"\",[1]Sheet!$E37)","v":43888},{"$f":"IF([1]Sheet!$A37=\"\",\"\",[1]Sheet!$A37)","v":"JETBEST CORPORATION"},{"$f":"IF(B37=\"\",\"\",VLOOKUP(B37,[2]Sheet1!$B$2:$C$708,2,0))","v":"ATU40607009"},{"$f":"IF(B37=\"\",\"\",VLOOKUP(B37,[2]Sheet1!$B$2:$D$708,3,0))","v":"TW"},{"$f":"IF(B37=\"\",\"\",VLOOKUP(B37,[2]Sheet1!$B$2:$E$708,4,0))","v":"AT"},{"$f":"IF(B37=\"\",\"\",VLOOKUP(B37,[2]Sheet1!$B$2:$F$708,5,0))","v":"EXW"},{"$f":"IF(B37=\"\",\"\",VLOOKUP(B37,[2]Sheet1!$B$2:$G$708,6,0))","v":1},{"$f":"IF(B37=\"\",\"\",VLOOKUP(B37,[2]Sheet1!$B$2:$H$708,7,0))","v":1.1000000000000001},{"$f":"IF(B37=\"\",\"\",VLOOKUP(B37,[2]Sheet1!$B$2:$I$708,8,0))","v":3},null,{"$f":"IF(B37=\"\",\"\",VLOOKUP(L37,[3]Sheet1!$B$2:$J$5000,3,0))","v":"32151900"},{"$f":"IF([1]Sheet!$J37=\"\",\"\",[1]Sheet!$J37)","v":"EX-VISION 1L CART LC"},null,{"$f":"IF(B37=\"\",\"\",VLOOKUP(L37,[3]Sheet1!$B$2:$J$5000,2,0))","v":"BUC"},{"$f":"IF([1]Sheet!$K37=\"\",\"\",[1]Sheet!$K37)","v":5},{"$f":"IF([1]Sheet!$M37=\"\",\"\",[1]Sheet!$M37)","v":119.3},{"$f":"IF(ISNA(IF(B37=\"\",\"\",VLOOKUP(L37,[3]Sheet1!$B$2:$J$5000,9,0)*O37)),0,(IF(B37=\"\",\"\",VLOOKUP(L37,[3]Sheet1!$B$2:$J$5000,9,0)*O37)))","v":3},{"$f":"IF([1]Sheet!$N37=\"\",\"\",[1]Sheet!$N37)","v":596.51}]
[{"$f":"IF([1]Sheet!$E38=\"\",\"\",[1]Sheet!$E38)","v":43888},{"$f":"IF([1]Sheet!$A38=\"\",\"\",[1]Sheet!$A38)","v":"JETBEST CORPORATION"},{"$f":"IF(B38=\"\",\"\",VLOOKUP(B38,[2]Sheet1!$B$2:$C$708,2,0))","v":"ATU40607009"},{"$f":"IF(B38=\"\",\"\",VLOOKUP(B38,[2]Sheet1!$B$2:$D$708,3,0))","v":"TW"},{"$f":"IF(B38=\"\",\"\",VLOOKUP(B38,[2]Sheet1!$B$2:$E$708,4,0))","v":"AT"},{"$f":"IF(B38=\"\",\"\",VLOOKUP(B38,[2]Sheet1!$B$2:$F$708,5,0))","v":"EXW"},{"$f":"IF(B38=\"\",\"\",VLOOKUP(B38,[2]Sheet1!$B$2:$G$708,6,0))","v":1},{"$f":"IF(B38=\"\",\"\",VLOOKUP(B38,[2]Sheet1!$B$2:$H$708,7,0))","v":1.1000000000000001},{"$f":"IF(B38=\"\",\"\",VLOOKUP(B38,[2]Sheet1!$B$2:$I$708,8,0))","v":3},null,{"$f":"IF(B38=\"\",\"\",VLOOKUP(L38,[3]Sheet1!$B$2:$J$5000,3,0))","v":"32151900"},{"$f":"IF([1]Sheet!$J38=\"\",\"\",[1]Sheet!$J38)","v":"EX-VISION 1L CART LM"},null,{"$f":"IF(B38=\"\",\"\",VLOOKUP(L38,[3]Sheet1!$B$2:$J$5000,2,0))","v":"BUC"},{"$f":"IF([1]Sheet!$K38=\"\",\"\",[1]Sheet!$K38)","v":5},{"$f":"IF([1]Sheet!$M38=\"\",\"\",[1]Sheet!$M38)","v":119.3},{"$f":"IF(ISNA(IF(B38=\"\",\"\",VLOOKUP(L38,[3]Sheet1!$B$2:$J$5000,9,0)*O38)),0,(IF(B38=\"\",\"\",VLOOKUP(L38,[3]Sheet1!$B$2:$J$5000,9,0)*O38)))","v":3},{"$f":"IF([1]Sheet!$N38=\"\",\"\",[1]Sheet!$N38)","v":596.51}]
[{"$f":"IF([1]Sheet!$E39=\"\",\"\",[1]Sheet!$E39)","v":43888},{"$f":"IF([1]Sheet!$A39=\"\",\"\",[1]Sheet!$A39)","v":"JETBEST CORPORATION"},{"$f":"IF(B39=\"\",\"\",VLOOKUP(B39,[2]Sheet1!$B$2:$C$708,2,0))","v":"ATU40607009"},{"$f":"IF(B39=\"\",\"\",VLOOKUP(B39,[2]Sheet1!$B$2:$D$708,3,0))","v":"TW"},{"$f":"IF(B39=\"\",\"\",VLOOKUP(B39,[2]Sheet1!$B$2:$E$708,4,0))","v":"AT"},{"$f":"IF(B39=\"\",\"\",VLOOKUP(B39,[2]Sheet1!$B$2:$F$708,5,0))","v":"EXW"},{"$f":"IF(B39=\"\",\"\",VLOOKUP(B39,[2]Sheet1!$B$2:$G$708,6,0))","v":1},{"$f":"IF(B39=\"\",\"\",VLOOKUP(B39,[2]Sheet1!$B$2:$H$708,7,0))","v":1.1000000000000001},{"$f":"IF(B39=\"\",\"\",VLOOKUP(B39,[2]Sheet1!$B$2:$I$708,8,0))","v":3},null,{"$f":"IF(B39=\"\",\"\",VLOOKUP(L39,[3]Sheet1!$B$2:$J$5000,3,0))","v":"32151900"},{"$f":"IF([1]Sheet!$J39=\"\",\"\",[1]Sheet!$J39)","v":"EX-VISION 1L CART MG"},null,{"$f":"IF(B39=\"\",\"\",VLOOKUP(L39,[3]Sheet1!$B$2:$J$5000,2,0))","v":"BUC"},{"$f":"IF([1]Sheet!$K39=\"\",\"\",[1]Sheet!$K39)","v":4},{"$f":"IF([1]Sheet!$M39=\"\",\"\",[1]Sheet!$M39)","v":119.3},{"$f":"IF(ISNA(IF(B39=\"\",\"\",VLOOKUP(L39,[3]Sheet1!$B$2:$J$5000,9,0)*O39)),0,(IF(B39=\"\",\"\",VLOOKUP(L39,[3]Sheet1!$B$2:$J$5000,9,0)*O39)))","v":2.4},{"$f":"IF([1]Sheet!$N39=\"\",\"\",[1]Sheet!$N39)","v":477.21}]
[{"$f":"IF([1]Sheet!$E40=\"\",\"\",[1]Sheet!$E40)","v":43888},{"$f":"IF([1]Sheet!$A40=\"\",\"\",[1]Sheet!$A40)","v":"JETBEST CORPORATION"},{"$f":"IF(B40=\"\",\"\",VLOOKUP(B40,[2]Sheet1!$B$2:$C$708,2,0))","v":"ATU40607009"},{"$f":"IF(B40=\"\",\"\",VLOOKUP(B40,[2]Sheet1!$B$2:$D$708,3,0))","v":"TW"},{"$f":"IF(B40=\"\",\"\",VLOOKUP(B40,[2]Sheet1!$B$2:$E$708,4,0))","v":"AT"},{"$f":"IF(B40=\"\",\"\",VLOOKUP(B40,[2]Sheet1!$B$2:$F$708,5,0))","v":"EXW"},{"$f":"IF(B40=\"\",\"\",VLOOKUP(B40,[2]Sheet1!$B$2:$G$708,6,0))","v":1},{"$f":"IF(B40=\"\",\"\",VLOOKUP(B40,[2]Sheet1!$B$2:$H$708,7,0))","v":1.1000000000000001},{"$f":"IF(B40=\"\",\"\",VLOOKUP(B40,[2]Sheet1!$B$2:$I$708,8,0))","v":3},null,{"$f":"IF(B40=\"\",\"\",VLOOKUP(L40,[3]Sheet1!$B$2:$J$5000,3,0))","v":"32151900"},{"$f":"IF([1]Sheet!$J40=\"\",\"\",[1]Sheet!$J40)","v":"EX-VISION 1L CART YE"},null,{"$f":"IF(B40=\"\",\"\",VLOOKUP(L40,[3]Sheet1!$B$2:$J$5000,2,0))","v":"BUC"},{"$f":"IF([1]Sheet!$K40=\"\",\"\",[1]Sheet!$K40)","v":4},{"$f":"IF([1]Sheet!$M40=\"\",\"\",[1]Sheet!$M40)","v":119.3},{"$f":"IF(ISNA(IF(B40=\"\",\"\",VLOOKUP(L40,[3]Sheet1!$B$2:$J$5000,9,0)*O40)),0,(IF(B40=\"\",\"\",VLOOKUP(L40,[3]Sheet1!$B$2:$J$5000,9,0)*O40)))","v":2.4},{"$f":"IF([1]Sheet!$N40=\"\",\"\",[1]Sheet!$N40)","v":477.21}]
[{"$f":"IF([1]Sheet!$E41=\"\",\"\",[1]Sheet!$E41)","v":43886},{"$f":"IF([1]Sheet!$A41=\"\",\"\",[1]Sheet!$A41)","v":"SHANDONG KALLAI INTERNATIONAL TRADE"},{"$f":"IF(B41=\"\",\"\",VLOOKUP(B41,[2]Sheet1!$B$2:$C$708,2,0))","v":"ATU40607009"},{"$f":"IF(B41=\"\",\"\",VLOOKUP(B41,[2]Sheet1!$B$2:$D$708,3,0))","v":"CN"},{"$f":"IF(B41=\"\",\"\",VLOOKUP(B41,[2]Sheet1!$B$2:$E$708,4,0))","v":"AT"},{"$f":"IF(B41=\"\",\"\",VLOOKUP(B41,[2]Sheet1!$B$2:$F$708,5,0))","v":"EXW"},{"$f":"IF(B41=\"\",\"\",VLOOKUP(B41,[2]Sheet1!$B$2:$G$708,6,0))","v":1},{"$f":"IF(B41=\"\",\"\",VLOOKUP(B41,[2]Sheet1!$B$2:$H$708,7,0))","v":1.1000000000000001},{"$f":"IF(B41=\"\",\"\",VLOOKUP(B41,[2]Sheet1!$B$2:$I$708,8,0))","v":3},null,{"$f":"IF(B41=\"\",\"\",VLOOKUP(L41,[3]Sheet1!$B$2:$J$5000,3,0))","v":"84596110"},{"$f":"IF([1]Sheet!$J41=\"\",\"\",[1]Sheet!$J41)","v":"FINE CNC F1-1325 ROUTER"},null,{"$f":"IF(B41=\"\",\"\",VLOOKUP(L41,[3]Sheet1!$B$2:$J$5000,2,0))","v":"BUC"},{"$f":"IF([1]Sheet!$K41=\"\",\"\",[1]Sheet!$K41)","v":1},{"$f":"IF([1]Sheet!$M41=\"\",\"\",[1]Sheet!$M41)","v":31964.400000000001},{"$f":"IF(ISNA(IF(B41=\"\",\"\",VLOOKUP(L41,[3]Sheet1!$B$2:$J$5000,9,0)*O41)),0,(IF(B41=\"\",\"\",VLOOKUP(L41,[3]Sheet1!$B$2:$J$5000,9,0)*O41)))","v":1980},{"$f":"IF([1]Sheet!$N41=\"\",\"\",[1]Sheet!$N41)","v":31964.400000000001}]
[{"$f":"IF([1]Sheet!$E42=\"\",\"\",[1]Sheet!$E42)","v":43880},{"$f":"IF([1]Sheet!$A42=\"\",\"\",[1]Sheet!$A42)","v":"ATLAS DIGITAL SA"},{"$f":"IF(B42=\"\",\"\",VLOOKUP(B42,[2]Sheet1!$B$2:$C$708,2,0))","v":"EL094154295"},{"$f":"IF(B42=\"\",\"\",VLOOKUP(B42,[2]Sheet1!$B$2:$D$708,3,0))","v":"JP"},{"$f":"IF(B42=\"\",\"\",VLOOKUP(B42,[2]Sheet1!$B$2:$E$708,4,0))","v":"GR"},{"$f":"IF(B42=\"\",\"\",VLOOKUP(B42,[2]Sheet1!$B$2:$F$708,5,0))","v":"EXW"},{"$f":"IF(B42=\"\",\"\",VLOOKUP(B42,[2]Sheet1!$B$2:$G$708,6,0))","v":1},{"$f":"IF(B42=\"\",\"\",VLOOKUP(B42,[2]Sheet1!$B$2:$H$708,7,0))","v":1.1000000000000001},{"$f":"IF(B42=\"\",\"\",VLOOKUP(B42,[2]Sheet1!$B$2:$I$708,8,0))","v":3},null,{"$f":"IF(B42=\"\",\"\",VLOOKUP(L42,[3]Sheet1!$B$2:$J$5000,3,0))","v":"84439990"},{"$f":"IF([1]Sheet!$J42=\"\",\"\",[1]Sheet!$J42)","v":"ROLAND ADAPTER,JOINT 3L CG2023"},null,{"$f":"IF(B42=\"\",\"\",VLOOKUP(L42,[3]Sheet1!$B$2:$J$5000,2,0))","v":"BUC"},{"$f":"IF([1]Sheet!$K42=\"\",\"\",[1]Sheet!$K42)","v":12},{"$f":"IF([1]Sheet!$M42=\"\",\"\",[1]Sheet!$M42)","v":6.21},{"$f":"IF(ISNA(IF(B42=\"\",\"\",VLOOKUP(L42,[3]Sheet1!$B$2:$J$5000,9,0)*O42)),0,(IF(B42=\"\",\"\",VLOOKUP(L42,[3]Sheet1!$B$2:$J$5000,9,0)*O42)))","v":0},{"$f":"IF([1]Sheet!$N42=\"\",\"\",[1]Sheet!$N42)","v":74.569999999999993}]
[{"$f":"IF([1]Sheet!$E43=\"\",\"\",[1]Sheet!$E43)","v":43880},{"$f":"IF([1]Sheet!$A43=\"\",\"\",[1]Sheet!$A43)","v":"ATLAS DIGITAL SA"},{"$f":"IF(B43=\"\",\"\",VLOOKUP(B43,[2]Sheet1!$B$2:$C$708,2,0))","v":"EL094154295"},{"$f":"IF(B43=\"\",\"\",VLOOKUP(B43,[2]Sheet1!$B$2:$D$708,3,0))","v":"JP"},{"$f":"IF(B43=\"\",\"\",VLOOKUP(B43,[2]Sheet1!$B$2:$E$708,4,0))","v":"GR"},{"$f":"IF(B43=\"\",\"\",VLOOKUP(B43,[2]Sheet1!$B$2:$F$708,5,0))","v":"EXW"},{"$f":"IF(B43=\"\",\"\",VLOOKUP(B43,[2]Sheet1!$B$2:$G$708,6,0))","v":1},{"$f":"IF(B43=\"\",\"\",VLOOKUP(B43,[2]Sheet1!$B$2:$H$708,7,0))","v":1.1000000000000001},{"$f":"IF(B43=\"\",\"\",VLOOKUP(B43,[2]Sheet1!$B$2:$I$708,8,0))","v":3},null,{"$f":"IF(B43=\"\",\"\",VLOOKUP(L43,[3]Sheet1!$B$2:$J$5000,3,0))","v":"84439990"},{"$f":"IF([1]Sheet!$J43=\"\",\"\",[1]Sheet!$J43)","v":"ROLAND ASSY,CAP-TOP 2 XC-540"},null,{"$f":"IF(B43=\"\",\"\",VLOOKUP(L43,[3]Sheet1!$B$2:$J$5000,2,0))","v":"BUC"},{"$f":"IF([1]Sheet!$K43=\"\",\"\",[1]Sheet!$K43)","v":15},{"$f":"IF([1]Sheet!$M43=\"\",\"\",[1]Sheet!$M43)","v":124.28},{"$f":"IF(ISNA(IF(B43=\"\",\"\",VLOOKUP(L43,[3]Sheet1!$B$2:$J$5000,9,0)*O43)),0,(IF(B43=\"\",\"\",VLOOKUP(L43,[3]Sheet1!$B$2:$J$5000,9,0)*O43)))","v":0},{"$f":"IF([1]Sheet!$N43=\"\",\"\",[1]Sheet!$N43)","v":1864.2}]
[{"$f":"IF([1]Sheet!$E44=\"\",\"\",[1]Sheet!$E44)","v":43880},{"$f":"IF([1]Sheet!$A44=\"\",\"\",[1]Sheet!$A44)","v":"ATLAS DIGITAL SA"},{"$f":"IF(B44=\"\",\"\",VLOOKUP(B44,[2]Sheet1!$B$2:$C$708,2,0))","v":"EL094154295"},{"$f":"IF(B44=\"\",\"\",VLOOKUP(B44,[2]Sheet1!$B$2:$D$708,3,0))","v":"JP"},{"$f":"IF(B44=\"\",\"\",VLOOKUP(B44,[2]Sheet1!$B$2:$E$708,4,0))","v":"GR"},{"$f":"IF(B44=\"\",\"\",VLOOKUP(B44,[2]Sheet1!$B$2:$F$708,5,0))","v":"EXW"},{"$f":"IF(B44=\"\",\"\",VLOOKUP(B44,[2]Sheet1!$B$2:$G$708,6,0))","v":1},{"$f":"IF(B44=\"\",\"\",VLOOKUP(B44,[2]Sheet1!$B$2:$H$708,7,0))","v":1.1000000000000001},{"$f":"IF(B44=\"\",\"\",VLOOKUP(B44,[2]Sheet1!$B$2:$I$708,8,0))","v":3},null,{"$f":"IF(B44=\"\",\"\",VLOOKUP(L44,[3]Sheet1!$B$2:$J$5000,3,0))","v":"84439990"},{"$f":"IF([1]Sheet!$J44=\"\",\"\",[1]Sheet!$J44)","v":"ROLAND ASSY,CAP-TOP VS-640_01"},null,{"$f":"IF(B44=\"\",\"\",VLOOKUP(L44,[3]Sheet1!$B$2:$J$5000,2,0))","v":"BUC"},{"$f":"IF([1]Sheet!$K44=\"\",\"\",[1]Sheet!$K44)","v":8},{"$f":"IF([1]Sheet!$M44=\"\",\"\",[1]Sheet!$M44)","v":205.06},{"$f":"IF(ISNA(IF(B44=\"\",\"\",VLOOKUP(L44,[3]Sheet1!$B$2:$J$5000,9,0)*O44)),0,(IF(B44=\"\",\"\",VLOOKUP(L44,[3]Sheet1!$B$2:$J$5000,9,0)*O44)))","v":0},{"$f":"IF([1]Sheet!$N44=\"\",\"\",[1]Sheet!$N44)","v":1640.5}]
[{"$f":"IF([1]Sheet!$E45=\"\",\"\",[1]Sheet!$E45)","v":43880},{"$f":"IF([1]Sheet!$A45=\"\",\"\",[1]Sheet!$A45)","v":"ATLAS DIGITAL SA"},{"$f":"IF(B45=\"\",\"\",VLOOKUP(B45,[2]Sheet1!$B$2:$C$708,2,0))","v":"EL094154295"},{"$f":"IF(B45=\"\",\"\",VLOOKUP(B45,[2]Sheet1!$B$2:$D$708,3,0))","v":"JP"},{"$f":"IF(B45=\"\",\"\",VLOOKUP(B45,[2]Sheet1!$B$2:$E$708,4,0))","v":"GR"},{"$f":"IF(B45=\"\",\"\",VLOOKUP(B45,[2]Sheet1!$B$2:$F$708,5,0))","v":"EXW"},{"$f":"IF(B45=\"\",\"\",VLOOKUP(B45,[2]Sheet1!$B$2:$G$708,6,0))","v":1},{"$f":"IF(B45=\"\",\"\",VLOOKUP(B45,[2]Sheet1!$B$2:$H$708,7,0))","v":1.1000000000000001},{"$f":"IF(B45=\"\",\"\",VLOOKUP(B45,[2]Sheet1!$B$2:$I$708,8,0))","v":3},null,{"$f":"IF(B45=\"\",\"\",VLOOKUP(L45,[3]Sheet1!$B$2:$J$5000,3,0))","v":"84439990"},{"$f":"IF([1]Sheet!$J45=\"\",\"\",[1]Sheet!$J45)","v":"ROLAND ASSY,CARTRIDGE IC BOARD VP-540"},null,{"$f":"IF(B45=\"\",\"\",VLOOKUP(L45,[3]Sheet1!$B$2:$J$5000,2,0))","v":"BUC"},{"$f":"IF([1]Sheet!$K45=\"\",\"\",[1]Sheet!$K45)","v":2},{"$f":"IF([1]Sheet!$M45=\"\",\"\",[1]Sheet!$M45)","v":74.569999999999993},{"$f":"IF(ISNA(IF(B45=\"\",\"\",VLOOKUP(L45,[3]Sheet1!$B$2:$J$5000,9,0)*O45)),0,(IF(B45=\"\",\"\",VLOOKUP(L45,[3]Sheet1!$B$2:$J$5000,9,0)*O45)))","v":0},{"$f":"IF([1]Sheet!$N45=\"\",\"\",[1]Sheet!$N45)","v":149.13999999999999}]
[{"$f":"IF([1]Sheet!$E46=\"\",\"\",[1]Sheet!$E46)","v":43880},{"$f":"IF([1]Sheet!$A46=\"\",\"\",[1]Sheet!$A46)","v":"ATLAS DIGITAL SA"},{"$f":"IF(B46=\"\",\"\",VLOOKUP(B46,[2]Sheet1!$B$2:$C$708,2,0))","v":"EL094154295"},{"$f":"IF(B46=\"\",\"\",VLOOKUP(B46,[2]Sheet1!$B$2:$D$708,3,0))","v":"JP"},{"$f":"IF(B46=\"\",\"\",VLOOKUP(B46,[2]Sheet1!$B$2:$E$708,4,0))","v":"GR"},{"$f":"IF(B46=\"\",\"\",VLOOKUP(B46,[2]Sheet1!$B$2:$F$708,5,0))","v":"EXW"},{"$f":"IF(B46=\"\",\"\",VLOOKUP(B46,[2]Sheet1!$B$2:$G$708,6,0))","v":1},{"$f":"IF(B46=\"\",\"\",VLOOKUP(B46,[2]Sheet1!$B$2:$H$708,7,0))","v":1.1000000000000001},{"$f":"IF(B46=\"\",\"\",VLOOKUP(B46,[2]Sheet1!$B$2:$I$708,8,0))","v":3},null,{"$f":"IF(B46=\"\",\"\",VLOOKUP(L46,[3]Sheet1!$B$2:$J$5000,3,0))","v":"84439990"},{"$f":"IF([1]Sheet!$J46=\"\",\"\",[1]Sheet!$J46)","v":"ROLAND ASSY,CLAMP S CAP DWX-50"},null,{"$f":"IF(B46=\"\",\"\",VLOOKUP(L46,[3]Sheet1!$B$2:$J$5000,2,0))","v":"BUC"},{"$f":"IF([1]Sheet!$K46=\"\",\"\",[1]Sheet!$K46)","v":1},{"$f":"IF([1]Sheet!$M46=\"\",\"\",[1]Sheet!$M46)","v":941.42},{"$f":"IF(ISNA(IF(B46=\"\",\"\",VLOOKUP(L46,[3]Sheet1!$B$2:$J$5000,9,0)*O46)),0,(IF(B46=\"\",\"\",VLOOKUP(L46,[3]Sheet1!$B$2:$J$5000,9,0)*O46)))","v":0},{"$f":"IF([1]Sheet!$N46=\"\",\"\",[1]Sheet!$N46)","v":941.42}]
[{"$f":"IF([1]Sheet!$E47=\"\",\"\",[1]Sheet!$E47)","v":43880},{"$f":"IF([1]Sheet!$A47=\"\",\"\",[1]Sheet!$A47)","v":"ATLAS DIGITAL SA"},{"$f":"IF(B47=\"\",\"\",VLOOKUP(B47,[2]Sheet1!$B$2:$C$708,2,0))","v":"EL094154295"},{"$f":"IF(B47=\"\",\"\",VLOOKUP(B47,[2]Sheet1!$B$2:$D$708,3,0))","v":"JP"},{"$f":"IF(B47=\"\",\"\",VLOOKUP(B47,[2]Sheet1!$B$2:$E$708,4,0))","v":"GR"},{"$f":"IF(B47=\"\",\"\",VLOOKUP(B47,[2]Sheet1!$B$2:$F$708,5,0))","v":"EXW"},{"$f":"IF(B47=\"\",\"\",VLOOKUP(B47,[2]Sheet1!$B$2:$G$708,6,0))","v":1},{"$f":"IF(B47=\"\",\"\",VLOOKUP(B47,[2]Sheet1!$B$2:$H$708,7,0))","v":1.1000000000000001},{"$f":"IF(B47=\"\",\"\",VLOOKUP(B47,[2]Sheet1!$B$2:$I$708,8,0))","v":3},null,{"$f":"IF(B47=\"\",\"\",VLOOKUP(L47,[3]Sheet1!$B$2:$J$5000,3,0))","v":"84439990"},{"$f":"IF([1]Sheet!$J47=\"\",\"\",[1]Sheet!$J47)","v":"ROLAND ASSY,FEED MOTOR SP-540V"},null,{"$f":"IF(B47=\"\",\"\",VLOOKUP(L47,[3]Sheet1!$B$2:$J$5000,2,0))","v":"BUC"},{"$f":"IF([1]Sheet!$K47=\"\",\"\",[1]Sheet!$K47)","v":1},{"$f":"IF([1]Sheet!$M47=\"\",\"\",[1]Sheet!$M47)","v":997.35},{"$f":"IF(ISNA(IF(B47=\"\",\"\",VLOOKUP(L47,[3]Sheet1!$B$2:$J$5000,9,0)*O47)),0,(IF(B47=\"\",\"\",VLOOKUP(L47,[3]Sheet1!$B$2:$J$5000,9,0)*O47)))","v":0},{"$f":"IF([1]Sheet!$N47=\"\",\"\",[1]Sheet!$N47)","v":997.35}]
[{"$f":"IF([1]Sheet!$E48=\"\",\"\",[1]Sheet!$E48)","v":43872},{"$f":"IF([1]Sheet!$A48=\"\",\"\",[1]Sheet!$A48)","v":"ATLAS DIGITAL SA"},{"$f":"IF(B48=\"\",\"\",VLOOKUP(B48,[2]Sheet1!$B$2:$C$708,2,0))","v":"EL094154295"},{"$f":"IF(B48=\"\",\"\",VLOOKUP(B48,[2]Sheet1!$B$2:$D$708,3,0))","v":"JP"},{"$f":"IF(B48=\"\",\"\",VLOOKUP(B48,[2]Sheet1!$B$2:$E$708,4,0))","v":"GR"},{"$f":"IF(B48=\"\",\"\",VLOOKUP(B48,[2]Sheet1!$B$2:$F$708,5,0))","v":"EXW"},{"$f":"IF(B48=\"\",\"\",VLOOKUP(B48,[2]Sheet1!$B$2:$G$708,6,0))","v":1},{"$f":"IF(B48=\"\",\"\",VLOOKUP(B48,[2]Sheet1!$B$2:$H$708,7,0))","v":1.1000000000000001},{"$f":"IF(B48=\"\",\"\",VLOOKUP(B48,[2]Sheet1!$B$2:$I$708,8,0))","v":3},null,{"$f":"IF(B48=\"\",\"\",VLOOKUP(L48,[3]Sheet1!$B$2:$J$5000,3,0))","v":"84439990"},{"$f":"IF([1]Sheet!$J48=\"\",\"\",[1]Sheet!$J48)","v":"ROLAND ASSY,HEAD INKJET SOL XC-540 SV2"},null,{"$f":"IF(B48=\"\",\"\",VLOOKUP(L48,[3]Sheet1!$B$2:$J$5000,2,0))","v":"BUC"},{"$f":"IF([1]Sheet!$K48=\"\",\"\",[1]Sheet!$K48)","v":10},{"$f":"IF([1]Sheet!$M48=\"\",\"\",[1]Sheet!$M48)","v":2025.89},{"$f":"IF(ISNA(IF(B48=\"\",\"\",VLOOKUP(L48,[3]Sheet1!$B$2:$J$5000,9,0)*O48)),0,(IF(B48=\"\",\"\",VLOOKUP(L48,[3]Sheet1!$B$2:$J$5000,9,0)*O48)))","v":0},{"$f":"IF([1]Sheet!$N48=\"\",\"\",[1]Sheet!$N48)","v":20258.900000000001}]
[{"$f":"IF([1]Sheet!$E49=\"\",\"\",[1]Sheet!$E49)","v":43880},{"$f":"IF([1]Sheet!$A49=\"\",\"\",[1]Sheet!$A49)","v":"ATLAS DIGITAL SA"},{"$f":"IF(B49=\"\",\"\",VLOOKUP(B49,[2]Sheet1!$B$2:$C$708,2,0))","v":"EL094154295"},{"$f":"IF(B49=\"\",\"\",VLOOKUP(B49,[2]Sheet1!$B$2:$D$708,3,0))","v":"JP"},{"$f":"IF(B49=\"\",\"\",VLOOKUP(B49,[2]Sheet1!$B$2:$E$708,4,0))","v":"GR"},{"$f":"IF(B49=\"\",\"\",VLOOKUP(B49,[2]Sheet1!$B$2:$F$708,5,0))","v":"EXW"},{"$f":"IF(B49=\"\",\"\",VLOOKUP(B49,[2]Sheet1!$B$2:$G$708,6,0))","v":1},{"$f":"IF(B49=\"\",\"\",VLOOKUP(B49,[2]Sheet1!$B$2:$H$708,7,0))","v":1.1000000000000001},{"$f":"IF(B49=\"\",\"\",VLOOKUP(B49,[2]Sheet1!$B$2:$I$708,8,0))","v":3},null,{"$f":"IF(B49=\"\",\"\",VLOOKUP(L49,[3]Sheet1!$B$2:$J$5000,3,0))","v":"84439990"},{"$f":"IF([1]Sheet!$J49=\"\",\"\",[1]Sheet!$J49)","v":"ROLAND ASSY,HEAD INKJET VS-640"},null,{"$f":"IF(B49=\"\",\"\",VLOOKUP(L49,[3]Sheet1!$B$2:$J$5000,2,0))","v":"BUC"},{"$f":"IF([1]Sheet!$K49=\"\",\"\",[1]Sheet!$K49)","v":2},{"$f":"IF([1]Sheet!$M49=\"\",\"\",[1]Sheet!$M49)","v":6548.6},{"$f":"IF(ISNA(IF(B49=\"\",\"\",VLOOKUP(L49,[3]Sheet1!$B$2:$J$5000,9,0)*O49)),0,(IF(B49=\"\",\"\",VLOOKUP(L49,[3]Sheet1!$B$2:$J$5000,9,0)*O49)))","v":0},{"$f":"IF([1]Sheet!$N49=\"\",\"\",[1]Sheet!$N49)","v":13097.2}]
[{"$f":"IF([1]Sheet!$E50=\"\",\"\",[1]Sheet!$E50)","v":43888},{"$f":"IF([1]Sheet!$A50=\"\",\"\",[1]Sheet!$A50)","v":"JETBEST CORPORATION"},{"$f":"IF(B50=\"\",\"\",VLOOKUP(B50,[2]Sheet1!$B$2:$C$708,2,0))","v":"ATU40607009"},{"$f":"IF(B50=\"\",\"\",VLOOKUP(B50,[2]Sheet1!$B$2:$D$708,3,0))","v":"TW"},{"$f":"IF(B50=\"\",\"\",VLOOKUP(B50,[2]Sheet1!$B$2:$E$708,4,0))","v":"AT"},{"$f":"IF(B50=\"\",\"\",VLOOKUP(B50,[2]Sheet1!$B$2:$F$708,5,0))","v":"EXW"},{"$f":"IF(B50=\"\",\"\",VLOOKUP(B50,[2]Sheet1!$B$2:$G$708,6,0))","v":1},{"$f":"IF(B50=\"\",\"\",VLOOKUP(B50,[2]Sheet1!$B$2:$H$708,7,0))","v":1.1000000000000001},{"$f":"IF(B50=\"\",\"\",VLOOKUP(B50,[2]Sheet1!$B$2:$I$708,8,0))","v":3},null,{"$f":"IF(B50=\"\",\"\",VLOOKUP(L50,[3]Sheet1!$B$2:$J$5000,3,0))","v":"84439990"},{"$f":"IF([1]Sheet!$J50=\"\",\"\",[1]Sheet!$J50)","v":"ROLAND ASSY,INK DAMPER L 3FAI 4 SJ-1000"},null,{"$f":"IF(B50=\"\",\"\",VLOOKUP(L50,[3]Sheet1!$B$2:$J$5000,2,0))","v":"BUC"},{"$f":"IF([1]Sheet!$K50=\"\",\"\",[1]Sheet!$K50)","v":24},{"$f":"IF([1]Sheet!$M50=\"\",\"\",[1]Sheet!$M50)","v":30.93},{"$f":"IF(ISNA(IF(B50=\"\",\"\",VLOOKUP(L50,[3]Sheet1!$B$2:$J$5000,9,0)*O50)),0,(IF(B50=\"\",\"\",VLOOKUP(L50,[3]Sheet1!$B$2:$J$5000,9,0)*O50)))","v":0},{"$f":"IF([1]Sheet!$N50=\"\",\"\",[1]Sheet!$N50)","v":742.32}]
[{"$f":"IF([1]Sheet!$E51=\"\",\"\",[1]Sheet!$E51)","v":43888},{"$f":"IF([1]Sheet!$A51=\"\",\"\",[1]Sheet!$A51)","v":"ATLAS DIGITAL SA"},{"$f":"IF(B51=\"\",\"\",VLOOKUP(B51,[2]Sheet1!$B$2:$C$708,2,0))","v":"EL094154295"},{"$f":"IF(B51=\"\",\"\",VLOOKUP(B51,[2]Sheet1!$B$2:$D$708,3,0))","v":"JP"},{"$f":"IF(B51=\"\",\"\",VLOOKUP(B51,[2]Sheet1!$B$2:$E$708,4,0))","v":"GR"},{"$f":"IF(B51=\"\",\"\",VLOOKUP(B51,[2]Sheet1!$B$2:$F$708,5,0))","v":"EXW"},{"$f":"IF(B51=\"\",\"\",VLOOKUP(B51,[2]Sheet1!$B$2:$G$708,6,0))","v":1},{"$f":"IF(B51=\"\",\"\",VLOOKUP(B51,[2]Sheet1!$B$2:$H$708,7,0))","v":1.1000000000000001},{"$f":"IF(B51=\"\",\"\",VLOOKUP(B51,[2]Sheet1!$B$2:$I$708,8,0))","v":3},null,{"$f":"IF(B51=\"\",\"\",VLOOKUP(L51,[3]Sheet1!$B$2:$J$5000,3,0))","v":"84439990"},{"$f":"IF([1]Sheet!$J51=\"\",\"\",[1]Sheet!$J51)","v":"ROLAND ASSY,MAIN BOARD GX-500_10"},null,{"$f":"IF(B51=\"\",\"\",VLOOKUP(L51,[3]Sheet1!$B$2:$J$5000,2,0))","v":"BUC"},{"$f":"IF([1]Sheet!$K51=\"\",\"\",[1]Sheet!$K51)","v":-1},{"$f":"IF([1]Sheet!$M51=\"\",\"\",[1]Sheet!$M51)","v":2437.35},{"$f":"IF(ISNA(IF(B51=\"\",\"\",VLOOKUP(L51,[3]Sheet1!$B$2:$J$5000,9,0)*O51)),0,(IF(B51=\"\",\"\",VLOOKUP(L51,[3]Sheet1!$B$2:$J$5000,9,0)*O51)))","v":0},{"$f":"IF([1]Sheet!$N51=\"\",\"\",[1]Sheet!$N51)","v":-2437.35}]
[{"$f":"IF([1]Sheet!$E52=\"\",\"\",[1]Sheet!$E52)","v":43880},{"$f":"IF([1]Sheet!$A52=\"\",\"\",[1]Sheet!$A52)","v":"ATLAS DIGITAL SA"},{"$f":"IF(B52=\"\",\"\",VLOOKUP(B52,[2]Sheet1!$B$2:$C$708,2,0))","v":"EL094154295"},{"$f":"IF(B52=\"\",\"\",VLOOKUP(B52,[2]Sheet1!$B$2:$D$708,3,0))","v":"JP"},{"$f":"IF(B52=\"\",\"\",VLOOKUP(B52,[2]Sheet1!$B$2:$E$708,4,0))","v":"GR"},{"$f":"IF(B52=\"\",\"\",VLOOKUP(B52,[2]Sheet1!$B$2:$F$708,5,0))","v":"EXW"},{"$f":"IF(B52=\"\",\"\",VLOOKUP(B52,[2]Sheet1!$B$2:$G$708,6,0))","v":1},{"$f":"IF(B52=\"\",\"\",VLOOKUP(B52,[2]Sheet1!$B$2:$H$708,7,0))","v":1.1000000000000001},{"$f":"IF(B52=\"\",\"\",VLOOKUP(B52,[2]Sheet1!$B$2:$I$708,8,0))","v":3},null,{"$f":"IF(B52=\"\",\"\",VLOOKUP(L52,[3]Sheet1!$B$2:$J$5000,3,0))","v":"84439990"},{"$f":"IF([1]Sheet!$J52=\"\",\"\",[1]Sheet!$J52)","v":"ROLAND ASSY,SCAN MOTOR SP-540V"},null,{"$f":"IF(B52=\"\",\"\",VLOOKUP(L52,[3]Sheet1!$B$2:$J$5000,2,0))","v":"BUC"},{"$f":"IF([1]Sheet!$K52=\"\",\"\",[1]Sheet!$K52)","v":1},{"$f":"IF([1]Sheet!$M52=\"\",\"\",[1]Sheet!$M52)","v":885.5},{"$f":"IF(ISNA(IF(B52=\"\",\"\",VLOOKUP(L52,[3]Sheet1!$B$2:$J$5000,9,0)*O52)),0,(IF(B52=\"\",\"\",VLOOKUP(L52,[3]Sheet1!$B$2:$J$5000,9,0)*O52)))","v":0},{"$f":"IF([1]Sheet!$N52=\"\",\"\",[1]Sheet!$N52)","v":885.5}]
[{"$f":"IF([1]Sheet!$E53=\"\",\"\",[1]Sheet!$E53)","v":43864},{"$f":"IF([1]Sheet!$A53=\"\",\"\",[1]Sheet!$A53)","v":"ATLAS DIGITAL SA"},{"$f":"IF(B53=\"\",\"\",VLOOKUP(B53,[2]Sheet1!$B$2:$C$708,2,0))","v":"EL094154295"},{"$f":"IF(B53=\"\",\"\",VLOOKUP(B53,[2]Sheet1!$B$2:$D$708,3,0))","v":"JP"},{"$f":"IF(B53=\"\",\"\",VLOOKUP(B53,[2]Sheet1!$B$2:$E$708,4,0))","v":"GR"},{"$f":"IF(B53=\"\",\"\",VLOOKUP(B53,[2]Sheet1!$B$2:$F$708,5,0))","v":"EXW"},{"$f":"IF(B53=\"\",\"\",VLOOKUP(B53,[2]Sheet1!$B$2:$G$708,6,0))","v":1},{"$f":"IF(B53=\"\",\"\",VLOOKUP(B53,[2]Sheet1!$B$2:$H$708,7,0))","v":1.1000000000000001},{"$f":"IF(B53=\"\",\"\",VLOOKUP(B53,[2]Sheet1!$B$2:$I$708,8,0))","v":3},null,{"$f":"IF(B53=\"\",\"\",VLOOKUP(L53,[3]Sheet1!$B$2:$J$5000,3,0))","v":"84433900"},{"$f":"IF([1]Sheet!$J53=\"\",\"\",[1]Sheet!$J53)","v":"ROLAND BN-20"},null,{"$f":"IF(B53=\"\",\"\",VLOOKUP(L53,[3]Sheet1!$B$2:$J$5000,2,0))","v":"BUC"},{"$f":"IF([1]Sheet!$K53=\"\",\"\",[1]Sheet!$K53)","v":1},{"$f":"IF([1]Sheet!$M53=\"\",\"\",[1]Sheet!$M53)","v":24319.51},{"$f":"IF(ISNA(IF(B53=\"\",\"\",VLOOKUP(L53,[3]Sheet1!$B$2:$J$5000,9,0)*O53)),0,(IF(B53=\"\",\"\",VLOOKUP(L53,[3]Sheet1!$B$2:$J$5000,9,0)*O53)))","v":36},{"$f":"IF([1]Sheet!$N53=\"\",\"\",[1]Sheet!$N53)","v":24319.51}]
[{"$f":"IF([1]Sheet!$E54=\"\",\"\",[1]Sheet!$E54)","v":43880},{"$f":"IF([1]Sheet!$A54=\"\",\"\",[1]Sheet!$A54)","v":"ATLAS DIGITAL SA"},{"$f":"IF(B54=\"\",\"\",VLOOKUP(B54,[2]Sheet1!$B$2:$C$708,2,0))","v":"EL094154295"},{"$f":"IF(B54=\"\",\"\",VLOOKUP(B54,[2]Sheet1!$B$2:$D$708,3,0))","v":"JP"},{"$f":"IF(B54=\"\",\"\",VLOOKUP(B54,[2]Sheet1!$B$2:$E$708,4,0))","v":"GR"},{"$f":"IF(B54=\"\",\"\",VLOOKUP(B54,[2]Sheet1!$B$2:$F$708,5,0))","v":"EXW"},{"$f":"IF(B54=\"\",\"\",VLOOKUP(B54,[2]Sheet1!$B$2:$G$708,6,0))","v":1},{"$f":"IF(B54=\"\",\"\",VLOOKUP(B54,[2]Sheet1!$B$2:$H$708,7,0))","v":1.1000000000000001},{"$f":"IF(B54=\"\",\"\",VLOOKUP(B54,[2]Sheet1!$B$2:$I$708,8,0))","v":3},null,{"$f":"IF(B54=\"\",\"\",VLOOKUP(L54,[3]Sheet1!$B$2:$J$5000,3,0))","v":"84439990"},{"$f":"IF([1]Sheet!$J54=\"\",\"\",[1]Sheet!$J54)","v":"ROLAND CABLE-CARD 15P1 1900L BB SP-300"},null,{"$f":"IF(B54=\"\",\"\",VLOOKUP(L54,[3]Sheet1!$B$2:$J$5000,2,0))","v":"BUC"},{"$f":"IF([1]Sheet!$K54=\"\",\"\",[1]Sheet!$K54)","v":4},{"$f":"IF([1]Sheet!$M54=\"\",\"\",[1]Sheet!$M54)","v":77.680000000000007},{"$f":"IF(ISNA(IF(B54=\"\",\"\",VLOOKUP(L54,[3]Sheet1!$B$2:$J$5000,9,0)*O54)),0,(IF(B54=\"\",\"\",VLOOKUP(L54,[3]Sheet1!$B$2:$J$5000,9,0)*O54)))","v":0},{"$f":"IF([1]Sheet!$N54=\"\",\"\",[1]Sheet!$N54)","v":310.7}]
[{"$f":"IF([1]Sheet!$E55=\"\",\"\",[1]Sheet!$E55)","v":43880},{"$f":"IF([1]Sheet!$A55=\"\",\"\",[1]Sheet!$A55)","v":"ATLAS DIGITAL SA"},{"$f":"IF(B55=\"\",\"\",VLOOKUP(B55,[2]Sheet1!$B$2:$C$708,2,0))","v":"EL094154295"},{"$f":"IF(B55=\"\",\"\",VLOOKUP(B55,[2]Sheet1!$B$2:$D$708,3,0))","v":"JP"},{"$f":"IF(B55=\"\",\"\",VLOOKUP(B55,[2]Sheet1!$B$2:$E$708,4,0))","v":"GR"},{"$f":"IF(B55=\"\",\"\",VLOOKUP(B55,[2]Sheet1!$B$2:$F$708,5,0))","v":"EXW"},{"$f":"IF(B55=\"\",\"\",VLOOKUP(B55,[2]Sheet1!$B$2:$G$708,6,0))","v":1},{"$f":"IF(B55=\"\",\"\",VLOOKUP(B55,[2]Sheet1!$B$2:$H$708,7,0))","v":1.1000000000000001},{"$f":"IF(B55=\"\",\"\",VLOOKUP(B55,[2]Sheet1!$B$2:$I$708,8,0))","v":3},null,{"$f":"IF(B55=\"\",\"\",VLOOKUP(L55,[3]Sheet1!$B$2:$J$5000,3,0))","v":"84439990"},{"$f":"IF([1]Sheet!$J55=\"\",\"\",[1]Sheet!$J55)","v":"ROLAND CABLE-CARD 15P1 2570L BB"},null,{"$f":"IF(B55=\"\",\"\",VLOOKUP(L55,[3]Sheet1!$B$2:$J$5000,2,0))","v":"BUC"},{"$f":"IF([1]Sheet!$K55=\"\",\"\",[1]Sheet!$K55)","v":6},{"$f":"IF([1]Sheet!$M55=\"\",\"\",[1]Sheet!$M55)","v":77.680000000000007},{"$f":"IF(ISNA(IF(B55=\"\",\"\",VLOOKUP(L55,[3]Sheet1!$B$2:$J$5000,9,0)*O55)),0,(IF(B55=\"\",\"\",VLOOKUP(L55,[3]Sheet1!$B$2:$J$5000,9,0)*O55)))","v":0},{"$f":"IF([1]Sheet!$N55=\"\",\"\",[1]Sheet!$N55)","v":466.05}]
[{"$f":"IF([1]Sheet!$E56=\"\",\"\",[1]Sheet!$E56)","v":43880},{"$f":"IF([1]Sheet!$A56=\"\",\"\",[1]Sheet!$A56)","v":"ATLAS DIGITAL SA"},{"$f":"IF(B56=\"\",\"\",VLOOKUP(B56,[2]Sheet1!$B$2:$C$708,2,0))","v":"EL094154295"},{"$f":"IF(B56=\"\",\"\",VLOOKUP(B56,[2]Sheet1!$B$2:$D$708,3,0))","v":"JP"},{"$f":"IF(B56=\"\",\"\",VLOOKUP(B56,[2]Sheet1!$B$2:$E$708,4,0))","v":"GR"},{"$f":"IF(B56=\"\",\"\",VLOOKUP(B56,[2]Sheet1!$B$2:$F$708,5,0))","v":"EXW"},{"$f":"IF(B56=\"\",\"\",VLOOKUP(B56,[2]Sheet1!$B$2:$G$708,6,0))","v":1},{"$f":"IF(B56=\"\",\"\",VLOOKUP(B56,[2]Sheet1!$B$2:$H$708,7,0))","v":1.1000000000000001},{"$f":"IF(B56=\"\",\"\",VLOOKUP(B56,[2]Sheet1!$B$2:$I$708,8,0))","v":3},null,{"$f":"IF(B56=\"\",\"\",VLOOKUP(L56,[3]Sheet1!$B$2:$J$5000,3,0))","v":"84439990"},{"$f":"IF([1]Sheet!$J56=\"\",\"\",[1]Sheet!$J56)","v":"ROLAND CABLE-CARD 21P1 390L BB HIGH-V"},null,{"$f":"IF(B56=\"\",\"\",VLOOKUP(L56,[3]Sheet1!$B$2:$J$5000,2,0))","v":"BUC"},{"$f":"IF([1]Sheet!$K56=\"\",\"\",[1]Sheet!$K56)","v":4},{"$f":"IF([1]Sheet!$M56=\"\",\"\",[1]Sheet!$M56)","v":27.96},{"$f":"IF(ISNA(IF(B56=\"\",\"\",VLOOKUP(L56,[3]Sheet1!$B$2:$J$5000,9,0)*O56)),0,(IF(B56=\"\",\"\",VLOOKUP(L56,[3]Sheet1!$B$2:$J$5000,9,0)*O56)))","v":0},{"$f":"IF([1]Sheet!$N56=\"\",\"\",[1]Sheet!$N56)","v":111.85}]
[{"$f":"IF([1]Sheet!$E57=\"\",\"\",[1]Sheet!$E57)","v":43880},{"$f":"IF([1]Sheet!$A57=\"\",\"\",[1]Sheet!$A57)","v":"ATLAS DIGITAL SA"},{"$f":"IF(B57=\"\",\"\",VLOOKUP(B57,[2]Sheet1!$B$2:$C$708,2,0))","v":"EL094154295"},{"$f":"IF(B57=\"\",\"\",VLOOKUP(B57,[2]Sheet1!$B$2:$D$708,3,0))","v":"JP"},{"$f":"IF(B57=\"\",\"\",VLOOKUP(B57,[2]Sheet1!$B$2:$E$708,4,0))","v":"GR"},{"$f":"IF(B57=\"\",\"\",VLOOKUP(B57,[2]Sheet1!$B$2:$F$708,5,0))","v":"EXW"},{"$f":"IF(B57=\"\",\"\",VLOOKUP(B57,[2]Sheet1!$B$2:$G$708,6,0))","v":1},{"$f":"IF(B57=\"\",\"\",VLOOKUP(B57,[2]Sheet1!$B$2:$H$708,7,0))","v":1.1000000000000001},{"$f":"IF(B57=\"\",\"\",VLOOKUP(B57,[2]Sheet1!$B$2:$I$708,8,0))","v":3},null,{"$f":"IF(B57=\"\",\"\",VLOOKUP(L57,[3]Sheet1!$B$2:$J$5000,3,0))","v":"84439990"},{"$f":"IF([1]Sheet!$J57=\"\",\"\",[1]Sheet!$J57)","v":"ROLAND CABLE-CARD 36P1 2670L BB HIGH-V"},null,{"$f":"IF(B57=\"\",\"\",VLOOKUP(L57,[3]Sheet1!$B$2:$J$5000,2,0))","v":"BUC"},{"$f":"IF([1]Sheet!$K57=\"\",\"\",[1]Sheet!$K57)","v":1},{"$f":"IF([1]Sheet!$M57=\"\",\"\",[1]Sheet!$M57)","v":158.46},{"$f":"IF(ISNA(IF(B57=\"\",\"\",VLOOKUP(L57,[3]Sheet1!$B$2:$J$5000,9,0)*O57)),0,(IF(B57=\"\",\"\",VLOOKUP(L57,[3]Sheet1!$B$2:$J$5000,9,0)*O57)))","v":0},{"$f":"IF([1]Sheet!$N57=\"\",\"\",[1]Sheet!$N57)","v":158.46}]
[{"$f":"IF([1]Sheet!$E58=\"\",\"\",[1]Sheet!$E58)","v":43864},{"$f":"IF([1]Sheet!$A58=\"\",\"\",[1]Sheet!$A58)","v":"ATLAS DIGITAL SA"},{"$f":"IF(B58=\"\",\"\",VLOOKUP(B58,[2]Sheet1!$B$2:$C$708,2,0))","v":"EL094154295"},{"$f":"IF(B58=\"\",\"\",VLOOKUP(B58,[2]Sheet1!$B$2:$D$708,3,0))","v":"JP"},{"$f":"IF(B58=\"\",\"\",VLOOKUP(B58,[2]Sheet1!$B$2:$E$708,4,0))","v":"GR"},{"$f":"IF(B58=\"\",\"\",VLOOKUP(B58,[2]Sheet1!$B$2:$F$708,5,0))","v":"EXW"},{"$f":"IF(B58=\"\",\"\",VLOOKUP(B58,[2]Sheet1!$B$2:$G$708,6,0))","v":1},{"$f":"IF(B58=\"\",\"\",VLOOKUP(B58,[2]Sheet1!$B$2:$H$708,7,0))","v":1.1000000000000001},{"$f":"IF(B58=\"\",\"\",VLOOKUP(B58,[2]Sheet1!$B$2:$I$708,8,0))","v":3},null,{"$f":"IF(B58=\"\",\"\",VLOOKUP(L58,[3]Sheet1!$B$2:$J$5000,3,0))","v":"32151100"},{"$f":"IF([1]Sheet!$J58=\"\",\"\",[1]Sheet!$J58)","v":"ROLAND ESL3-440 BK"},null,{"$f":"IF(B58=\"\",\"\",VLOOKUP(L58,[3]Sheet1!$B$2:$J$5000,2,0))","v":"BUC"},{"$f":"IF([1]Sheet!$K58=\"\",\"\",[1]Sheet!$K58)","v":12},{"$f":"IF([1]Sheet!$M58=\"\",\"\",[1]Sheet!$M58)","v":340.9},{"$f":"IF(ISNA(IF(B58=\"\",\"\",VLOOKUP(L58,[3]Sheet1!$B$2:$J$5000,9,0)*O58)),0,(IF(B58=\"\",\"\",VLOOKUP(L58,[3]Sheet1!$B$2:$J$5000,9,0)*O58)))","v":7.4399999999999995},{"$f":"IF([1]Sheet!$N58=\"\",\"\",[1]Sheet!$N58)","v":4090.84}]
[{"$f":"IF([1]Sheet!$E59=\"\",\"\",[1]Sheet!$E59)","v":43880},{"$f":"IF([1]Sheet!$A59=\"\",\"\",[1]Sheet!$A59)","v":"ATLAS DIGITAL SA"},{"$f":"IF(B59=\"\",\"\",VLOOKUP(B59,[2]Sheet1!$B$2:$C$708,2,0))","v":"EL094154295"},{"$f":"IF(B59=\"\",\"\",VLOOKUP(B59,[2]Sheet1!$B$2:$D$708,3,0))","v":"JP"},{"$f":"IF(B59=\"\",\"\",VLOOKUP(B59,[2]Sheet1!$B$2:$E$708,4,0))","v":"GR"},{"$f":"IF(B59=\"\",\"\",VLOOKUP(B59,[2]Sheet1!$B$2:$F$708,5,0))","v":"EXW"},{"$f":"IF(B59=\"\",\"\",VLOOKUP(B59,[2]Sheet1!$B$2:$G$708,6,0))","v":1},{"$f":"IF(B59=\"\",\"\",VLOOKUP(B59,[2]Sheet1!$B$2:$H$708,7,0))","v":1.1000000000000001},{"$f":"IF(B59=\"\",\"\",VLOOKUP(B59,[2]Sheet1!$B$2:$I$708,8,0))","v":3},null,{"$f":"IF(B59=\"\",\"\",VLOOKUP(L59,[3]Sheet1!$B$2:$J$5000,3,0))","v":"32151900"},{"$f":"IF([1]Sheet!$J59=\"\",\"\",[1]Sheet!$J59)","v":"ROLAND ESL3-440 CY"},null,{"$f":"IF(B59=\"\",\"\",VLOOKUP(L59,[3]Sheet1!$B$2:$J$5000,2,0))","v":"BUC"},{"$f":"IF([1]Sheet!$K59=\"\",\"\",[1]Sheet!$K59)","v":2},{"$f":"IF([1]Sheet!$M59=\"\",\"\",[1]Sheet!$M59)","v":341.29},{"$f":"IF(ISNA(IF(B59=\"\",\"\",VLOOKUP(L59,[3]Sheet1!$B$2:$J$5000,9,0)*O59)),0,(IF(B59=\"\",\"\",VLOOKUP(L59,[3]Sheet1!$B$2:$J$5000,9,0)*O59)))","v":1},{"$f":"IF([1]Sheet!$N59=\"\",\"\",[1]Sheet!$N59)","v":682.58}]
[{"$f":"IF([1]Sheet!$E60=\"\",\"\",[1]Sheet!$E60)","v":43880},{"$f":"IF([1]Sheet!$A60=\"\",\"\",[1]Sheet!$A60)","v":"ATLAS DIGITAL SA"},{"$f":"IF(B60=\"\",\"\",VLOOKUP(B60,[2]Sheet1!$B$2:$C$708,2,0))","v":"EL094154295"},{"$f":"IF(B60=\"\",\"\",VLOOKUP(B60,[2]Sheet1!$B$2:$D$708,3,0))","v":"JP"},{"$f":"IF(B60=\"\",\"\",VLOOKUP(B60,[2]Sheet1!$B$2:$E$708,4,0))","v":"GR"},{"$f":"IF(B60=\"\",\"\",VLOOKUP(B60,[2]Sheet1!$B$2:$F$708,5,0))","v":"EXW"},{"$f":"IF(B60=\"\",\"\",VLOOKUP(B60,[2]Sheet1!$B$2:$G$708,6,0))","v":1},{"$f":"IF(B60=\"\",\"\",VLOOKUP(B60,[2]Sheet1!$B$2:$H$708,7,0))","v":1.1000000000000001},{"$f":"IF(B60=\"\",\"\",VLOOKUP(B60,[2]Sheet1!$B$2:$I$708,8,0))","v":3},null,{"$f":"IF(B60=\"\",\"\",VLOOKUP(L60,[3]Sheet1!$B$2:$J$5000,3,0))","v":"32151900"},{"$f":"IF([1]Sheet!$J60=\"\",\"\",[1]Sheet!$J60)","v":"ROLAND ESL3-440 LM"},null,{"$f":"IF(B60=\"\",\"\",VLOOKUP(L60,[3]Sheet1!$B$2:$J$5000,2,0))","v":"BUC"},{"$f":"IF([1]Sheet!$K60=\"\",\"\",[1]Sheet!$K60)","v":4},{"$f":"IF([1]Sheet!$M60=\"\",\"\",[1]Sheet!$M60)","v":341.29},{"$f":"IF(ISNA(IF(B60=\"\",\"\",VLOOKUP(L60,[3]Sheet1!$B$2:$J$5000,9,0)*O60)),0,(IF(B60=\"\",\"\",VLOOKUP(L60,[3]Sheet1!$B$2:$J$5000,9,0)*O60)))","v":2.48},{"$f":"IF([1]Sheet!$N60=\"\",\"\",[1]Sheet!$N60)","v":1365.17}]
[{"$f":"IF([1]Sheet!$E61=\"\",\"\",[1]Sheet!$E61)","v":43864},{"$f":"IF([1]Sheet!$A61=\"\",\"\",[1]Sheet!$A61)","v":"ATLAS DIGITAL SA"},{"$f":"IF(B61=\"\",\"\",VLOOKUP(B61,[2]Sheet1!$B$2:$C$708,2,0))","v":"EL094154295"},{"$f":"IF(B61=\"\",\"\",VLOOKUP(B61,[2]Sheet1!$B$2:$D$708,3,0))","v":"JP"},{"$f":"IF(B61=\"\",\"\",VLOOKUP(B61,[2]Sheet1!$B$2:$E$708,4,0))","v":"GR"},{"$f":"IF(B61=\"\",\"\",VLOOKUP(B61,[2]Sheet1!$B$2:$F$708,5,0))","v":"EXW"},{"$f":"IF(B61=\"\",\"\",VLOOKUP(B61,[2]Sheet1!$B$2:$G$708,6,0))","v":1},{"$f":"IF(B61=\"\",\"\",VLOOKUP(B61,[2]Sheet1!$B$2:$H$708,7,0))","v":1.1000000000000001},{"$f":"IF(B61=\"\",\"\",VLOOKUP(B61,[2]Sheet1!$B$2:$I$708,8,0))","v":3},null,{"$f":"IF(B61=\"\",\"\",VLOOKUP(L61,[3]Sheet1!$B$2:$J$5000,3,0))","v":"32151900"},{"$f":"IF([1]Sheet!$J61=\"\",\"\",[1]Sheet!$J61)","v":"ROLAND ESL3-440 MG"},null,{"$f":"IF(B61=\"\",\"\",VLOOKUP(L61,[3]Sheet1!$B$2:$J$5000,2,0))","v":"BUC"},{"$f":"IF([1]Sheet!$K61=\"\",\"\",[1]Sheet!$K61)","v":12},{"$f":"IF([1]Sheet!$M61=\"\",\"\",[1]Sheet!$M61)","v":340.9},{"$f":"IF(ISNA(IF(B61=\"\",\"\",VLOOKUP(L61,[3]Sheet1!$B$2:$J$5000,9,0)*O61)),0,(IF(B61=\"\",\"\",VLOOKUP(L61,[3]Sheet1!$B$2:$J$5000,9,0)*O61)))","v":7.4399999999999995},{"$f":"IF([1]Sheet!$N61=\"\",\"\",[1]Sheet!$N61)","v":4090.84}]
[{"$f":"IF([1]Sheet!$E62=\"\",\"\",[1]Sheet!$E62)","v":43864},{"$f":"IF([1]Sheet!$A62=\"\",\"\",[1]Sheet!$A62)","v":"ATLAS DIGITAL SA"},{"$f":"IF(B62=\"\",\"\",VLOOKUP(B62,[2]Sheet1!$B$2:$C$708,2,0))","v":"EL094154295"},{"$f":"IF(B62=\"\",\"\",VLOOKUP(B62,[2]Sheet1!$B$2:$D$708,3,0))","v":"JP"},{"$f":"IF(B62=\"\",\"\",VLOOKUP(B62,[2]Sheet1!$B$2:$E$708,4,0))","v":"GR"},{"$f":"IF(B62=\"\",\"\",VLOOKUP(B62,[2]Sheet1!$B$2:$F$708,5,0))","v":"EXW"},{"$f":"IF(B62=\"\",\"\",VLOOKUP(B62,[2]Sheet1!$B$2:$G$708,6,0))","v":1},{"$f":"IF(B62=\"\",\"\",VLOOKUP(B62,[2]Sheet1!$B$2:$H$708,7,0))","v":1.1000000000000001},{"$f":"IF(B62=\"\",\"\",VLOOKUP(B62,[2]Sheet1!$B$2:$I$708,8,0))","v":3},null,{"$f":"IF(B62=\"\",\"\",VLOOKUP(L62,[3]Sheet1!$B$2:$J$5000,3,0))","v":"32151900"},{"$f":"IF([1]Sheet!$J62=\"\",\"\",[1]Sheet!$J62)","v":"ROLAND ESL3-440 YE"},null,{"$f":"IF(B62=\"\",\"\",VLOOKUP(L62,[3]Sheet1!$B$2:$J$5000,2,0))","v":"BUC"},{"$f":"IF([1]Sheet!$K62=\"\",\"\",[1]Sheet!$K62)","v":12},{"$f":"IF([1]Sheet!$M62=\"\",\"\",[1]Sheet!$M62)","v":340.9},{"$f":"IF(ISNA(IF(B62=\"\",\"\",VLOOKUP(L62,[3]Sheet1!$B$2:$J$5000,9,0)*O62)),0,(IF(B62=\"\",\"\",VLOOKUP(L62,[3]Sheet1!$B$2:$J$5000,9,0)*O62)))","v":7.4399999999999995},{"$f":"IF([1]Sheet!$N62=\"\",\"\",[1]Sheet!$N62)","v":4090.84}]
[{"$f":"IF([1]Sheet!$E63=\"\",\"\",[1]Sheet!$E63)","v":43864},{"$f":"IF([1]Sheet!$A63=\"\",\"\",[1]Sheet!$A63)","v":"ATLAS DIGITAL SA"},{"$f":"IF(B63=\"\",\"\",VLOOKUP(B63,[2]Sheet1!$B$2:$C$708,2,0))","v":"EL094154295"},{"$f":"IF(B63=\"\",\"\",VLOOKUP(B63,[2]Sheet1!$B$2:$D$708,3,0))","v":"JP"},{"$f":"IF(B63=\"\",\"\",VLOOKUP(B63,[2]Sheet1!$B$2:$E$708,4,0))","v":"GR"},{"$f":"IF(B63=\"\",\"\",VLOOKUP(B63,[2]Sheet1!$B$2:$F$708,5,0))","v":"EXW"},{"$f":"IF(B63=\"\",\"\",VLOOKUP(B63,[2]Sheet1!$B$2:$G$708,6,0))","v":1},{"$f":"IF(B63=\"\",\"\",VLOOKUP(B63,[2]Sheet1!$B$2:$H$708,7,0))","v":1.1000000000000001},{"$f":"IF(B63=\"\",\"\",VLOOKUP(B63,[2]Sheet1!$B$2:$I$708,8,0))","v":3},null,{"$f":"IF(B63=\"\",\"\",VLOOKUP(L63,[3]Sheet1!$B$2:$J$5000,3,0))","v":"32151100"},{"$f":"IF([1]Sheet!$J63=\"\",\"\",[1]Sheet!$J63)","v":"ROLAND EUV4 BK"},null,{"$f":"IF(B63=\"\",\"\",VLOOKUP(L63,[3]Sheet1!$B$2:$J$5000,2,0))","v":"BUC"},{"$f":"IF([1]Sheet!$K63=\"\",\"\",[1]Sheet!$K63)","v":15},{"$f":"IF([1]Sheet!$M63=\"\",\"\",[1]Sheet!$M63)","v":286.67},{"$f":"IF(ISNA(IF(B63=\"\",\"\",VLOOKUP(L63,[3]Sheet1!$B$2:$J$5000,9,0)*O63)),0,(IF(B63=\"\",\"\",VLOOKUP(L63,[3]Sheet1!$B$2:$J$5000,9,0)*O63)))","v":7.05},{"$f":"IF([1]Sheet!$N63=\"\",\"\",[1]Sheet!$N63)","v":4300.1099999999997}]
[{"$f":"IF([1]Sheet!$E64=\"\",\"\",[1]Sheet!$E64)","v":43864},{"$f":"IF([1]Sheet!$A64=\"\",\"\",[1]Sheet!$A64)","v":"ATLAS DIGITAL SA"},{"$f":"IF(B64=\"\",\"\",VLOOKUP(B64,[2]Sheet1!$B$2:$C$708,2,0))","v":"EL094154295"},{"$f":"IF(B64=\"\",\"\",VLOOKUP(B64,[2]Sheet1!$B$2:$D$708,3,0))","v":"JP"},{"$f":"IF(B64=\"\",\"\",VLOOKUP(B64,[2]Sheet1!$B$2:$E$708,4,0))","v":"GR"},{"$f":"IF(B64=\"\",\"\",VLOOKUP(B64,[2]Sheet1!$B$2:$F$708,5,0))","v":"EXW"},{"$f":"IF(B64=\"\",\"\",VLOOKUP(B64,[2]Sheet1!$B$2:$G$708,6,0))","v":1},{"$f":"IF(B64=\"\",\"\",VLOOKUP(B64,[2]Sheet1!$B$2:$H$708,7,0))","v":1.1000000000000001},{"$f":"IF(B64=\"\",\"\",VLOOKUP(B64,[2]Sheet1!$B$2:$I$708,8,0))","v":3},null,{"$f":"IF(B64=\"\",\"\",VLOOKUP(L64,[3]Sheet1!$B$2:$J$5000,3,0))","v":"32151900"},{"$f":"IF([1]Sheet!$J64=\"\",\"\",[1]Sheet!$J64)","v":"ROLAND EUV4 CY"},null,{"$f":"IF(B64=\"\",\"\",VLOOKUP(L64,[3]Sheet1!$B$2:$J$5000,2,0))","v":"BUC"},{"$f":"IF([1]Sheet!$K64=\"\",\"\",[1]Sheet!$K64)","v":15},{"$f":"IF([1]Sheet!$M64=\"\",\"\",[1]Sheet!$M64)","v":286.67},{"$f":"IF(ISNA(IF(B64=\"\",\"\",VLOOKUP(L64,[3]Sheet1!$B$2:$J$5000,9,0)*O64)),0,(IF(B64=\"\",\"\",VLOOKUP(L64,[3]Sheet1!$B$2:$J$5000,9,0)*O64)))","v":7.05},{"$f":"IF([1]Sheet!$N64=\"\",\"\",[1]Sheet!$N64)","v":4300.1099999999997}]
[{"$f":"IF([1]Sheet!$E65=\"\",\"\",[1]Sheet!$E65)","v":43864},{"$f":"IF([1]Sheet!$A65=\"\",\"\",[1]Sheet!$A65)","v":"ATLAS DIGITAL SA"},{"$f":"IF(B65=\"\",\"\",VLOOKUP(B65,[2]Sheet1!$B$2:$C$708,2,0))","v":"EL094154295"},{"$f":"IF(B65=\"\",\"\",VLOOKUP(B65,[2]Sheet1!$B$2:$D$708,3,0))","v":"JP"},{"$f":"IF(B65=\"\",\"\",VLOOKUP(B65,[2]Sheet1!$B$2:$E$708,4,0))","v":"GR"},{"$f":"IF(B65=\"\",\"\",VLOOKUP(B65,[2]Sheet1!$B$2:$F$708,5,0))","v":"EXW"},{"$f":"IF(B65=\"\",\"\",VLOOKUP(B65,[2]Sheet1!$B$2:$G$708,6,0))","v":1},{"$f":"IF(B65=\"\",\"\",VLOOKUP(B65,[2]Sheet1!$B$2:$H$708,7,0))","v":1.1000000000000001},{"$f":"IF(B65=\"\",\"\",VLOOKUP(B65,[2]Sheet1!$B$2:$I$708,8,0))","v":3},null,{"$f":"IF(B65=\"\",\"\",VLOOKUP(L65,[3]Sheet1!$B$2:$J$5000,3,0))","v":"32151900"},{"$f":"IF([1]Sheet!$J65=\"\",\"\",[1]Sheet!$J65)","v":"ROLAND EUV4 GL"},null,{"$f":"IF(B65=\"\",\"\",VLOOKUP(L65,[3]Sheet1!$B$2:$J$5000,2,0))","v":"BUC"},{"$f":"IF([1]Sheet!$K65=\"\",\"\",[1]Sheet!$K65)","v":10},{"$f":"IF([1]Sheet!$M65=\"\",\"\",[1]Sheet!$M65)","v":286.67},{"$f":"IF(ISNA(IF(B65=\"\",\"\",VLOOKUP(L65,[3]Sheet1!$B$2:$J$5000,9,0)*O65)),0,(IF(B65=\"\",\"\",VLOOKUP(L65,[3]Sheet1!$B$2:$J$5000,9,0)*O65)))","v":4.6999999999999993},{"$f":"IF([1]Sheet!$N65=\"\",\"\",[1]Sheet!$N65)","v":2866.74}]
[{"$f":"IF([1]Sheet!$E66=\"\",\"\",[1]Sheet!$E66)","v":43864},{"$f":"IF([1]Sheet!$A66=\"\",\"\",[1]Sheet!$A66)","v":"ATLAS DIGITAL SA"},{"$f":"IF(B66=\"\",\"\",VLOOKUP(B66,[2]Sheet1!$B$2:$C$708,2,0))","v":"EL094154295"},{"$f":"IF(B66=\"\",\"\",VLOOKUP(B66,[2]Sheet1!$B$2:$D$708,3,0))","v":"JP"},{"$f":"IF(B66=\"\",\"\",VLOOKUP(B66,[2]Sheet1!$B$2:$E$708,4,0))","v":"GR"},{"$f":"IF(B66=\"\",\"\",VLOOKUP(B66,[2]Sheet1!$B$2:$F$708,5,0))","v":"EXW"},{"$f":"IF(B66=\"\",\"\",VLOOKUP(B66,[2]Sheet1!$B$2:$G$708,6,0))","v":1},{"$f":"IF(B66=\"\",\"\",VLOOKUP(B66,[2]Sheet1!$B$2:$H$708,7,0))","v":1.1000000000000001},{"$f":"IF(B66=\"\",\"\",VLOOKUP(B66,[2]Sheet1!$B$2:$I$708,8,0))","v":3},null,{"$f":"IF(B66=\"\",\"\",VLOOKUP(L66,[3]Sheet1!$B$2:$J$5000,3,0))","v":"32151900"},{"$f":"IF([1]Sheet!$J66=\"\",\"\",[1]Sheet!$J66)","v":"ROLAND EUV4 MG"},null,{"$f":"IF(B66=\"\",\"\",VLOOKUP(L66,[3]Sheet1!$B$2:$J$5000,2,0))","v":"BUC"},{"$f":"IF([1]Sheet!$K66=\"\",\"\",[1]Sheet!$K66)","v":25},{"$f":"IF([1]Sheet!$M66=\"\",\"\",[1]Sheet!$M66)","v":286.67},{"$f":"IF(ISNA(IF(B66=\"\",\"\",VLOOKUP(L66,[3]Sheet1!$B$2:$J$5000,9,0)*O66)),0,(IF(B66=\"\",\"\",VLOOKUP(L66,[3]Sheet1!$B$2:$J$5000,9,0)*O66)))","v":11.75},{"$f":"IF([1]Sheet!$N66=\"\",\"\",[1]Sheet!$N66)","v":7166.85}]
[{"$f":"IF([1]Sheet!$E67=\"\",\"\",[1]Sheet!$E67)","v":43864},{"$f":"IF([1]Sheet!$A67=\"\",\"\",[1]Sheet!$A67)","v":"ATLAS DIGITAL SA"},{"$f":"IF(B67=\"\",\"\",VLOOKUP(B67,[2]Sheet1!$B$2:$C$708,2,0))","v":"EL094154295"},{"$f":"IF(B67=\"\",\"\",VLOOKUP(B67,[2]Sheet1!$B$2:$D$708,3,0))","v":"JP"},{"$f":"IF(B67=\"\",\"\",VLOOKUP(B67,[2]Sheet1!$B$2:$E$708,4,0))","v":"GR"},{"$f":"IF(B67=\"\",\"\",VLOOKUP(B67,[2]Sheet1!$B$2:$F$708,5,0))","v":"EXW"},{"$f":"IF(B67=\"\",\"\",VLOOKUP(B67,[2]Sheet1!$B$2:$G$708,6,0))","v":1},{"$f":"IF(B67=\"\",\"\",VLOOKUP(B67,[2]Sheet1!$B$2:$H$708,7,0))","v":1.1000000000000001},{"$f":"IF(B67=\"\",\"\",VLOOKUP(B67,[2]Sheet1!$B$2:$I$708,8,0))","v":3},null,{"$f":"IF(B67=\"\",\"\",VLOOKUP(L67,[3]Sheet1!$B$2:$J$5000,3,0))","v":"32151900"},{"$f":"IF([1]Sheet!$J67=\"\",\"\",[1]Sheet!$J67)","v":"ROLAND EUV4 WH"},null,{"$f":"IF(B67=\"\",\"\",VLOOKUP(L67,[3]Sheet1!$B$2:$J$5000,2,0))","v":"BUC"},{"$f":"IF([1]Sheet!$K67=\"\",\"\",[1]Sheet!$K67)","v":25},{"$f":"IF([1]Sheet!$M67=\"\",\"\",[1]Sheet!$M67)","v":286.67},{"$f":"IF(ISNA(IF(B67=\"\",\"\",VLOOKUP(L67,[3]Sheet1!$B$2:$J$5000,9,0)*O67)),0,(IF(B67=\"\",\"\",VLOOKUP(L67,[3]Sheet1!$B$2:$J$5000,9,0)*O67)))","v":11.75},{"$f":"IF([1]Sheet!$N67=\"\",\"\",[1]Sheet!$N67)","v":7166.85}]
[{"$f":"IF([1]Sheet!$E68=\"\",\"\",[1]Sheet!$E68)","v":43864},{"$f":"IF([1]Sheet!$A68=\"\",\"\",[1]Sheet!$A68)","v":"ATLAS DIGITAL SA"},{"$f":"IF(B68=\"\",\"\",VLOOKUP(B68,[2]Sheet1!$B$2:$C$708,2,0))","v":"EL094154295"},{"$f":"IF(B68=\"\",\"\",VLOOKUP(B68,[2]Sheet1!$B$2:$D$708,3,0))","v":"JP"},{"$f":"IF(B68=\"\",\"\",VLOOKUP(B68,[2]Sheet1!$B$2:$E$708,4,0))","v":"GR"},{"$f":"IF(B68=\"\",\"\",VLOOKUP(B68,[2]Sheet1!$B$2:$F$708,5,0))","v":"EXW"},{"$f":"IF(B68=\"\",\"\",VLOOKUP(B68,[2]Sheet1!$B$2:$G$708,6,0))","v":1},{"$f":"IF(B68=\"\",\"\",VLOOKUP(B68,[2]Sheet1!$B$2:$H$708,7,0))","v":1.1000000000000001},{"$f":"IF(B68=\"\",\"\",VLOOKUP(B68,[2]Sheet1!$B$2:$I$708,8,0))","v":3},null,{"$f":"IF(B68=\"\",\"\",VLOOKUP(L68,[3]Sheet1!$B$2:$J$5000,3,0))","v":"32151900"},{"$f":"IF([1]Sheet!$J68=\"\",\"\",[1]Sheet!$J68)","v":"ROLAND EUV4 YE"},null,{"$f":"IF(B68=\"\",\"\",VLOOKUP(L68,[3]Sheet1!$B$2:$J$5000,2,0))","v":"BUC"},{"$f":"IF([1]Sheet!$K68=\"\",\"\",[1]Sheet!$K68)","v":25},{"$f":"IF([1]Sheet!$M68=\"\",\"\",[1]Sheet!$M68)","v":286.67},{"$f":"IF(ISNA(IF(B68=\"\",\"\",VLOOKUP(L68,[3]Sheet1!$B$2:$J$5000,9,0)*O68)),0,(IF(B68=\"\",\"\",VLOOKUP(L68,[3]Sheet1!$B$2:$J$5000,9,0)*O68)))","v":11.75},{"$f":"IF([1]Sheet!$N68=\"\",\"\",[1]Sheet!$N68)","v":7166.85}]
[{"$f":"IF([1]Sheet!$E69=\"\",\"\",[1]Sheet!$E69)","v":43880},{"$f":"IF([1]Sheet!$A69=\"\",\"\",[1]Sheet!$A69)","v":"ATLAS DIGITAL SA"},{"$f":"IF(B69=\"\",\"\",VLOOKUP(B69,[2]Sheet1!$B$2:$C$708,2,0))","v":"EL094154295"},{"$f":"IF(B69=\"\",\"\",VLOOKUP(B69,[2]Sheet1!$B$2:$D$708,3,0))","v":"JP"},{"$f":"IF(B69=\"\",\"\",VLOOKUP(B69,[2]Sheet1!$B$2:$E$708,4,0))","v":"GR"},{"$f":"IF(B69=\"\",\"\",VLOOKUP(B69,[2]Sheet1!$B$2:$F$708,5,0))","v":"EXW"},{"$f":"IF(B69=\"\",\"\",VLOOKUP(B69,[2]Sheet1!$B$2:$G$708,6,0))","v":1},{"$f":"IF(B69=\"\",\"\",VLOOKUP(B69,[2]Sheet1!$B$2:$H$708,7,0))","v":1.1000000000000001},{"$f":"IF(B69=\"\",\"\",VLOOKUP(B69,[2]Sheet1!$B$2:$I$708,8,0))","v":3},null,{"$f":"IF(B69=\"\",\"\",VLOOKUP(L69,[3]Sheet1!$B$2:$J$5000,3,0))","v":"84439990"},{"$f":"IF([1]Sheet!$J69=\"\",\"\",[1]Sheet!$J69)","v":"ROLAND FILTER(M),MIST CARRIAGE LEF-20"},null,{"$f":"IF(B69=\"\",\"\",VLOOKUP(L69,[3]Sheet1!$B$2:$J$5000,2,0))","v":"BUC"},{"$f":"IF([1]Sheet!$K69=\"\",\"\",[1]Sheet!$K69)","v":10},{"$f":"IF([1]Sheet!$M69=\"\",\"\",[1]Sheet!$M69)","v":12.43},{"$f":"IF(ISNA(IF(B69=\"\",\"\",VLOOKUP(L69,[3]Sheet1!$B$2:$J$5000,9,0)*O69)),0,(IF(B69=\"\",\"\",VLOOKUP(L69,[3]Sheet1!$B$2:$J$5000,9,0)*O69)))","v":0},{"$f":"IF([1]Sheet!$N69=\"\",\"\",[1]Sheet!$N69)","v":124.28}]
[{"$f":"IF([1]Sheet!$E70=\"\",\"\",[1]Sheet!$E70)","v":43880},{"$f":"IF([1]Sheet!$A70=\"\",\"\",[1]Sheet!$A70)","v":"ATLAS DIGITAL SA"},{"$f":"IF(B70=\"\",\"\",VLOOKUP(B70,[2]Sheet1!$B$2:$C$708,2,0))","v":"EL094154295"},{"$f":"IF(B70=\"\",\"\",VLOOKUP(B70,[2]Sheet1!$B$2:$D$708,3,0))","v":"JP"},{"$f":"IF(B70=\"\",\"\",VLOOKUP(B70,[2]Sheet1!$B$2:$E$708,4,0))","v":"GR"},{"$f":"IF(B70=\"\",\"\",VLOOKUP(B70,[2]Sheet1!$B$2:$F$708,5,0))","v":"EXW"},{"$f":"IF(B70=\"\",\"\",VLOOKUP(B70,[2]Sheet1!$B$2:$G$708,6,0))","v":1},{"$f":"IF(B70=\"\",\"\",VLOOKUP(B70,[2]Sheet1!$B$2:$H$708,7,0))","v":1.1000000000000001},{"$f":"IF(B70=\"\",\"\",VLOOKUP(B70,[2]Sheet1!$B$2:$I$708,8,0))","v":3},null,{"$f":"IF(B70=\"\",\"\",VLOOKUP(L70,[3]Sheet1!$B$2:$J$5000,3,0))","v":"84439990"},{"$f":"IF([1]Sheet!$J70=\"\",\"\",[1]Sheet!$J70)","v":"ROLAND FILTER,LED LAMP LEF-20 (5 BUC)"},null,{"$f":"IF(B70=\"\",\"\",VLOOKUP(L70,[3]Sheet1!$B$2:$J$5000,2,0))","v":"BUC"},{"$f":"IF([1]Sheet!$K70=\"\",\"\",[1]Sheet!$K70)","v":8},{"$f":"IF([1]Sheet!$M70=\"\",\"\",[1]Sheet!$M70)","v":201.96},{"$f":"IF(ISNA(IF(B70=\"\",\"\",VLOOKUP(L70,[3]Sheet1!$B$2:$J$5000,9,0)*O70)),0,(IF(B70=\"\",\"\",VLOOKUP(L70,[3]Sheet1!$B$2:$J$5000,9,0)*O70)))","v":0},{"$f":"IF([1]Sheet!$N70=\"\",\"\",[1]Sheet!$N70)","v":1615.64}]
[{"$f":"IF([1]Sheet!$E71=\"\",\"\",[1]Sheet!$E71)","v":43881},{"$f":"IF([1]Sheet!$A71=\"\",\"\",[1]Sheet!$A71)","v":"ATLAS DIGITAL SA"},{"$f":"IF(B71=\"\",\"\",VLOOKUP(B71,[2]Sheet1!$B$2:$C$708,2,0))","v":"EL094154295"},{"$f":"IF(B71=\"\",\"\",VLOOKUP(B71,[2]Sheet1!$B$2:$D$708,3,0))","v":"JP"},{"$f":"IF(B71=\"\",\"\",VLOOKUP(B71,[2]Sheet1!$B$2:$E$708,4,0))","v":"GR"},{"$f":"IF(B71=\"\",\"\",VLOOKUP(B71,[2]Sheet1!$B$2:$F$708,5,0))","v":"EXW"},{"$f":"IF(B71=\"\",\"\",VLOOKUP(B71,[2]Sheet1!$B$2:$G$708,6,0))","v":1},{"$f":"IF(B71=\"\",\"\",VLOOKUP(B71,[2]Sheet1!$B$2:$H$708,7,0))","v":1.1000000000000001},{"$f":"IF(B71=\"\",\"\",VLOOKUP(B71,[2]Sheet1!$B$2:$I$708,8,0))","v":3},null,{"$f":"IF(B71=\"\",\"\",VLOOKUP(L71,[3]Sheet1!$B$2:$J$5000,3,0))","v":"84433900"},{"$f":"IF([1]Sheet!$J71=\"\",\"\",[1]Sheet!$J71)","v":"ROLAND GR-540"},null,{"$f":"IF(B71=\"\",\"\",VLOOKUP(L71,[3]Sheet1!$B$2:$J$5000,2,0))","v":"BUC"},{"$f":"IF([1]Sheet!$K71=\"\",\"\",[1]Sheet!$K71)","v":1},{"$f":"IF([1]Sheet!$M71=\"\",\"\",[1]Sheet!$M71)","v":16888.63},{"$f":"IF(ISNA(IF(B71=\"\",\"\",VLOOKUP(L71,[3]Sheet1!$B$2:$J$5000,9,0)*O71)),0,(IF(B71=\"\",\"\",VLOOKUP(L71,[3]Sheet1!$B$2:$J$5000,9,0)*O71)))","v":94},{"$f":"IF([1]Sheet!$N71=\"\",\"\",[1]Sheet!$N71)","v":16888.63}]
[{"$f":"IF([1]Sheet!$E72=\"\",\"\",[1]Sheet!$E72)","v":43864},{"$f":"IF([1]Sheet!$A72=\"\",\"\",[1]Sheet!$A72)","v":"ATLAS DIGITAL SA"},{"$f":"IF(B72=\"\",\"\",VLOOKUP(B72,[2]Sheet1!$B$2:$C$708,2,0))","v":"EL094154295"},{"$f":"IF(B72=\"\",\"\",VLOOKUP(B72,[2]Sheet1!$B$2:$D$708,3,0))","v":"JP"},{"$f":"IF(B72=\"\",\"\",VLOOKUP(B72,[2]Sheet1!$B$2:$E$708,4,0))","v":"GR"},{"$f":"IF(B72=\"\",\"\",VLOOKUP(B72,[2]Sheet1!$B$2:$F$708,5,0))","v":"EXW"},{"$f":"IF(B72=\"\",\"\",VLOOKUP(B72,[2]Sheet1!$B$2:$G$708,6,0))","v":1},{"$f":"IF(B72=\"\",\"\",VLOOKUP(B72,[2]Sheet1!$B$2:$H$708,7,0))","v":1.1000000000000001},{"$f":"IF(B72=\"\",\"\",VLOOKUP(B72,[2]Sheet1!$B$2:$I$708,8,0))","v":3},null,{"$f":"IF(B72=\"\",\"\",VLOOKUP(L72,[3]Sheet1!$B$2:$J$5000,3,0))","v":"84411070"},{"$f":"IF([1]Sheet!$J72=\"\",\"\",[1]Sheet!$J72)","v":"ROLAND GS-24 VINYL CUTTER"},null,{"$f":"IF(B72=\"\",\"\",VLOOKUP(L72,[3]Sheet1!$B$2:$J$5000,2,0))","v":"BUC"},{"$f":"IF([1]Sheet!$K72=\"\",\"\",[1]Sheet!$K72)","v":1},{"$f":"IF([1]Sheet!$M72=\"\",\"\",[1]Sheet!$M72)","v":4983.3500000000004},{"$f":"IF(ISNA(IF(B72=\"\",\"\",VLOOKUP(L72,[3]Sheet1!$B$2:$J$5000,9,0)*O72)),0,(IF(B72=\"\",\"\",VLOOKUP(L72,[3]Sheet1!$B$2:$J$5000,9,0)*O72)))","v":14},{"$f":"IF([1]Sheet!$N72=\"\",\"\",[1]Sheet!$N72)","v":4983.3500000000004}]
[{"$f":"IF([1]Sheet!$E73=\"\",\"\",[1]Sheet!$E73)","v":43880},{"$f":"IF([1]Sheet!$A73=\"\",\"\",[1]Sheet!$A73)","v":"ATLAS DIGITAL SA"},{"$f":"IF(B73=\"\",\"\",VLOOKUP(B73,[2]Sheet1!$B$2:$C$708,2,0))","v":"EL094154295"},{"$f":"IF(B73=\"\",\"\",VLOOKUP(B73,[2]Sheet1!$B$2:$D$708,3,0))","v":"JP"},{"$f":"IF(B73=\"\",\"\",VLOOKUP(B73,[2]Sheet1!$B$2:$E$708,4,0))","v":"GR"},{"$f":"IF(B73=\"\",\"\",VLOOKUP(B73,[2]Sheet1!$B$2:$F$708,5,0))","v":"EXW"},{"$f":"IF(B73=\"\",\"\",VLOOKUP(B73,[2]Sheet1!$B$2:$G$708,6,0))","v":1},{"$f":"IF(B73=\"\",\"\",VLOOKUP(B73,[2]Sheet1!$B$2:$H$708,7,0))","v":1.1000000000000001},{"$f":"IF(B73=\"\",\"\",VLOOKUP(B73,[2]Sheet1!$B$2:$I$708,8,0))","v":3},null,{"$f":"IF(B73=\"\",\"\",VLOOKUP(L73,[3]Sheet1!$B$2:$J$5000,3,0))","v":"84439990"},{"$f":"IF([1]Sheet!$J73=\"\",\"\",[1]Sheet!$J73)","v":"ROLAND GUIDE,CUT CARRIAGE CABLE SP-300"},null,{"$f":"IF(B73=\"\",\"\",VLOOKUP(L73,[3]Sheet1!$B$2:$J$5000,2,0))","v":"BUC"},{"$f":"IF([1]Sheet!$K73=\"\",\"\",[1]Sheet!$K73)","v":4},{"$f":"IF([1]Sheet!$M73=\"\",\"\",[1]Sheet!$M73)","v":21.75},{"$f":"IF(ISNA(IF(B73=\"\",\"\",VLOOKUP(L73,[3]Sheet1!$B$2:$J$5000,9,0)*O73)),0,(IF(B73=\"\",\"\",VLOOKUP(L73,[3]Sheet1!$B$2:$J$5000,9,0)*O73)))","v":0},{"$f":"IF([1]Sheet!$N73=\"\",\"\",[1]Sheet!$N73)","v":87}]
[{"$f":"IF([1]Sheet!$E74=\"\",\"\",[1]Sheet!$E74)","v":43880},{"$f":"IF([1]Sheet!$A74=\"\",\"\",[1]Sheet!$A74)","v":"ATLAS DIGITAL SA"},{"$f":"IF(B74=\"\",\"\",VLOOKUP(B74,[2]Sheet1!$B$2:$C$708,2,0))","v":"EL094154295"},{"$f":"IF(B74=\"\",\"\",VLOOKUP(B74,[2]Sheet1!$B$2:$D$708,3,0))","v":"JP"},{"$f":"IF(B74=\"\",\"\",VLOOKUP(B74,[2]Sheet1!$B$2:$E$708,4,0))","v":"GR"},{"$f":"IF(B74=\"\",\"\",VLOOKUP(B74,[2]Sheet1!$B$2:$F$708,5,0))","v":"EXW"},{"$f":"IF(B74=\"\",\"\",VLOOKUP(B74,[2]Sheet1!$B$2:$G$708,6,0))","v":1},{"$f":"IF(B74=\"\",\"\",VLOOKUP(B74,[2]Sheet1!$B$2:$H$708,7,0))","v":1.1000000000000001},{"$f":"IF(B74=\"\",\"\",VLOOKUP(B74,[2]Sheet1!$B$2:$I$708,8,0))","v":3},null,{"$f":"IF(B74=\"\",\"\",VLOOKUP(L74,[3]Sheet1!$B$2:$J$5000,3,0))","v":"32151900"},{"$f":"IF([1]Sheet!$J74=\"\",\"\",[1]Sheet!$J74)","v":"ROLAND MAX2 ESL4-220 WH"},null,{"$f":"IF(B74=\"\",\"\",VLOOKUP(L74,[3]Sheet1!$B$2:$J$5000,2,0))","v":"BUC"},{"$f":"IF([1]Sheet!$K74=\"\",\"\",[1]Sheet!$K74)","v":1},{"$f":"IF([1]Sheet!$M74=\"\",\"\",[1]Sheet!$M74)","v":355.63},{"$f":"IF(ISNA(IF(B74=\"\",\"\",VLOOKUP(L74,[3]Sheet1!$B$2:$J$5000,9,0)*O74)),0,(IF(B74=\"\",\"\",VLOOKUP(L74,[3]Sheet1!$B$2:$J$5000,9,0)*O74)))","v":0.55000000000000004},{"$f":"IF([1]Sheet!$N74=\"\",\"\",[1]Sheet!$N74)","v":355.63}]
[{"$f":"IF([1]Sheet!$E75=\"\",\"\",[1]Sheet!$E75)","v":43880},{"$f":"IF([1]Sheet!$A75=\"\",\"\",[1]Sheet!$A75)","v":"ATLAS DIGITAL SA"},{"$f":"IF(B75=\"\",\"\",VLOOKUP(B75,[2]Sheet1!$B$2:$C$708,2,0))","v":"EL094154295"},{"$f":"IF(B75=\"\",\"\",VLOOKUP(B75,[2]Sheet1!$B$2:$D$708,3,0))","v":"JP"},{"$f":"IF(B75=\"\",\"\",VLOOKUP(B75,[2]Sheet1!$B$2:$E$708,4,0))","v":"GR"},{"$f":"IF(B75=\"\",\"\",VLOOKUP(B75,[2]Sheet1!$B$2:$F$708,5,0))","v":"EXW"},{"$f":"IF(B75=\"\",\"\",VLOOKUP(B75,[2]Sheet1!$B$2:$G$708,6,0))","v":1},{"$f":"IF(B75=\"\",\"\",VLOOKUP(B75,[2]Sheet1!$B$2:$H$708,7,0))","v":1.1000000000000001},{"$f":"IF(B75=\"\",\"\",VLOOKUP(B75,[2]Sheet1!$B$2:$I$708,8,0))","v":3},null,{"$f":"IF(B75=\"\",\"\",VLOOKUP(L75,[3]Sheet1!$B$2:$J$5000,3,0))","v":"84439990"},{"$f":"IF([1]Sheet!$J75=\"\",\"\",[1]Sheet!$J75)","v":"ROLAND PAD,CUTTER GX-640"},null,{"$f":"IF(B75=\"\",\"\",VLOOKUP(L75,[3]Sheet1!$B$2:$J$5000,2,0))","v":"BUC"},{"$f":"IF([1]Sheet!$K75=\"\",\"\",[1]Sheet!$K75)","v":4},{"$f":"IF([1]Sheet!$M75=\"\",\"\",[1]Sheet!$M75)","v":99.42},{"$f":"IF(ISNA(IF(B75=\"\",\"\",VLOOKUP(L75,[3]Sheet1!$B$2:$J$5000,9,0)*O75)),0,(IF(B75=\"\",\"\",VLOOKUP(L75,[3]Sheet1!$B$2:$J$5000,9,0)*O75)))","v":0},{"$f":"IF([1]Sheet!$N75=\"\",\"\",[1]Sheet!$N75)","v":397.7}]
[{"$f":"IF([1]Sheet!$E76=\"\",\"\",[1]Sheet!$E76)","v":43880},{"$f":"IF([1]Sheet!$A76=\"\",\"\",[1]Sheet!$A76)","v":"ATLAS DIGITAL SA"},{"$f":"IF(B76=\"\",\"\",VLOOKUP(B76,[2]Sheet1!$B$2:$C$708,2,0))","v":"EL094154295"},{"$f":"IF(B76=\"\",\"\",VLOOKUP(B76,[2]Sheet1!$B$2:$D$708,3,0))","v":"JP"},{"$f":"IF(B76=\"\",\"\",VLOOKUP(B76,[2]Sheet1!$B$2:$E$708,4,0))","v":"GR"},{"$f":"IF(B76=\"\",\"\",VLOOKUP(B76,[2]Sheet1!$B$2:$F$708,5,0))","v":"EXW"},{"$f":"IF(B76=\"\",\"\",VLOOKUP(B76,[2]Sheet1!$B$2:$G$708,6,0))","v":1},{"$f":"IF(B76=\"\",\"\",VLOOKUP(B76,[2]Sheet1!$B$2:$H$708,7,0))","v":1.1000000000000001},{"$f":"IF(B76=\"\",\"\",VLOOKUP(B76,[2]Sheet1!$B$2:$I$708,8,0))","v":3},null,{"$f":"IF(B76=\"\",\"\",VLOOKUP(L76,[3]Sheet1!$B$2:$J$5000,3,0))","v":"84439990"},{"$f":"IF([1]Sheet!$J76=\"\",\"\",[1]Sheet!$J76)","v":"ROLAND PAD,CUTTER XR-640"},null,{"$f":"IF(B76=\"\",\"\",VLOOKUP(L76,[3]Sheet1!$B$2:$J$5000,2,0))","v":"BUC"},{"$f":"IF([1]Sheet!$K76=\"\",\"\",[1]Sheet!$K76)","v":4},{"$f":"IF([1]Sheet!$M76=\"\",\"\",[1]Sheet!$M76)","v":74.569999999999993},{"$f":"IF(ISNA(IF(B76=\"\",\"\",VLOOKUP(L76,[3]Sheet1!$B$2:$J$5000,9,0)*O76)),0,(IF(B76=\"\",\"\",VLOOKUP(L76,[3]Sheet1!$B$2:$J$5000,9,0)*O76)))","v":0},{"$f":"IF([1]Sheet!$N76=\"\",\"\",[1]Sheet!$N76)","v":298.27}]
[{"$f":"IF([1]Sheet!$E77=\"\",\"\",[1]Sheet!$E77)","v":43872},{"$f":"IF([1]Sheet!$A77=\"\",\"\",[1]Sheet!$A77)","v":"ATLAS DIGITAL SA"},{"$f":"IF(B77=\"\",\"\",VLOOKUP(B77,[2]Sheet1!$B$2:$C$708,2,0))","v":"EL094154295"},{"$f":"IF(B77=\"\",\"\",VLOOKUP(B77,[2]Sheet1!$B$2:$D$708,3,0))","v":"JP"},{"$f":"IF(B77=\"\",\"\",VLOOKUP(B77,[2]Sheet1!$B$2:$E$708,4,0))","v":"GR"},{"$f":"IF(B77=\"\",\"\",VLOOKUP(B77,[2]Sheet1!$B$2:$F$708,5,0))","v":"EXW"},{"$f":"IF(B77=\"\",\"\",VLOOKUP(B77,[2]Sheet1!$B$2:$G$708,6,0))","v":1},{"$f":"IF(B77=\"\",\"\",VLOOKUP(B77,[2]Sheet1!$B$2:$H$708,7,0))","v":1.1000000000000001},{"$f":"IF(B77=\"\",\"\",VLOOKUP(B77,[2]Sheet1!$B$2:$I$708,8,0))","v":3},null,{"$f":"IF(B77=\"\",\"\",VLOOKUP(L77,[3]Sheet1!$B$2:$J$5000,3,0))","v":"84433900"},{"$f":"IF([1]Sheet!$J77=\"\",\"\",[1]Sheet!$J77)","v":"ROLAND RF-640"},null,{"$f":"IF(B77=\"\",\"\",VLOOKUP(L77,[3]Sheet1!$B$2:$J$5000,2,0))","v":"BUC"},{"$f":"IF([1]Sheet!$K77=\"\",\"\",[1]Sheet!$K77)","v":2},{"$f":"IF([1]Sheet!$M77=\"\",\"\",[1]Sheet!$M77)","v":34320.959999999999},{"$f":"IF(ISNA(IF(B77=\"\",\"\",VLOOKUP(L77,[3]Sheet1!$B$2:$J$5000,9,0)*O77)),0,(IF(B77=\"\",\"\",VLOOKUP(L77,[3]Sheet1!$B$2:$J$5000,9,0)*O77)))","v":270},{"$f":"IF([1]Sheet!$N77=\"\",\"\",[1]Sheet!$N77)","v":68641.919999999998}]
[{"$f":"IF([1]Sheet!$E78=\"\",\"\",[1]Sheet!$E78)","v":43872},{"$f":"IF([1]Sheet!$A78=\"\",\"\",[1]Sheet!$A78)","v":"ATLAS DIGITAL SA"},{"$f":"IF(B78=\"\",\"\",VLOOKUP(B78,[2]Sheet1!$B$2:$C$708,2,0))","v":"EL094154295"},{"$f":"IF(B78=\"\",\"\",VLOOKUP(B78,[2]Sheet1!$B$2:$D$708,3,0))","v":"JP"},{"$f":"IF(B78=\"\",\"\",VLOOKUP(B78,[2]Sheet1!$B$2:$E$708,4,0))","v":"GR"},{"$f":"IF(B78=\"\",\"\",VLOOKUP(B78,[2]Sheet1!$B$2:$F$708,5,0))","v":"EXW"},{"$f":"IF(B78=\"\",\"\",VLOOKUP(B78,[2]Sheet1!$B$2:$G$708,6,0))","v":1},{"$f":"IF(B78=\"\",\"\",VLOOKUP(B78,[2]Sheet1!$B$2:$H$708,7,0))","v":1.1000000000000001},{"$f":"IF(B78=\"\",\"\",VLOOKUP(B78,[2]Sheet1!$B$2:$I$708,8,0))","v":3},null,{"$f":"IF(B78=\"\",\"\",VLOOKUP(L78,[3]Sheet1!$B$2:$J$5000,3,0))","v":"84433900"},{"$f":"IF([1]Sheet!$J78=\"\",\"\",[1]Sheet!$J78)","v":"ROLAND RF-640"},null,{"$f":"IF(B78=\"\",\"\",VLOOKUP(L78,[3]Sheet1!$B$2:$J$5000,2,0))","v":"BUC"},{"$f":"IF([1]Sheet!$K78=\"\",\"\",[1]Sheet!$K78)","v":1},{"$f":"IF([1]Sheet!$M78=\"\",\"\",[1]Sheet!$M78)","v":34320.959999999999},{"$f":"IF(ISNA(IF(B78=\"\",\"\",VLOOKUP(L78,[3]Sheet1!$B$2:$J$5000,9,0)*O78)),0,(IF(B78=\"\",\"\",VLOOKUP(L78,[3]Sheet1!$B$2:$J$5000,9,0)*O78)))","v":135},{"$f":"IF([1]Sheet!$N78=\"\",\"\",[1]Sheet!$N78)","v":34320.959999999999}]
[{"$f":"IF([1]Sheet!$E79=\"\",\"\",[1]Sheet!$E79)","v":43880},{"$f":"IF([1]Sheet!$A79=\"\",\"\",[1]Sheet!$A79)","v":"ATLAS DIGITAL SA"},{"$f":"IF(B79=\"\",\"\",VLOOKUP(B79,[2]Sheet1!$B$2:$C$708,2,0))","v":"EL094154295"},{"$f":"IF(B79=\"\",\"\",VLOOKUP(B79,[2]Sheet1!$B$2:$D$708,3,0))","v":"JP"},{"$f":"IF(B79=\"\",\"\",VLOOKUP(B79,[2]Sheet1!$B$2:$E$708,4,0))","v":"GR"},{"$f":"IF(B79=\"\",\"\",VLOOKUP(B79,[2]Sheet1!$B$2:$F$708,5,0))","v":"EXW"},{"$f":"IF(B79=\"\",\"\",VLOOKUP(B79,[2]Sheet1!$B$2:$G$708,6,0))","v":1},{"$f":"IF(B79=\"\",\"\",VLOOKUP(B79,[2]Sheet1!$B$2:$H$708,7,0))","v":1.1000000000000001},{"$f":"IF(B79=\"\",\"\",VLOOKUP(B79,[2]Sheet1!$B$2:$I$708,8,0))","v":3},null,{"$f":"IF(B79=\"\",\"\",VLOOKUP(L79,[3]Sheet1!$B$2:$J$5000,3,0))","v":"84439990"},{"$f":"IF([1]Sheet!$J79=\"\",\"\",[1]Sheet!$J79)","v":"ROLAND SENSOR INTERRUPTER,GP2A25NJ"},null,{"$f":"IF(B79=\"\",\"\",VLOOKUP(L79,[3]Sheet1!$B$2:$J$5000,2,0))","v":"BUC"},{"$f":"IF([1]Sheet!$K79=\"\",\"\",[1]Sheet!$K79)","v":1},{"$f":"IF([1]Sheet!$M79=\"\",\"\",[1]Sheet!$M79)","v":80.78},{"$f":"IF(ISNA(IF(B79=\"\",\"\",VLOOKUP(L79,[3]Sheet1!$B$2:$J$5000,9,0)*O79)),0,(IF(B79=\"\",\"\",VLOOKUP(L79,[3]Sheet1!$B$2:$J$5000,9,0)*O79)))","v":0},{"$f":"IF([1]Sheet!$N79=\"\",\"\",[1]Sheet!$N79)","v":80.78}]
[{"$f":"IF([1]Sheet!$E80=\"\",\"\",[1]Sheet!$E80)","v":43880},{"$f":"IF([1]Sheet!$A80=\"\",\"\",[1]Sheet!$A80)","v":"ATLAS DIGITAL SA"},{"$f":"IF(B80=\"\",\"\",VLOOKUP(B80,[2]Sheet1!$B$2:$C$708,2,0))","v":"EL094154295"},{"$f":"IF(B80=\"\",\"\",VLOOKUP(B80,[2]Sheet1!$B$2:$D$708,3,0))","v":"JP"},{"$f":"IF(B80=\"\",\"\",VLOOKUP(B80,[2]Sheet1!$B$2:$E$708,4,0))","v":"GR"},{"$f":"IF(B80=\"\",\"\",VLOOKUP(B80,[2]Sheet1!$B$2:$F$708,5,0))","v":"EXW"},{"$f":"IF(B80=\"\",\"\",VLOOKUP(B80,[2]Sheet1!$B$2:$G$708,6,0))","v":1},{"$f":"IF(B80=\"\",\"\",VLOOKUP(B80,[2]Sheet1!$B$2:$H$708,7,0))","v":1.1000000000000001},{"$f":"IF(B80=\"\",\"\",VLOOKUP(B80,[2]Sheet1!$B$2:$I$708,8,0))","v":3},null,{"$f":"IF(B80=\"\",\"\",VLOOKUP(L80,[3]Sheet1!$B$2:$J$5000,3,0))","v":"84439990"},{"$f":"IF([1]Sheet!$J80=\"\",\"\",[1]Sheet!$J80)","v":"ROLAND SENSOR-INTERRUPTER,OJ-5305-A5"},null,{"$f":"IF(B80=\"\",\"\",VLOOKUP(L80,[3]Sheet1!$B$2:$J$5000,2,0))","v":"BUC"},{"$f":"IF([1]Sheet!$K80=\"\",\"\",[1]Sheet!$K80)","v":5},{"$f":"IF([1]Sheet!$M80=\"\",\"\",[1]Sheet!$M80)","v":34.18},{"$f":"IF(ISNA(IF(B80=\"\",\"\",VLOOKUP(L80,[3]Sheet1!$B$2:$J$5000,9,0)*O80)),0,(IF(B80=\"\",\"\",VLOOKUP(L80,[3]Sheet1!$B$2:$J$5000,9,0)*O80)))","v":0},{"$f":"IF([1]Sheet!$N80=\"\",\"\",[1]Sheet!$N80)","v":170.89}]
[{"$f":"IF([1]Sheet!$E81=\"\",\"\",[1]Sheet!$E81)","v":43880},{"$f":"IF([1]Sheet!$A81=\"\",\"\",[1]Sheet!$A81)","v":"ATLAS DIGITAL SA"},{"$f":"IF(B81=\"\",\"\",VLOOKUP(B81,[2]Sheet1!$B$2:$C$708,2,0))","v":"EL094154295"},{"$f":"IF(B81=\"\",\"\",VLOOKUP(B81,[2]Sheet1!$B$2:$D$708,3,0))","v":"JP"},{"$f":"IF(B81=\"\",\"\",VLOOKUP(B81,[2]Sheet1!$B$2:$E$708,4,0))","v":"GR"},{"$f":"IF(B81=\"\",\"\",VLOOKUP(B81,[2]Sheet1!$B$2:$F$708,5,0))","v":"EXW"},{"$f":"IF(B81=\"\",\"\",VLOOKUP(B81,[2]Sheet1!$B$2:$G$708,6,0))","v":1},{"$f":"IF(B81=\"\",\"\",VLOOKUP(B81,[2]Sheet1!$B$2:$H$708,7,0))","v":1.1000000000000001},{"$f":"IF(B81=\"\",\"\",VLOOKUP(B81,[2]Sheet1!$B$2:$I$708,8,0))","v":3},null,{"$f":"IF(B81=\"\",\"\",VLOOKUP(L81,[3]Sheet1!$B$2:$J$5000,3,0))","v":"84439990"},{"$f":"IF([1]Sheet!$J81=\"\",\"\",[1]Sheet!$J81)","v":"ROLAND SPRING,PINCH RIGHT SP-300"},null,{"$f":"IF(B81=\"\",\"\",VLOOKUP(L81,[3]Sheet1!$B$2:$J$5000,2,0))","v":"BUC"},{"$f":"IF([1]Sheet!$K81=\"\",\"\",[1]Sheet!$K81)","v":1},{"$f":"IF([1]Sheet!$M81=\"\",\"\",[1]Sheet!$M81)","v":9.32},{"$f":"IF(ISNA(IF(B81=\"\",\"\",VLOOKUP(L81,[3]Sheet1!$B$2:$J$5000,9,0)*O81)),0,(IF(B81=\"\",\"\",VLOOKUP(L81,[3]Sheet1!$B$2:$J$5000,9,0)*O81)))","v":0},{"$f":"IF([1]Sheet!$N81=\"\",\"\",[1]Sheet!$N81)","v":9.32}]
[{"$f":"IF([1]Sheet!$E82=\"\",\"\",[1]Sheet!$E82)","v":43880},{"$f":"IF([1]Sheet!$A82=\"\",\"\",[1]Sheet!$A82)","v":"WENZHOU INTERNATIONAL ECO-TEC CO"},{"$f":"IF(B82=\"\",\"\",VLOOKUP(B82,[2]Sheet1!$B$2:$C$708,2,0))","v":"ATU40607009"},{"$f":"IF(B82=\"\",\"\",VLOOKUP(B82,[2]Sheet1!$B$2:$D$708,3,0))","v":"CN"},{"$f":"IF(B82=\"\",\"\",VLOOKUP(B82,[2]Sheet1!$B$2:$E$708,4,0))","v":"AT"},{"$f":"IF(B82=\"\",\"\",VLOOKUP(B82,[2]Sheet1!$B$2:$F$708,5,0))","v":"EXW"},{"$f":"IF(B82=\"\",\"\",VLOOKUP(B82,[2]Sheet1!$B$2:$G$708,6,0))","v":1},{"$f":"IF(B82=\"\",\"\",VLOOKUP(B82,[2]Sheet1!$B$2:$H$708,7,0))","v":1.1000000000000001},{"$f":"IF(B82=\"\",\"\",VLOOKUP(B82,[2]Sheet1!$B$2:$I$708,8,0))","v":3},null,{"$f":"IF(B82=\"\",\"\",VLOOKUP(L82,[3]Sheet1!$B$2:$J$5000,3,0))","v":"84439990"},{"$f":"IF([1]Sheet!$J82=\"\",\"\",[1]Sheet!$J82)","v":"ROLAND TAKE UP SYSTEM T1"},null,{"$f":"IF(B82=\"\",\"\",VLOOKUP(L82,[3]Sheet1!$B$2:$J$5000,2,0))","v":"BUC"},{"$f":"IF([1]Sheet!$K82=\"\",\"\",[1]Sheet!$K82)","v":6},{"$f":"IF([1]Sheet!$M82=\"\",\"\",[1]Sheet!$M82)","v":2030.03},{"$f":"IF(ISNA(IF(B82=\"\",\"\",VLOOKUP(L82,[3]Sheet1!$B$2:$J$5000,9,0)*O82)),0,(IF(B82=\"\",\"\",VLOOKUP(L82,[3]Sheet1!$B$2:$J$5000,9,0)*O82)))","v":154.80000000000001},{"$f":"IF([1]Sheet!$N82=\"\",\"\",[1]Sheet!$N82)","v":12180.16}]
[{"$f":"IF([1]Sheet!$E83=\"\",\"\",[1]Sheet!$E83)","v":43880},{"$f":"IF([1]Sheet!$A83=\"\",\"\",[1]Sheet!$A83)","v":"ATLAS DIGITAL SA"},{"$f":"IF(B83=\"\",\"\",VLOOKUP(B83,[2]Sheet1!$B$2:$C$708,2,0))","v":"EL094154295"},{"$f":"IF(B83=\"\",\"\",VLOOKUP(B83,[2]Sheet1!$B$2:$D$708,3,0))","v":"JP"},{"$f":"IF(B83=\"\",\"\",VLOOKUP(B83,[2]Sheet1!$B$2:$E$708,4,0))","v":"GR"},{"$f":"IF(B83=\"\",\"\",VLOOKUP(B83,[2]Sheet1!$B$2:$F$708,5,0))","v":"EXW"},{"$f":"IF(B83=\"\",\"\",VLOOKUP(B83,[2]Sheet1!$B$2:$G$708,6,0))","v":1},{"$f":"IF(B83=\"\",\"\",VLOOKUP(B83,[2]Sheet1!$B$2:$H$708,7,0))","v":1.1000000000000001},{"$f":"IF(B83=\"\",\"\",VLOOKUP(B83,[2]Sheet1!$B$2:$I$708,8,0))","v":3},null,{"$f":"IF(B83=\"\",\"\",VLOOKUP(L83,[3]Sheet1!$B$2:$J$5000,3,0))","v":"84439990"},{"$f":"IF([1]Sheet!$J83=\"\",\"\",[1]Sheet!$J83)","v":"ROLAND WIPER,HEAD FELT VS-640"},null,{"$f":"IF(B83=\"\",\"\",VLOOKUP(L83,[3]Sheet1!$B$2:$J$5000,2,0))","v":"BUC"},{"$f":"IF([1]Sheet!$K83=\"\",\"\",[1]Sheet!$K83)","v":20},{"$f":"IF([1]Sheet!$M83=\"\",\"\",[1]Sheet!$M83)","v":40.39},{"$f":"IF(ISNA(IF(B83=\"\",\"\",VLOOKUP(L83,[3]Sheet1!$B$2:$J$5000,9,0)*O83)),0,(IF(B83=\"\",\"\",VLOOKUP(L83,[3]Sheet1!$B$2:$J$5000,9,0)*O83)))","v":0},{"$f":"IF([1]Sheet!$N83=\"\",\"\",[1]Sheet!$N83)","v":807.82}]
[{"$f":"IF([1]Sheet!$E84=\"\",\"\",[1]Sheet!$E84)","v":43880},{"$f":"IF([1]Sheet!$A84=\"\",\"\",[1]Sheet!$A84)","v":"ATLAS DIGITAL SA"},{"$f":"IF(B84=\"\",\"\",VLOOKUP(B84,[2]Sheet1!$B$2:$C$708,2,0))","v":"EL094154295"},{"$f":"IF(B84=\"\",\"\",VLOOKUP(B84,[2]Sheet1!$B$2:$D$708,3,0))","v":"JP"},{"$f":"IF(B84=\"\",\"\",VLOOKUP(B84,[2]Sheet1!$B$2:$E$708,4,0))","v":"GR"},{"$f":"IF(B84=\"\",\"\",VLOOKUP(B84,[2]Sheet1!$B$2:$F$708,5,0))","v":"EXW"},{"$f":"IF(B84=\"\",\"\",VLOOKUP(B84,[2]Sheet1!$B$2:$G$708,6,0))","v":1},{"$f":"IF(B84=\"\",\"\",VLOOKUP(B84,[2]Sheet1!$B$2:$H$708,7,0))","v":1.1000000000000001},{"$f":"IF(B84=\"\",\"\",VLOOKUP(B84,[2]Sheet1!$B$2:$I$708,8,0))","v":3},null,{"$f":"IF(B84=\"\",\"\",VLOOKUP(L84,[3]Sheet1!$B$2:$J$5000,3,0))","v":"84439990"},{"$f":"IF([1]Sheet!$J84=\"\",\"\",[1]Sheet!$J84)","v":"ROLAND WIPER,HEAD FOR UV INK"},null,{"$f":"IF(B84=\"\",\"\",VLOOKUP(L84,[3]Sheet1!$B$2:$J$5000,2,0))","v":"BUC"},{"$f":"IF([1]Sheet!$K84=\"\",\"\",[1]Sheet!$K84)","v":30},{"$f":"IF([1]Sheet!$M84=\"\",\"\",[1]Sheet!$M84)","v":43.5},{"$f":"IF(ISNA(IF(B84=\"\",\"\",VLOOKUP(L84,[3]Sheet1!$B$2:$J$5000,9,0)*O84)),0,(IF(B84=\"\",\"\",VLOOKUP(L84,[3]Sheet1!$B$2:$J$5000,9,0)*O84)))","v":0},{"$f":"IF([1]Sheet!$N84=\"\",\"\",[1]Sheet!$N84)","v":1304.94}]
[{"$f":"IF([1]Sheet!$E85=\"\",\"\",[1]Sheet!$E85)","v":43880},{"$f":"IF([1]Sheet!$A85=\"\",\"\",[1]Sheet!$A85)","v":"ATLAS DIGITAL SA"},{"$f":"IF(B85=\"\",\"\",VLOOKUP(B85,[2]Sheet1!$B$2:$C$708,2,0))","v":"EL094154295"},{"$f":"IF(B85=\"\",\"\",VLOOKUP(B85,[2]Sheet1!$B$2:$D$708,3,0))","v":"JP"},{"$f":"IF(B85=\"\",\"\",VLOOKUP(B85,[2]Sheet1!$B$2:$E$708,4,0))","v":"GR"},{"$f":"IF(B85=\"\",\"\",VLOOKUP(B85,[2]Sheet1!$B$2:$F$708,5,0))","v":"EXW"},{"$f":"IF(B85=\"\",\"\",VLOOKUP(B85,[2]Sheet1!$B$2:$G$708,6,0))","v":1},{"$f":"IF(B85=\"\",\"\",VLOOKUP(B85,[2]Sheet1!$B$2:$H$708,7,0))","v":1.1000000000000001},{"$f":"IF(B85=\"\",\"\",VLOOKUP(B85,[2]Sheet1!$B$2:$I$708,8,0))","v":3},null,{"$f":"IF(B85=\"\",\"\",VLOOKUP(L85,[3]Sheet1!$B$2:$J$5000,3,0))","v":"84439990"},{"$f":"IF([1]Sheet!$J85=\"\",\"\",[1]Sheet!$J85)","v":"ROLAND WIPER,HEAD VS-640/XR-640"},null,{"$f":"IF(B85=\"\",\"\",VLOOKUP(L85,[3]Sheet1!$B$2:$J$5000,2,0))","v":"BUC"},{"$f":"IF([1]Sheet!$K85=\"\",\"\",[1]Sheet!$K85)","v":10},{"$f":"IF([1]Sheet!$M85=\"\",\"\",[1]Sheet!$M85)","v":71.459999999999994},{"$f":"IF(ISNA(IF(B85=\"\",\"\",VLOOKUP(L85,[3]Sheet1!$B$2:$J$5000,9,0)*O85)),0,(IF(B85=\"\",\"\",VLOOKUP(L85,[3]Sheet1!$B$2:$J$5000,9,0)*O85)))","v":0},{"$f":"IF([1]Sheet!$N85=\"\",\"\",[1]Sheet!$N85)","v":714.61}]
[{"$f":"IF([1]Sheet!$E86=\"\",\"\",[1]Sheet!$E86)","v":43880},{"$f":"IF([1]Sheet!$A86=\"\",\"\",[1]Sheet!$A86)","v":"ATLAS DIGITAL SA"},{"$f":"IF(B86=\"\",\"\",VLOOKUP(B86,[2]Sheet1!$B$2:$C$708,2,0))","v":"EL094154295"},{"$f":"IF(B86=\"\",\"\",VLOOKUP(B86,[2]Sheet1!$B$2:$D$708,3,0))","v":"JP"},{"$f":"IF(B86=\"\",\"\",VLOOKUP(B86,[2]Sheet1!$B$2:$E$708,4,0))","v":"GR"},{"$f":"IF(B86=\"\",\"\",VLOOKUP(B86,[2]Sheet1!$B$2:$F$708,5,0))","v":"EXW"},{"$f":"IF(B86=\"\",\"\",VLOOKUP(B86,[2]Sheet1!$B$2:$G$708,6,0))","v":1},{"$f":"IF(B86=\"\",\"\",VLOOKUP(B86,[2]Sheet1!$B$2:$H$708,7,0))","v":1.1000000000000001},{"$f":"IF(B86=\"\",\"\",VLOOKUP(B86,[2]Sheet1!$B$2:$I$708,8,0))","v":3},null,{"$f":"IF(B86=\"\",\"\",VLOOKUP(L86,[3]Sheet1!$B$2:$J$5000,3,0))","v":"84439990"},{"$f":"IF([1]Sheet!$J86=\"\",\"\",[1]Sheet!$J86)","v":"ROLAND XD-CH2"},null,{"$f":"IF(B86=\"\",\"\",VLOOKUP(L86,[3]Sheet1!$B$2:$J$5000,2,0))","v":"BUC"},{"$f":"IF([1]Sheet!$K86=\"\",\"\",[1]Sheet!$K86)","v":6},{"$f":"IF([1]Sheet!$M86=\"\",\"\",[1]Sheet!$M86)","v":301.14},{"$f":"IF(ISNA(IF(B86=\"\",\"\",VLOOKUP(L86,[3]Sheet1!$B$2:$J$5000,9,0)*O86)),0,(IF(B86=\"\",\"\",VLOOKUP(L86,[3]Sheet1!$B$2:$J$5000,9,0)*O86)))","v":0},{"$f":"IF([1]Sheet!$N86=\"\",\"\",[1]Sheet!$N86)","v":1806.84}]
[{"$f":"IF([1]Sheet!$E87=\"\",\"\",[1]Sheet!$E87)","v":43880},{"$f":"IF([1]Sheet!$A87=\"\",\"\",[1]Sheet!$A87)","v":"ATLAS DIGITAL SA"},{"$f":"IF(B87=\"\",\"\",VLOOKUP(B87,[2]Sheet1!$B$2:$C$708,2,0))","v":"EL094154295"},{"$f":"IF(B87=\"\",\"\",VLOOKUP(B87,[2]Sheet1!$B$2:$D$708,3,0))","v":"JP"},{"$f":"IF(B87=\"\",\"\",VLOOKUP(B87,[2]Sheet1!$B$2:$E$708,4,0))","v":"GR"},{"$f":"IF(B87=\"\",\"\",VLOOKUP(B87,[2]Sheet1!$B$2:$F$708,5,0))","v":"EXW"},{"$f":"IF(B87=\"\",\"\",VLOOKUP(B87,[2]Sheet1!$B$2:$G$708,6,0))","v":1},{"$f":"IF(B87=\"\",\"\",VLOOKUP(B87,[2]Sheet1!$B$2:$H$708,7,0))","v":1.1000000000000001},{"$f":"IF(B87=\"\",\"\",VLOOKUP(B87,[2]Sheet1!$B$2:$I$708,8,0))","v":3},null,{"$f":"IF(B87=\"\",\"\",VLOOKUP(L87,[3]Sheet1!$B$2:$J$5000,3,0))","v":"84439990"},{"$f":"IF([1]Sheet!$J87=\"\",\"\",[1]Sheet!$J87)","v":"ROLAND XD-CH3"},null,{"$f":"IF(B87=\"\",\"\",VLOOKUP(L87,[3]Sheet1!$B$2:$J$5000,2,0))","v":"BUC"},{"$f":"IF([1]Sheet!$K87=\"\",\"\",[1]Sheet!$K87)","v":6},{"$f":"IF([1]Sheet!$M87=\"\",\"\",[1]Sheet!$M87)","v":215.1},{"$f":"IF(ISNA(IF(B87=\"\",\"\",VLOOKUP(L87,[3]Sheet1!$B$2:$J$5000,9,0)*O87)),0,(IF(B87=\"\",\"\",VLOOKUP(L87,[3]Sheet1!$B$2:$J$5000,9,0)*O87)))","v":0},{"$f":"IF([1]Sheet!$N87=\"\",\"\",[1]Sheet!$N87)","v":1290.5999999999999}]
[{"$f":"IF([1]Sheet!$E88=\"\",\"\",[1]Sheet!$E88)","v":43880},{"$f":"IF([1]Sheet!$A88=\"\",\"\",[1]Sheet!$A88)","v":"ATLAS DIGITAL SA"},{"$f":"IF(B88=\"\",\"\",VLOOKUP(B88,[2]Sheet1!$B$2:$C$708,2,0))","v":"EL094154295"},{"$f":"IF(B88=\"\",\"\",VLOOKUP(B88,[2]Sheet1!$B$2:$D$708,3,0))","v":"JP"},{"$f":"IF(B88=\"\",\"\",VLOOKUP(B88,[2]Sheet1!$B$2:$E$708,4,0))","v":"GR"},{"$f":"IF(B88=\"\",\"\",VLOOKUP(B88,[2]Sheet1!$B$2:$F$708,5,0))","v":"EXW"},{"$f":"IF(B88=\"\",\"\",VLOOKUP(B88,[2]Sheet1!$B$2:$G$708,6,0))","v":1},{"$f":"IF(B88=\"\",\"\",VLOOKUP(B88,[2]Sheet1!$B$2:$H$708,7,0))","v":1.1000000000000001},{"$f":"IF(B88=\"\",\"\",VLOOKUP(B88,[2]Sheet1!$B$2:$I$708,8,0))","v":3},null,{"$f":"IF(B88=\"\",\"\",VLOOKUP(L88,[3]Sheet1!$B$2:$J$5000,3,0))","v":"84439990"},{"$f":"IF([1]Sheet!$J88=\"\",\"\",[1]Sheet!$J88)","v":"ROLAND ZEC-U5022"},null,{"$f":"IF(B88=\"\",\"\",VLOOKUP(L88,[3]Sheet1!$B$2:$J$5000,2,0))","v":"BUC"},{"$f":"IF([1]Sheet!$K88=\"\",\"\",[1]Sheet!$K88)","v":20},{"$f":"IF([1]Sheet!$M88=\"\",\"\",[1]Sheet!$M88)","v":71.7},{"$f":"IF(ISNA(IF(B88=\"\",\"\",VLOOKUP(L88,[3]Sheet1!$B$2:$J$5000,9,0)*O88)),0,(IF(B88=\"\",\"\",VLOOKUP(L88,[3]Sheet1!$B$2:$J$5000,9,0)*O88)))","v":0},{"$f":"IF([1]Sheet!$N88=\"\",\"\",[1]Sheet!$N88)","v":1434}]
[{"$f":"IF([1]Sheet!$E89=\"\",\"\",[1]Sheet!$E89)","v":43880},{"$f":"IF([1]Sheet!$A89=\"\",\"\",[1]Sheet!$A89)","v":"ATLAS DIGITAL SA"},{"$f":"IF(B89=\"\",\"\",VLOOKUP(B89,[2]Sheet1!$B$2:$C$708,2,0))","v":"EL094154295"},{"$f":"IF(B89=\"\",\"\",VLOOKUP(B89,[2]Sheet1!$B$2:$D$708,3,0))","v":"JP"},{"$f":"IF(B89=\"\",\"\",VLOOKUP(B89,[2]Sheet1!$B$2:$E$708,4,0))","v":"GR"},{"$f":"IF(B89=\"\",\"\",VLOOKUP(B89,[2]Sheet1!$B$2:$F$708,5,0))","v":"EXW"},{"$f":"IF(B89=\"\",\"\",VLOOKUP(B89,[2]Sheet1!$B$2:$G$708,6,0))","v":1},{"$f":"IF(B89=\"\",\"\",VLOOKUP(B89,[2]Sheet1!$B$2:$H$708,7,0))","v":1.1000000000000001},{"$f":"IF(B89=\"\",\"\",VLOOKUP(B89,[2]Sheet1!$B$2:$I$708,8,0))","v":3},null,{"$f":"IF(B89=\"\",\"\",VLOOKUP(L89,[3]Sheet1!$B$2:$J$5000,3,0))","v":"84439990"},{"$f":"IF([1]Sheet!$J89=\"\",\"\",[1]Sheet!$J89)","v":"ROLAND ZS-4D SPINDLE UNIT"},null,{"$f":"IF(B89=\"\",\"\",VLOOKUP(L89,[3]Sheet1!$B$2:$J$5000,2,0))","v":"BUC"},{"$f":"IF([1]Sheet!$K89=\"\",\"\",[1]Sheet!$K89)","v":1},{"$f":"IF([1]Sheet!$M89=\"\",\"\",[1]Sheet!$M89)","v":5028.5600000000004},{"$f":"IF(ISNA(IF(B89=\"\",\"\",VLOOKUP(L89,[3]Sheet1!$B$2:$J$5000,9,0)*O89)),0,(IF(B89=\"\",\"\",VLOOKUP(L89,[3]Sheet1!$B$2:$J$5000,9,0)*O89)))","v":0},{"$f":"IF([1]Sheet!$N89=\"\",\"\",[1]Sheet!$N89)","v":5028.5600000000004}]

{"sheet":"Sheet2","index":1,"n_rows":1,"n_cols":1,"rows_kept":1,"cut":false,"hidden":false,"merged":[]}
[{"$f":"COUNTA([1]Sheet!$A$2:A992)","v":88}]